BEGIN:VCALENDAR
VERSION:2.0
PRODID:-// - ECPv6.15.20//NONSGML v1.0//EN
CALSCALE:GREGORIAN
METHOD:PUBLISH
X-ORIGINAL-URL:https://www.kc-sentjernej.si
X-WR-CALDESC:Dogodki od 
REFRESH-INTERVAL;VALUE=DURATION:PT1H
X-Robots-Tag:noindex
X-PUBLISHED-TTL:PT1H
BEGIN:VTIMEZONE
TZID:Africa/Abidjan
BEGIN:STANDARD
TZOFFSETFROM:+0000
TZOFFSETTO:+0000
TZNAME:GMT
DTSTART:20210101T000000
END:STANDARD
END:VTIMEZONE
BEGIN:VEVENT
DTSTART;TZID=Africa/Abidjan:20220725T080000
DTEND;TZID=Africa/Abidjan:20220725T140000
DTSTAMP:20260425T174852
CREATED:20220715T095143Z
LAST-MODIFIED:20220715T095143Z
UID:5751-1658736000-1658757600@www.kc-sentjernej.si
SUMMARY:USTVARJALNE DELAVNICE
DESCRIPTION:Kam z otroki?\nV KC Primoža Trubarja! \nVabljeni\, luštno bo!
URL:https://www.kc-sentjernej.si/dogodek/ustvarjalne-delavnice/
LOCATION:Kulturni center Primoža Trubarja\, Trubarjeva cesta 13\, Šentjernej\, Slovenija\, 8310\, Slovenija
CATEGORIES:Delavnica,Film,Glasba,Gledališče,Ples
ATTACH;FMTTYPE=image/png:https://www.kc-sentjernej.si/wp-content/uploads/2022/07/Delavnice-poletje-2022.png
END:VEVENT
BEGIN:VEVENT
DTSTART;TZID=Africa/Abidjan:20220725T080000
DTEND;TZID=Africa/Abidjan:20220729T140000
DTSTAMP:20260425T174852
CREATED:20220715T095523Z
LAST-MODIFIED:20220715T095618Z
UID:5754-1658736000-1659103200@www.kc-sentjernej.si
SUMMARY:Ustvarjalne delavnice
DESCRIPTION:
URL:https://www.kc-sentjernej.si/dogodek/ustvarjalne-delavnice-2/
LOCATION:Kulturni center Primoža Trubarja\, Trubarjeva cesta 13\, Šentjernej\, Slovenija\, 8310\, Slovenija
CATEGORIES:Delavnica,Film,Glasba,Gledališče,Izven,Ples,pogovor
ATTACH;FMTTYPE=image/png:https://www.kc-sentjernej.si/wp-content/uploads/2022/07/Delavnice-poletje-2022.png
END:VEVENT
BEGIN:VEVENT
DTSTART;TZID=Africa/Abidjan:20220819T163000
DTEND;TZID=Africa/Abidjan:20220819T170000
DTSTAMP:20260425T174852
CREATED:20220812T134450Z
LAST-MODIFIED:20220812T134450Z
UID:5757-1660926600-1660928400@www.kc-sentjernej.si
SUMMARY:Slavnostna seja Občinskega sveta Občine Šentjernej
DESCRIPTION:Slavnostna seja Občinskega sveta Občine Šentjernej s podelitvijo priznanj in plaket ter bogatim kulturnim programom.\nVabljeni!
URL:https://www.kc-sentjernej.si/dogodek/slavnostna-seja-obcinskega-sveta-obcine-sentjernej-2/
LOCATION:Kulturni center Primoža Trubarja\, Trubarjeva cesta 13\, Šentjernej\, Slovenija\, 8310\, Slovenija
CATEGORIES:Jernejevo,Slovesnost
ATTACH;FMTTYPE=image/jpeg:https://www.kc-sentjernej.si/wp-content/uploads/2022/08/slavnostna-seja.jpg
END:VEVENT
BEGIN:VEVENT
DTSTART;TZID=Africa/Abidjan:20220820T180000
DTEND;TZID=Africa/Abidjan:20220820T180000
DTSTAMP:20260425T174852
CREATED:20220812T140548Z
LAST-MODIFIED:20220812T140621Z
UID:5760-1661018400-1661018400@www.kc-sentjernej.si
SUMMARY:Mala Morska Deklica
DESCRIPTION:Posledice človeške brezbrižnosti se čutijo tudi v svet\, v katerem živi mala morska deklica. Vsak dan nekaj novega onesnažuje njen podvodni dom. Zaradi tega njen oče\, kralj Neptun\, ustvari veliki vihar. Deklica iz potapljajoče ladje reši mornarja in ga odvleče na kopno. Da bi ugajala človeku\, v katerega se je zaljubila\, se je pripravljena odreči najdragocenejšemu kar premore. \nPredstava otrokom na svojstven način odslikava problematiko globalnega sveta. Dotika se človekovega pohlepa\, potrebe po doseganju lepotnih idealov in pretiranega potrošništva\, ki vodi v onesnaževanje in segrevanje planeta. \nIgrata: LUCIJA ĆIROVIĆ\, BOŠTJAN ŠTORMAN\nPriredba\, režija\, oblikovanje in izdelava lutk\, rekvizitov in  scene: BOŠTJAN ŠTORMAN\nGlasba: GORAN ZAVRŠNIK\nPrimerno za otroke od 4. leta starosti.
URL:https://www.kc-sentjernej.si/dogodek/mala-morska-deklica/
LOCATION:ploščad za KCPTjem\, Trubarjeva c. 13\, Šentjernej\, 8310
CATEGORIES:Jernejevo,za otroke
ATTACH;FMTTYPE=image/jpeg:https://www.kc-sentjernej.si/wp-content/uploads/2022/08/lUCIJA.jpg
END:VEVENT
BEGIN:VEVENT
DTSTART;TZID=Africa/Abidjan:20220827T200000
DTEND;TZID=Africa/Abidjan:20220827T200000
DTSTAMP:20260425T174852
CREATED:20220812T140938Z
LAST-MODIFIED:20220812T140938Z
UID:5765-1661630400-1661630400@www.kc-sentjernej.si
SUMMARY:Šentjernejski oktet - 60 let
DESCRIPTION:Vabljeni na slavnostni koncert ob 60 letnici Šentjernejskega okteta. \nBrezplačne vstopnice na: blagajna@kc-sentjernej.si
URL:https://www.kc-sentjernej.si/dogodek/sentjernejski-oktet-60-let/
LOCATION:Kulturni center Primoža Trubarja\, Trubarjeva cesta 13\, Šentjernej\, Slovenija\, 8310\, Slovenija
CATEGORIES:Glasba,Jernejevo,Koncert
ATTACH;FMTTYPE=image/jpeg:https://www.kc-sentjernej.si/wp-content/uploads/2022/08/oktet-koncert.jpg
END:VEVENT
BEGIN:VEVENT
DTSTART;TZID=Africa/Abidjan:20221001T190000
DTEND;TZID=Africa/Abidjan:20221001T190000
DTSTAMP:20260425T174852
CREATED:20220923T081842Z
LAST-MODIFIED:20220930T222858Z
UID:5771-1664650800-1664650800@www.kc-sentjernej.si
SUMMARY:SVATBA
DESCRIPTION:Vabljeni na pričetek nove sezone\, ki jo bomo odprli s komorno opero SVATBA.\nDogajanje je postavljeno večer pred poroko dekleta\, ki s prijateljicami proslavlja svoj odhod v zakonski stan.  \nŠest izjemnih ženskih glasov a capela v zasebi:\nMilica: Štefica Graselli\, sopran\nDanica: Theresa Plut\, sopran\nLena: Katja Konvalinka\, sopran\nZora: Irena Yebuah Tiran\, mezzosopran\nNada: Barbara Jernejčič Fürst\, mezzosopran\nLjubica: Anja Šinigoj\, mezzosopran \nKomorna opera\, ki je bila po svetu že odlično sprejeta\, v tej zasedbi izvedena že v Ljubljani s ponovitvijo v Šentjerneju.
URL:https://www.kc-sentjernej.si/dogodek/svatba/
CATEGORIES:Glasba,izpostavljamo,Koncert
ATTACH;FMTTYPE=image/png:https://www.kc-sentjernej.si/wp-content/uploads/2022/09/Svatba.png
END:VEVENT
BEGIN:VEVENT
DTSTART;TZID=Africa/Abidjan:20221006T190000
DTEND;TZID=Africa/Abidjan:20221006T190000
DTSTAMP:20260425T174852
CREATED:20220923T083609Z
LAST-MODIFIED:20220923T112932Z
UID:5774-1665082800-1665082800@www.kc-sentjernej.si
SUMMARY:RAVNOVESJE NA KROŽNIKU = MLADOST V TELESU
DESCRIPTION:Smo pripravljeni na čas virusov?  Vabljeni na predavanje z jesensko temo o imunskem sistemu. V Šentjernej pride prehranska strokovnjakinja MARIJA MERLJAK univ.dipl.ing.živ.teh.\n•	Hrana za učinkovit imunski sistem\n•	Neučinkovit imunski sistem kot posledica neravnovesja v telesu\n•	Pomlajevanje imunskega sistema: novosti iz novih raziskav \nPokrovitelj večera: Zeliščna lekarna Herba Gallus
URL:https://www.kc-sentjernej.si/dogodek/ravnovesje-na-krozniku-mladost-v-telesu/
CATEGORIES:Izobraževanje,pogovor,Predavanje
ATTACH;FMTTYPE=image/jpeg:https://www.kc-sentjernej.si/wp-content/uploads/2022/09/marija-merljak-FB.jpg
END:VEVENT
BEGIN:VEVENT
DTSTART;TZID=Africa/Abidjan:20221007T080000
DTEND;TZID=Africa/Abidjan:20221007T190000
DTSTAMP:20260425T174852
CREATED:20220923T084007Z
LAST-MODIFIED:20220923T084007Z
UID:5778-1665129600-1665169200@www.kc-sentjernej.si
SUMMARY:SIRIJA - potopis
DESCRIPTION:Orto klub DU Šentjernej vabi na potopisno predavanje dr. Francija Kokalja po Siriji. \nBrezplačna udeležba
URL:https://www.kc-sentjernej.si/dogodek/sirija-potopis/
CATEGORIES:pogovor,Predavanje
ATTACH;FMTTYPE=image/png:https://www.kc-sentjernej.si/wp-content/uploads/2022/02/orto-splet.png
END:VEVENT
BEGIN:VEVENT
DTSTART;TZID=Africa/Abidjan:20221011T110000
DTEND;TZID=Africa/Abidjan:20221011T130000
DTSTAMP:20260425T174852
CREATED:20221005T075143Z
LAST-MODIFIED:20221005T075143Z
UID:6214-1665486000-1665493200@www.kc-sentjernej.si
SUMMARY:INTEGRIRANA MREŽA PALIATIVNE OSKRBE
DESCRIPTION:Vabljeni na regijski posvet v sodelovanju z SB Novo mesto in RIC Novo mesto.\nPrijave na sonja.fir@sb-nm.si ali na 07/39 16 269.
URL:https://www.kc-sentjernej.si/dogodek/integrirana-mreza-paliativne-oskrbe/
LOCATION:Kulturni center Primoža Trubarja\, Trubarjeva cesta 13\, Šentjernej\, Slovenija\, 8310\, Slovenija
CATEGORIES:Izobraževanje,Predavanje
ATTACH;FMTTYPE=image/jpeg:https://www.kc-sentjernej.si/wp-content/uploads/2022/10/posvet-paliativna-oskrba.jpg
END:VEVENT
BEGIN:VEVENT
DTSTART;TZID=Africa/Abidjan:20221013T180000
DTEND;TZID=Africa/Abidjan:20221013T180000
DTSTAMP:20260425T174852
CREATED:20221004T082759Z
LAST-MODIFIED:20221007T114829Z
UID:6210-1665684000-1665684000@www.kc-sentjernej.si
SUMMARY:MAVRICA V ŠENTJERNEJU
DESCRIPTION:Člani Likovno kulturnega društva Mavrica iz Novega mesta se bomo predstavili s slikami\, ki so vir navdiha dobile v slikoviti podobi Šentjerneja z okolico\, od krajin\, vedut\, živali\, sadja do rastlinja\, ki ga to okolje zajema.\nMavrica aktivno deluje že 24. leto\, povprečno število naših članov je okoli 15\, ki se slikarsko izobražujemo doma in v tujini. Sodelujemo na ex-temporih\, natečajih\, ogledih galerij\, slikarskih kolonijah ter v predstavitvah s samostojnimi\, predvsem pa s skupinskimi razstavami – kot je ta v Šentjerneju.
URL:https://www.kc-sentjernej.si/dogodek/mavrica-v-sentjerneju/
LOCATION:Kulturni center Primoža Trubarja\, Trubarjeva cesta 13\, Šentjernej\, Slovenija\, 8310\, Slovenija
CATEGORIES:Razstava
ATTACH;FMTTYPE=image/jpeg:https://www.kc-sentjernej.si/wp-content/uploads/2022/10/MAVRICA-VABILO.jpg
END:VEVENT
BEGIN:VEVENT
DTSTART;TZID=Africa/Abidjan:20221014T190000
DTEND;TZID=Africa/Abidjan:20221014T190000
DTSTAMP:20260425T174852
CREATED:20221005T080548Z
LAST-MODIFIED:20221005T080614Z
UID:6218-1665774000-1665774000@www.kc-sentjernej.si
SUMMARY:PET ZDRAVIH NAVAD ZA VSAKOGAR
DESCRIPTION:Dušan-Portatis Kovač bo za občane Šentjerneja in druge obiskovalce izvedel predavanje na temo Pet zdravih navad za vsakogar.\nPoleg vode\, gibanja\, dihanja\, hranil in umirjanja\, bo spregovoril tudi o pomembnosti in bistvu imunskega sistema\, o vidikih vzhodne in zahodne tradicionalne medicine\, skupnih imenovalcih. Kako ga ohranjati? Kako ga okrepiti in kako ga vzdrževati? \nPredavanje je organizirano v sodelovanju s projektom Večgeneracijski center SKUPAJ\, ki ga izvaja RIC Novo mesto\, vodi pa Zvonka Potočar. Prijazno vabljeni.
URL:https://www.kc-sentjernej.si/dogodek/pet-zdravih-navad-za-vsakogar/
LOCATION:Kulturni center Primoža Trubarja\, Trubarjeva cesta 13\, Šentjernej\, Slovenija\, 8310\, Slovenija
CATEGORIES:Delavnica,Izobraževanje,pogovor,Predavanje
ATTACH;FMTTYPE=image/png:https://www.kc-sentjernej.si/wp-content/uploads/2022/10/dUSAN-p-kOVAC.png
END:VEVENT
BEGIN:VEVENT
DTSTART;TZID=Africa/Abidjan:20221018T180000
DTEND;TZID=Africa/Abidjan:20221018T180000
DTSTAMP:20260425T174852
CREATED:20221005T081048Z
LAST-MODIFIED:20221005T081048Z
UID:6221-1666116000-1666116000@www.kc-sentjernej.si
SUMMARY:LITERARNI VEČER Z JANKOM PRUNKOM
DESCRIPTION:
URL:https://www.kc-sentjernej.si/dogodek/literarni-vecer-z-jankom-prunkom/
LOCATION:Kulturni center Primoža Trubarja\, Trubarjeva cesta 13\, Šentjernej\, Slovenija\, 8310\, Slovenija
CATEGORIES:Pogovorni večer
ATTACH;FMTTYPE=image/jpeg:https://www.kc-sentjernej.si/wp-content/uploads/2022/10/VABILO_janko_prunk_oktober2022_A5.jpg
END:VEVENT
BEGIN:VEVENT
DTSTART;TZID=Africa/Abidjan:20221020T170000
DTEND;TZID=Africa/Abidjan:20221020T170000
DTSTAMP:20260425T174852
CREATED:20221005T084416Z
LAST-MODIFIED:20221005T084416Z
UID:6236-1666285200-1666285200@www.kc-sentjernej.si
SUMMARY:URA PRAVLJIC IN USTVARJALNA DELAVNICA
DESCRIPTION:
URL:https://www.kc-sentjernej.si/dogodek/ura-pravljic-in-ustvarjalna-delavnica-7/
LOCATION:Knjižnica Šentjernej
CATEGORIES:Delavnica,za otroke
ATTACH;FMTTYPE=image/jpeg:https://www.kc-sentjernej.si/wp-content/uploads/2022/10/PRAVLJICE-V-KNJIZNICI.jpg
END:VEVENT
BEGIN:VEVENT
DTSTART;TZID=Africa/Abidjan:20221021T190000
DTEND;TZID=Africa/Abidjan:20221021T190000
DTSTAMP:20260425T174852
CREATED:20221005T082442Z
LAST-MODIFIED:20221005T082442Z
UID:6224-1666378800-1666378800@www.kc-sentjernej.si
SUMMARY:BIVANJSKA SKUPNOST MIŽALE
DESCRIPTION:Vabljeni na predstavitev projekta mladega domačega arhitekta z naslovom IDEJNA ZASNOVA BIVANJSKE SKUPNOSTI MIŽALE V ŠENTJERNEJU.\nProjekt bo predstavil Žiga Kodelič in vam tudi odgovoril na vsa morebitna vprašanja. \nVabljeni!
URL:https://www.kc-sentjernej.si/dogodek/bivanjska-skupnost-mizale/
LOCATION:Kulturni center Primoža Trubarja\, Trubarjeva cesta 13\, Šentjernej\, Slovenija\, 8310\, Slovenija
CATEGORIES:pogovor,Predavanje
ATTACH;FMTTYPE=image/png:https://www.kc-sentjernej.si/wp-content/uploads/2022/10/Ziga-Kodelic.png
END:VEVENT
BEGIN:VEVENT
DTSTART;TZID=Africa/Abidjan:20221028T190000
DTEND;TZID=Africa/Abidjan:20221028T190000
DTSTAMP:20260425T174852
CREATED:20221005T082957Z
LAST-MODIFIED:20221005T082957Z
UID:6228-1666983600-1666983600@www.kc-sentjernej.si
SUMMARY:VPRAŠAJTE ŽUPANA
DESCRIPTION:V okviru Orto kluba DU Šentjernej vabljeni na pogovor s šentjernejskim županom Jožetom Simončičem.\nTo bo tudi priložnost\, da ga osebno vprašate kar vas zanima.\nAnonimna vprašanja lahko oddate tudi v nabiralnik Knjižnice Šentjernej.  \nVabljeni
URL:https://www.kc-sentjernej.si/dogodek/vprasajte-zupana/
LOCATION:Kulturni center Primoža Trubarja\, Trubarjeva cesta 13\, Šentjernej\, Slovenija\, 8310\, Slovenija
CATEGORIES:pogovor
ATTACH;FMTTYPE=image/png:https://www.kc-sentjernej.si/wp-content/uploads/2022/02/orto-splet.png
END:VEVENT
BEGIN:VEVENT
DTSTART;TZID=Africa/Abidjan:20221029T190000
DTEND;TZID=Africa/Abidjan:20221029T190000
DTSTAMP:20260425T174852
CREATED:20221024T102251Z
LAST-MODIFIED:20221024T102251Z
UID:6245-1667070000-1667070000@www.kc-sentjernej.si
SUMMARY:1:1 Nejc Stopar in Jan Majetič
DESCRIPTION:Virtuozni kitarist\, ustvarjalec in strasten pevec Jan Majetič in Nejc Stopar – mladi umetnik\, pianist\, pisatelj in kitarist se vam bosta predstavila z nekaj avtorskimi skladbami\, ki bodo premierno predstavljene prav na tem koncertu. Slišati bo tudi glasbo skupine Mrfy ter nekaj glasbenih improvizacij. Gost večera – pridite in se pustite presenetiti.
URL:https://www.kc-sentjernej.si/dogodek/11-nejc-stopar-in-jan-majetic/
LOCATION:Kulturni center Primoža Trubarja\, Trubarjeva cesta 13\, Šentjernej\, Slovenija\, 8310\, Slovenija
CATEGORIES:Glasba
ATTACH;FMTTYPE=image/png:https://www.kc-sentjernej.si/wp-content/uploads/2022/10/NEJC-JAN.png
END:VEVENT
BEGIN:VEVENT
DTSTART;TZID=Africa/Abidjan:20221104T180000
DTEND;TZID=Africa/Abidjan:20221104T180000
DTSTAMP:20260425T174852
CREATED:20221024T120736Z
LAST-MODIFIED:20221024T120736Z
UID:6251-1667584800-1667584800@www.kc-sentjernej.si
SUMMARY:ADIJO STRES\, DOBRODOŠLO ŽIVLJENJE
DESCRIPTION:Orto klub Društva upokojencev Šentjernej vabi na predavanje učiteljice tehnik zavestnega življenja – Maje Tomič.\nPredavanje\, primerno za vsakogar – vzemite si čas\, veliko boste naredili za sebe!
URL:https://www.kc-sentjernej.si/dogodek/adijo-stres-dobrodoslo-zivljenje/
LOCATION:Kulturni center Primoža Trubarja\, Trubarjeva cesta 13\, Šentjernej\, Slovenija\, 8310\, Slovenija
CATEGORIES:Delavnica,Izobraževanje,pogovor,Predavanje
ATTACH;FMTTYPE=image/jpeg:https://www.kc-sentjernej.si/wp-content/uploads/2022/10/Adijo-stres.jpg
END:VEVENT
BEGIN:VEVENT
DTSTART;TZID=Africa/Abidjan:20221111T180000
DTEND;TZID=Africa/Abidjan:20221111T180000
DTSTAMP:20260425T174852
CREATED:20221024T122157Z
LAST-MODIFIED:20221024T122157Z
UID:6254-1668189600-1668189600@www.kc-sentjernej.si
SUMMARY:LIBANON - potopisno predavanje
DESCRIPTION:Orto klub Društva upokojencev Šentjernej vabi na potopisno predavanje dr. Francija Kokalja po Libanonu.\nVabljeni!
URL:https://www.kc-sentjernej.si/dogodek/libanon-potopisno-predavanje/
LOCATION:Kulturni center Primoža Trubarja\, Trubarjeva cesta 13\, Šentjernej\, Slovenija\, 8310\, Slovenija
CATEGORIES:Predavanje
ATTACH;FMTTYPE=image/png:https://www.kc-sentjernej.si/wp-content/uploads/2022/10/Kokalj-Libanon.png
END:VEVENT
BEGIN:VEVENT
DTSTART;TZID=Africa/Abidjan:20221117T170000
DTEND;TZID=Africa/Abidjan:20221117T170000
DTSTAMP:20260425T174852
CREATED:20221024T115320Z
LAST-MODIFIED:20221024T115354Z
UID:6248-1668704400-1668704400@www.kc-sentjernej.si
SUMMARY:PTIČ
DESCRIPTION:Režija in izvedba: Petra Stare\nTrajanje: 35 min\nPrimerno za starost: 2 + \nSituacijska komična predstava o dveh nenavadnih prijateljih.\nPogumni ptič komaj čaka\, da se predstavi gledalcem. Rad potuje in nastopa pred ljudmi. Kljub temu je včasih osamljen\, zato ga prijateljica poskuša razvedriti.\nPredstava je v ventrilokvistični tehniki\, stari tehniki govorcev iz trebuha.  \nPrva predstava otroškega abonmaja nove sezone.  \nVABLJENI!
URL:https://www.kc-sentjernej.si/dogodek/ptic/
LOCATION:Kulturni center Primoža Trubarja\, Trubarjeva cesta 13\, Šentjernej\, Slovenija\, 8310\, Slovenija
CATEGORIES:Otroški abonma,za otroke
ATTACH;FMTTYPE=image/png:https://www.kc-sentjernej.si/wp-content/uploads/2022/10/1.png
END:VEVENT
BEGIN:VEVENT
DTSTART;TZID=Africa/Abidjan:20221118T180000
DTEND;TZID=Africa/Abidjan:20221118T180000
DTSTAMP:20260425T174852
CREATED:20221024T130924Z
LAST-MODIFIED:20221114T072444Z
UID:6257-1668794400-1668794400@www.kc-sentjernej.si
SUMMARY:ZNANJE ZA ZDRAVJE
DESCRIPTION:Orto klub Društva upokojencev Šentjernej vabi na predavanje Dušana Portatisa Kovača o Znanju\, ki ga potrebujemo za zdravje.\nVabljeni!
URL:https://www.kc-sentjernej.si/dogodek/znanje-za-zdravje/
CATEGORIES:pogovor,Predavanje
ATTACH;FMTTYPE=image/png:https://www.kc-sentjernej.si/wp-content/uploads/2022/10/znanje-za-ZDRAVJE-e1668410667925.png
END:VEVENT
BEGIN:VEVENT
DTSTART;TZID=Africa/Abidjan:20221119T190000
DTEND;TZID=Africa/Abidjan:20221119T190000
DTSTAMP:20260425T174852
CREATED:20221005T083621Z
LAST-MODIFIED:20221005T083621Z
UID:6230-1668884400-1668884400@www.kc-sentjernej.si
SUMMARY:NAJLEPŠE POP USPEŠNICE VSEH ČASOV
DESCRIPTION:“VEČER NAJVEČJIH POP USPEŠNIC VSEH ČASOV “ \nPo razprodanih koncertih širom Slovenije\, Dolenjski glasbenik Gašper Rifelj skupaj z vrhunskim bendom prihaja s projektom “Najlepše POP uspešnice vseh časov” tudi v Šentjernej.  Z njim bo tudi ta večer odlična glasbena gostja Nuša Derenda.\nTo bo večer odlične glasbe in uspešnic\, ki jih vsi prav dobro poznamo. Poleg nekaterih Gašperjevih avtorskih pesmi\, bomo ta večer skupaj peli tiste najlepše: Čas\, Od višine se zvrti\, Cesarica\, Dok je tebe\, Dan ljubezni\, Moja\, Lutka za bal\, Sem takšen\, ker sem živ\, Solinar in mnoge druge. \nVabljeni na izjemen glasbeni večer\, ki ga ne smete zamuditi.
URL:https://www.kc-sentjernej.si/dogodek/najlepse-pop-uspesnice-vseh-casov/
LOCATION:Kulturni center Primoža Trubarja\, Trubarjeva cesta 13\, Šentjernej\, Slovenija\, 8310\, Slovenija
CATEGORIES:Glasba,Koncert
ATTACH;FMTTYPE=image/jpeg:https://www.kc-sentjernej.si/wp-content/uploads/2022/10/Gasper-Rifelj-2.jpg
END:VEVENT
BEGIN:VEVENT
DTSTART;TZID=Africa/Abidjan:20221123T193000
DTEND;TZID=Africa/Abidjan:20221123T193000
DTSTAMP:20260425T174852
CREATED:20221005T084006Z
LAST-MODIFIED:20221005T084006Z
UID:6233-1669231800-1669231800@www.kc-sentjernej.si
SUMMARY:BOEING\, BOEING
DESCRIPTION:BOEING\, BOEING\nSituacijska komedija iz Špas teatra \nRežija: Vinko Moderndorfer\nScenografija: Žiga Flajnik \nIgrajo: Gorka Berden\, Jan Bučar\, Lea Cok\, Gregor Podričnik\, Vesna Slapar\, Inti Šraj \nV prestolnici ljubezni\, Parizu\, je skrit mali apartma\, v katerem živi arhitekt Bernard. Z natančnostjo žonglira s prihodi in ljubezenskimi uricami s kar tremi atraktivnimi stevardesami. Francozinja\, Američanka in Nemka sicer letijo za različne letalske družbe\, a ga navdušeno obiskujejo\, on pa med tem skrbno načrtuje njihove pristanke in polete. Vse dokler svet ne spozna novih hitrih boeingov!  Bernardov skrbno sestavljeni urnik se poruši\, njegova hišna pomočnica mu situacije tudi ne olajšuje. Ko se nekega dne trio stevardes sočasno znajde v stanovanju\, ko Bernarda obišče v ljubezni nezrel prijatelj iz otroštva Robi\, je kaos popoln! Trk zasebne flote stevardes je neizbežen in ljubezenska katastrofa tudi.\nStevardese so vilinska bitja\, a če jih je preveč … je to čisto preveč!\nPredstava\, ki je prišla v Guinessovo knjigo rekordov kot največkrat odigrana francoska komedija na svetu!
URL:https://www.kc-sentjernej.si/dogodek/boeing-boeing/
LOCATION:Kulturni center Primoža Trubarja\, Trubarjeva cesta 13\, Šentjernej\, Slovenija\, 8310\, Slovenija
CATEGORIES:Abonmaji,Gledališče,Gledališki abonma
ATTACH;FMTTYPE=image/png:https://www.kc-sentjernej.si/wp-content/uploads/2022/10/Boeing.png
END:VEVENT
BEGIN:VEVENT
DTSTART;TZID=Africa/Abidjan:20221125T080000
DTEND;TZID=Africa/Abidjan:20221127T170000
DTSTAMP:20260425T174852
CREATED:20221114T073130Z
LAST-MODIFIED:20221114T073130Z
UID:6269-1669363200-1669568400@www.kc-sentjernej.si
SUMMARY:7. DRŽAVNO OCENJEVANJE IN RAZSTAVA POTIC
DESCRIPTION:
URL:https://www.kc-sentjernej.si/dogodek/7-drzavno-ocenjevanje-in-razstava-potic/
LOCATION:Kulturni center Primoža Trubarja\, Trubarjeva cesta 13\, Šentjernej\, Slovenija\, 8310\, Slovenija
CATEGORIES:Razstava
ATTACH;FMTTYPE=image/jpeg:https://www.kc-sentjernej.si/wp-content/uploads/2022/11/POTICE-2022.jpg
END:VEVENT
BEGIN:VEVENT
DTSTART;TZID=Africa/Abidjan:20221201T140000
DTEND;TZID=Africa/Abidjan:20221201T180000
DTSTAMP:20260425T174852
CREATED:20221129T121546Z
LAST-MODIFIED:20221129T121722Z
UID:6338-1669903200-1669917600@www.kc-sentjernej.si
SUMMARY:Denis Avdič show - RADIO ENA v živo iz Šentjerneja
DESCRIPTION:Radio Ena s pripravo na dobrodelni maraton prihaja v Šentjernej. Oddajanje v živo z odra velike dvorane. Obiskovalci dobrodošli!
URL:https://www.kc-sentjernej.si/dogodek/denis-avdic-show-radio-ena-v-zivo-iz-sentjerneja/
LOCATION:Kulturni center Primoža Trubarja\, Trubarjeva cesta 13\, Šentjernej\, Slovenija\, 8310\, Slovenija
CATEGORIES:Izven,pogovor
ATTACH;FMTTYPE=image/jpeg:https://www.kc-sentjernej.si/wp-content/uploads/2022/11/Denis-Avdic-show.jpg
END:VEVENT
BEGIN:VEVENT
DTSTART;TZID=Africa/Abidjan:20221202T180000
DTEND;TZID=Africa/Abidjan:20221202T180000
DTSTAMP:20260425T174852
CREATED:20221122T125248Z
LAST-MODIFIED:20221122T125248Z
UID:6281-1670004000-1670004000@www.kc-sentjernej.si
SUMMARY:KDAJ MORAM K ZDRAVNIKU
DESCRIPTION:Orto klub društva upokojencev Šentjernej vabi na predavanje in pogovor z izkušeno Jožico Eman Jordan o simptomih\, ki nam povedo kdaj moramo k zdravniku.\nBrezplačna udeležba!
URL:https://www.kc-sentjernej.si/dogodek/kdaj-moram-k-zdravniku/
LOCATION:Kulturni center Primoža Trubarja\, Trubarjeva cesta 13\, Šentjernej\, Slovenija\, 8310\, Slovenija
CATEGORIES:Izobraževanje,pogovor
ATTACH;FMTTYPE=image/png:https://www.kc-sentjernej.si/wp-content/uploads/2022/11/Orto-Kdaj.png
END:VEVENT
BEGIN:VEVENT
DTSTART;TZID=Africa/Abidjan:20221203T190000
DTEND;TZID=Africa/Abidjan:20221203T190000
DTSTAMP:20260425T174852
CREATED:20221129T111534Z
LAST-MODIFIED:20221129T111601Z
UID:6307-1670094000-1670094000@www.kc-sentjernej.si
SUMMARY:BOŽIČNO NOVOLETNI KONCERT
DESCRIPTION:Pihalni orkester občine Šentjernej prireja tradicionalni božično novoletni koncert. Predstavili se bomo s popolnoma novim programom. Slišali bomo koncertne koračnice\, božične pesmi pa tudi simfonične pesnitve za pihalne orkestre. V goste smo letos povabili skupino ORLEK\, s katero bomo skupaj zaigrali nekaj njihovih najbolj priljubljenih skladb.  Lepo vabljeni!
URL:https://www.kc-sentjernej.si/dogodek/bozicno-novoletni-koncert-2/
LOCATION:Kulturni center Primoža Trubarja\, Trubarjeva cesta 13\, Šentjernej\, Slovenija\, 8310\, Slovenija
CATEGORIES:Glasba,Koncert
ATTACH;FMTTYPE=image/png:https://www.kc-sentjernej.si/wp-content/uploads/2022/11/POOS-dec-2022.png
END:VEVENT
BEGIN:VEVENT
DTSTART;TZID=Africa/Abidjan:20221208T170000
DTEND;TZID=Africa/Abidjan:20221208T170000
DTSTAMP:20260425T174852
CREATED:20221129T112044Z
LAST-MODIFIED:20221129T112044Z
UID:6310-1670518800-1670518800@www.kc-sentjernej.si
SUMMARY:150 let Osnovne šole Šentjernej - slavnostna prireditev
DESCRIPTION:S slavnostno prireditvijo bo OŠ Šentjernej zaključila praznično jubilejno 150. leto javnega šolstva v šentjernejski dolini.\nMoči bodo združili sedanji in nekdanji učenci šole\, učitelji in njihovi gostje.\nPričarali nam bodo praznik glasbe\, igre\, pesmi in plesa ter razposajene mladosti in srčnega optimizma\, ki bodo kot nalašč za začetek pravljičnega decembra.
URL:https://www.kc-sentjernej.si/dogodek/150-let-osnovne-sole-sentjernej-slavnostna-prireditev/
LOCATION:Kulturni center Primoža Trubarja\, Trubarjeva cesta 13\, Šentjernej\, Slovenija\, 8310\, Slovenija
CATEGORIES:Slovesnost
ATTACH;FMTTYPE=image/jpeg:https://www.kc-sentjernej.si/wp-content/uploads/2022/11/150-let-sola.jpg
END:VEVENT
BEGIN:VEVENT
DTSTART;TZID=Africa/Abidjan:20221208T190000
DTEND;TZID=Africa/Abidjan:20221208T190000
DTSTAMP:20260425T174852
CREATED:20221129T112737Z
LAST-MODIFIED:20221129T112737Z
UID:6313-1670526000-1670526000@www.kc-sentjernej.si
SUMMARY:SLAVNOSTNA AKADEMIJA ob 150 letnici Osnovne šole Šentjernej
DESCRIPTION:S slavnostno akademijo bo OŠ Šentjernej zaključila praznično jubilejno 150. leto javnega šolstva v šentjernejski dolini. Moči bodo združili sedanji in nekdanji učenci šole\, učitelji in njihovi gostje. Pričarali nam bodo praznik glasbe\, igre\, pesmi in plesa ter razposajene mladosti in srčnega optimizma\, ki bodo kot nalašč za začetek pravljičnega decembra.
URL:https://www.kc-sentjernej.si/dogodek/slavnostna-akademija-ob-150-letnici-osnovne-sole-sentjernej/
CATEGORIES:Slovesnost
ATTACH;FMTTYPE=image/jpeg:https://www.kc-sentjernej.si/wp-content/uploads/2022/11/150-let-sola.jpg
END:VEVENT
BEGIN:VEVENT
DTSTART;TZID=Africa/Abidjan:20221209T180000
DTEND;TZID=Africa/Abidjan:20221209T180000
DTSTAMP:20260425T174852
CREATED:20221129T113355Z
LAST-MODIFIED:20221129T114907Z
UID:6315-1670608800-1670608800@www.kc-sentjernej.si
SUMMARY:MOJI IVF OTROCI
DESCRIPTION:Predstavitev knjige Marije Marinčič Bauman.  \nPostati MAMA. Zdi se enostavno. A vendar\, to mnogokrat ni. Takrat ko ni\, loviš ravnotežje med željami in možnostmi. Vabljeni na predstavitev knjige\, ki bo marsikomu pomagala razumeti\, upati in uspeti. Gostji avtorice bosta Petra Škarja in Irena Kuntarič Žibert. Pridite in naredite korak k boljšemu razumevanje sebe in svojih bližnjih. \nVabljeni tudi tisti\, ki redno obiskujete srečanja Orto kluba.
URL:https://www.kc-sentjernej.si/dogodek/moji-ivf-otroci/
LOCATION:Kulturni center Primoža Trubarja\, Trubarjeva cesta 13\, Šentjernej\, Slovenija\, 8310\, Slovenija
CATEGORIES:Pogovorni večer
ATTACH;FMTTYPE=image/png:https://www.kc-sentjernej.si/wp-content/uploads/2022/11/Vabilo-9.12.2022-FB.png
END:VEVENT
BEGIN:VEVENT
DTSTART;TZID=Africa/Abidjan:20221210T190000
DTEND;TZID=Africa/Abidjan:20221210T190000
DTSTAMP:20260425T174852
CREATED:20221114T104708Z
LAST-MODIFIED:20221114T104856Z
UID:6273-1670698800-1670698800@www.kc-sentjernej.si
SUMMARY:AJDA POJE ŽE 40 LET
DESCRIPTION:MePZ Ajda Orehovica Šentjernej letos obeležuje visok jubilej.\n40 let organiziranega petja v zboru je čudovita priložnost\, da prisluhnete pevcem in pevkam ter njihovim gostom.\nVabljeni!
URL:https://www.kc-sentjernej.si/dogodek/ajda-poje-ze-40-let/
LOCATION:Kulturni center Primoža Trubarja\, Trubarjeva cesta 13\, Šentjernej\, Slovenija\, 8310\, Slovenija
CATEGORIES:Glasba,Koncert
ATTACH;FMTTYPE=image/jpeg:https://www.kc-sentjernej.si/wp-content/uploads/2022/11/Ajda-plakat.jpg
END:VEVENT
END:VCALENDAR