BEGIN:VCALENDAR
VERSION:2.0
PRODID:-// - ECPv6.15.20//NONSGML v1.0//EN
CALSCALE:GREGORIAN
METHOD:PUBLISH
X-ORIGINAL-URL:https://www.kc-sentjernej.si
X-WR-CALDESC:Dogodki od 
REFRESH-INTERVAL;VALUE=DURATION:PT1H
X-Robots-Tag:noindex
X-PUBLISHED-TTL:PT1H
BEGIN:VTIMEZONE
TZID:Africa/Abidjan
BEGIN:STANDARD
TZOFFSETFROM:+0000
TZOFFSETTO:+0000
TZNAME:GMT
DTSTART:20210101T000000
END:STANDARD
END:VTIMEZONE
BEGIN:VEVENT
DTSTART;TZID=Africa/Abidjan:20220304T183000
DTEND;TZID=Africa/Abidjan:20220304T183000
DTSTAMP:20260425T115216
CREATED:20220224T080718Z
LAST-MODIFIED:20220224T083146Z
UID:5037-1646418600-1646418600@www.kc-sentjernej.si
SUMMARY:SVILENA POT
DESCRIPTION:Orto klub Društva upokojencev Šentjernej vabi na\npotopisno predavanje o znameniti SVILENI POTI.\nSvoje vtise bo delil popotnik Franci Kokalj. \nTokratno petkovo srečanje bo v popoldanskih urah! \nBrezplačno!
URL:https://www.kc-sentjernej.si/dogodek/svilena-pot/
LOCATION:Kulturni center Primoža Trubarja\, Trubarjeva cesta 13\, Šentjernej\, Slovenija\, 8310\, Slovenija
CATEGORIES:Predavanje
ATTACH;FMTTYPE=image/png:https://www.kc-sentjernej.si/wp-content/uploads/2022/02/orto-splet.png
END:VEVENT
BEGIN:VEVENT
DTSTART;TZID=Africa/Abidjan:20220305T180000
DTEND;TZID=Africa/Abidjan:20220305T180000
DTSTAMP:20260425T115216
CREATED:20220224T082556Z
LAST-MODIFIED:20220224T082650Z
UID:5043-1646503200-1646503200@www.kc-sentjernej.si
SUMMARY:CONTOUR SLOVENIA
DESCRIPTION:Contour Slovenia je slovenski športno-dokumentarni film o kolesarstvu.\nŠportna avantura ljubiteljskega kolesarja Šentjernejčana Bakše Ignaca se je odvijala ob slovenski državni meji med 11. in 19. junijem 2021. Na poti polni izzivov so ga spremljale kamere Produkcijske Hiše Vihar Media. Ignac in ekipa pa so skupaj prevozili in dokumentirali 1.585 km poti ob slovenski državni meji\, s kar 29.500 višinskimi metri.\nKolesarsko-dokumentarni podvig vreden večkratnega ogleda!\nOgledu filma sledi pogovor z ustvarjalci.    \nVstopnice: 5 €; oz. 7 € na dan dogodka\nVabljeni! \nOglejte si video napovednik.
URL:https://www.kc-sentjernej.si/dogodek/contour-slovenia/
LOCATION:Kulturni center Primoža Trubarja\, Trubarjeva cesta 13\, Šentjernej\, Slovenija\, 8310\, Slovenija
CATEGORIES:Film
ATTACH;FMTTYPE=image/png:https://www.kc-sentjernej.si/wp-content/uploads/2022/02/Contour-splet.png
END:VEVENT
BEGIN:VEVENT
DTSTART;TZID=Africa/Abidjan:20220311T083000
DTEND;TZID=Africa/Abidjan:20220311T170000
DTSTAMP:20260425T115216
CREATED:20220224T083558Z
LAST-MODIFIED:20220224T083558Z
UID:5049-1646987400-1647018000@www.kc-sentjernej.si
SUMMARY:ZANIMIVI DATUMU V FEBRUARJU IN MARCU
DESCRIPTION:Orto klub Društva upokojencev Šentjernej vabi na zanimiv pogovor z Neži But\, ki se bo lotil zanimiv datumov v mesecu februarju in marcu v povezavi z zanimivimi ljudmi.
URL:https://www.kc-sentjernej.si/dogodek/zanimivi-datumu-v-februarju-in-marcu/
LOCATION:Kulturni center Primoža Trubarja\, Trubarjeva cesta 13\, Šentjernej\, Slovenija\, 8310\, Slovenija
ATTACH;FMTTYPE=image/png:https://www.kc-sentjernej.si/wp-content/uploads/2022/02/orto-splet.png
END:VEVENT
BEGIN:VEVENT
DTSTART;TZID=Africa/Abidjan:20220318T083000
DTEND;TZID=Africa/Abidjan:20220318T170000
DTSTAMP:20260425T115216
CREATED:20220224T084007Z
LAST-MODIFIED:20220224T084007Z
UID:5051-1647592200-1647622800@www.kc-sentjernej.si
SUMMARY:TEHNIKE ZA VEČ ENERGIJE IN POVRNITEV VOLJE
DESCRIPTION:Orto klub Društva upokojencev Šentjernej vabi na srečanje z Urška Derganc\, ki bo predstavila zanimive tehnike za povečanje energije in povrnitev volje. To v pomladanskem času pride prav vsakomur.\nVabljeni!
URL:https://www.kc-sentjernej.si/dogodek/tehnike-za-vec-energije-in-povrnitev-volje/
LOCATION:Kulturni center Primoža Trubarja\, Trubarjeva cesta 13\, Šentjernej\, Slovenija\, 8310\, Slovenija
CATEGORIES:Delavnica
ATTACH;FMTTYPE=image/png:https://www.kc-sentjernej.si/wp-content/uploads/2022/02/orto-splet.png
END:VEVENT
BEGIN:VEVENT
DTSTART;TZID=Africa/Abidjan:20220323T170000
DTEND;TZID=Africa/Abidjan:20220323T170000
DTSTAMP:20260425T115216
CREATED:20220224T084633Z
LAST-MODIFIED:20220224T084633Z
UID:5053-1648054800-1648054800@www.kc-sentjernej.si
SUMMARY:OD KOD SI\, KRUHEK?
DESCRIPTION:Deklica Ana ostane sama doma. Med igro postane lačna. V žemljici najde zlat prstan. Kdo ga je izgubil? Mogoče pretkani trgovec? Morda prijazni pek? Ana se odpravi od doma in obišče vse člene verige od kmeta\, do mlinarja\, peka in trgovca…  Mala Ana se z glasbenimi ritmi na svoji poti kot za šalo nauči\, kako nastane kruh.\nGOSTUJE: Gledališče Unikat\nAVTOR: Tomaž Lapajne Dekleva\nREŽIJA Goran Završnik \nZa otroški abonma in izven\nPRIMERNO ZA STAROST 3+\nTRAJANJE 35 minut
URL:https://www.kc-sentjernej.si/dogodek/od-kod-si-kruhek/
LOCATION:Kulturni center Primoža Trubarja\, Trubarjeva cesta 13\, Šentjernej\, Slovenija\, 8310\, Slovenija
CATEGORIES:Otroški abonma
ATTACH;FMTTYPE=image/jpeg:https://www.kc-sentjernej.si/wp-content/uploads/2021/10/Izdelek-brez-naslova-2-1.jpg
END:VEVENT
BEGIN:VEVENT
DTSTART;TZID=Africa/Abidjan:20220325T083000
DTEND;TZID=Africa/Abidjan:20220325T170000
DTSTAMP:20260425T115216
CREATED:20220224T084957Z
LAST-MODIFIED:20220224T084957Z
UID:5056-1648197000-1648227600@www.kc-sentjernej.si
SUMMARY:ZGODBE ZA NAŠO DUŠO...
DESCRIPTION:Orto klub DU Šentjernej je tokrat v goste povabil Slavko Kristan. Ta bo z vami delila nekaj zgodb za dušo. Pridite se malo pocrkljat…
URL:https://www.kc-sentjernej.si/dogodek/zgodbe-za-naso-duso/
LOCATION:Knjižnica Šentjernej
CATEGORIES:Delavnica
ATTACH;FMTTYPE=image/png:https://www.kc-sentjernej.si/wp-content/uploads/2022/02/orto-splet.png
END:VEVENT
BEGIN:VEVENT
DTSTART;TZID=Africa/Abidjan:20220325T200000
DTEND;TZID=Africa/Abidjan:20220325T200000
DTSTAMP:20260425T115216
CREATED:20220224T090340Z
LAST-MODIFIED:20220224T090340Z
UID:5059-1648238400-1648238400@www.kc-sentjernej.si
SUMMARY:EROSI - koncert
DESCRIPTION:Vokalno skupino Erosi sestavljajo Miha Lesjak\, Dejan Korenak\, Matej Dolar in Jože Sadek.\nPodučeni in izkušeni glasbeniki velik del ustvarjanja posvečajo acapella petju ter ohranjanju domače narodne in umetne glasbe\, zelo pa jim je pri srcu dalmatinska glasba\, kar je moč čutiti tudi na odru. Poleg petja vsi člani igrajo vsaj na tri instrumente\, kar je dodatna popestritev njihovega koncerta.\nV Šentjerneju bo še posebej lepo – na materinski dan bodo Erosi dali vse od sebe\, da bo njihov koncert še dolgo odzvanjal v srcih obiskovalcev.  \nVljudno vabljeni! \nTukaj jim prisluhnite.
URL:https://www.kc-sentjernej.si/dogodek/erosi-koncert/
CATEGORIES:Glasba,Koncert
ATTACH;FMTTYPE=image/png:https://www.kc-sentjernej.si/wp-content/uploads/2022/02/erosi-splet.png
END:VEVENT
BEGIN:VEVENT
DTSTART;TZID=Africa/Abidjan:20220327T150000
DTEND;TZID=Africa/Abidjan:20220327T170000
DTSTAMP:20260425T115216
CREATED:20220224T091304Z
LAST-MODIFIED:20220224T092818Z
UID:5062-1648393200-1648400400@www.kc-sentjernej.si
SUMMARY:Prireditev ob MATERINSKEM DNEVU župnije Sv. Jerneja
DESCRIPTION:Praznik mater\, ki ga obhajamo ob Marijinem oziroma Gospodovem prazniku 25. marca\, je praznik vseh žena in očetov. Družina je tista\, ki oblikuje prve odnose\, daje vzorce ljubezni\, spoštovanja\, dolžnosti in pomoči. Družina je steber vsake družbe\, zato naj bo to priložnost\, da se ji posvetite.\nS toplino hvaležnosti in prisrčnostjo se bojo otroci\, mladi\, pevci in instrumentalisti župnije svetega Jerneja ter gostje staršem zahvalili za dar ljubezni\, dobrote in topline.\nBodite z nami.
URL:https://www.kc-sentjernej.si/dogodek/prireditev-ob-materinskem-dnevu-zupnije-sv-jerneja/
LOCATION:Kulturni center Primoža Trubarja\, Trubarjeva cesta 13\, Šentjernej\, Slovenija\, 8310\, Slovenija
CATEGORIES:Slovesnost
ATTACH;FMTTYPE=image/png:https://www.kc-sentjernej.si/wp-content/uploads/2022/02/cvet-materinski-dan.png
END:VEVENT
BEGIN:VEVENT
DTSTART;TZID=Africa/Abidjan:20220331T190000
DTEND;TZID=Africa/Abidjan:20220331T190000
DTSTAMP:20260425T115216
CREATED:20220224T091939Z
LAST-MODIFIED:20220328T123138Z
UID:5065-1648753200-1648753200@www.kc-sentjernej.si
SUMMARY:KONCERT NOVOMEŠKEGA SIMFONIČNEGA ORKESTRA
DESCRIPTION:Vabljeni na tradicionalni koncert novomeških simfonikov.  \nOPOMBA:\nObiskovalci\, ki imate že vstopnice za ta koncert\, ki je bil v januarju odpovedan\, ne potrebujete menjave – vstopnice vam še veljajo.  \nVstopnice za osnovnošolce so brezplačne.
URL:https://www.kc-sentjernej.si/dogodek/koncert-novomeskega-simfonicnega-orkestra-3/
LOCATION:Kulturni center Primoža Trubarja\, Trubarjeva cesta 13\, Šentjernej\, Slovenija\, 8310\, Slovenija
CATEGORIES:Glasba,Koncert
ATTACH;FMTTYPE=image/png:https://www.kc-sentjernej.si/wp-content/uploads/2022/02/simfoniki-splet.png
END:VEVENT
BEGIN:VEVENT
DTSTART;TZID=Africa/Abidjan:20220401T183000
DTEND;TZID=Africa/Abidjan:20220401T183000
DTSTAMP:20260425T115216
CREATED:20220328T111952Z
LAST-MODIFIED:20220328T111952Z
UID:5102-1648837800-1648837800@www.kc-sentjernej.si
SUMMARY:Pamir- potopis
DESCRIPTION:Orto klub vabi na brezplačno potopisno predavanje PAMIR. Predaval bo dr. Franci Kokalj.\nVabljeni!
URL:https://www.kc-sentjernej.si/dogodek/pamir-potopis/
LOCATION:Kulturni center Primoža Trubarja\, Trubarjeva cesta 13\, Šentjernej\, Slovenija\, 8310\, Slovenija
CATEGORIES:Predavanje
ATTACH;FMTTYPE=image/png:https://www.kc-sentjernej.si/wp-content/uploads/2022/03/Pamir.png
END:VEVENT
BEGIN:VEVENT
DTSTART;TZID=Africa/Abidjan:20220407T180000
DTEND;TZID=Africa/Abidjan:20220407T180000
DTSTAMP:20260425T115217
CREATED:20220328T115552Z
LAST-MODIFIED:20220328T115552Z
UID:5151-1649354400-1649354400@www.kc-sentjernej.si
SUMMARY:Narava v človeku
DESCRIPTION:Osnovna šola Šentjernej vas v okviru projekta VČASIH NAŠI UČENCI\, DANES UMETNIKI vljudno vabi na odprtje razstave likovnih del doktorice likovne umetnosti Jožice Medle.\nBrezplačna udeležba.
URL:https://www.kc-sentjernej.si/dogodek/narava-v-cloveku/
LOCATION:Kulturni center Primoža Trubarja\, Trubarjeva cesta 13\, Šentjernej\, Slovenija\, 8310\, Slovenija
CATEGORIES:Razstava
ATTACH;FMTTYPE=image/jpeg:https://www.kc-sentjernej.si/wp-content/uploads/2022/03/Jozi-Medle-scaled.jpg
ORGANIZER;CN="O%C5%A0 %C5%A0entjernej":MAILTO:os.sentjernej@guest.arnes.si
END:VEVENT
BEGIN:VEVENT
DTSTART;TZID=Africa/Abidjan:20220409T100000
DTEND;TZID=Africa/Abidjan:20220409T170000
DTSTAMP:20260425T115217
CREATED:20220328T114157Z
LAST-MODIFIED:20220328T114157Z
UID:5148-1649498400-1649523600@www.kc-sentjernej.si
SUMMARY:Čarovnija plesa in zabave
DESCRIPTION:V športno kulturnem društvu HOPLA Šentjernej smo ob zaključku plesnih igric za otroke pripravili produkcijo z naslovom ČAROVNIJA PLESA IN ZABAVE. Vabimo na plesno doživetje\,  ker bomo pokazali kako smo se vsak teden preselili v pravljično plesni svet različnih ritmov in oblik gibanja. Za čarobnost na dogodku bo poskrbel čisto pravi čarovnik.
URL:https://www.kc-sentjernej.si/dogodek/carovnija-plesa-in-zabave/
LOCATION:Kulturni center Primoža Trubarja\, Trubarjeva cesta 13\, Šentjernej\, Slovenija\, 8310\, Slovenija
CATEGORIES:Ples
ATTACH;FMTTYPE=image/png:https://www.kc-sentjernej.si/wp-content/uploads/2022/03/Carovnija-.png
END:VEVENT
BEGIN:VEVENT
DTSTART;TZID=Africa/Abidjan:20220409T180000
DTEND;TZID=Africa/Abidjan:20220409T180000
DTSTAMP:20260425T115217
CREATED:20220409T082412Z
LAST-MODIFIED:20220409T082412Z
UID:5206-1649527200-1649527200@www.kc-sentjernej.si
SUMMARY:15. REVIJA ZVEZE DRUŠTEV GODB IN PIHALNIH ORKESTROV DOLENJSKE IN BELE KRAJINE
DESCRIPTION:Na reviji pihalnih orkestrov\, ki jih bo strokovno spremljal g- Salobir\, se bo predstavilo 8 zasedb\, ki prihajajo iz območja Dolenjske in Bele krajine. Po dolgem času bomo zopet lahko prisluhnili orkestralni glasbi. Vabljeni!
URL:https://www.kc-sentjernej.si/dogodek/15-revija-zveze-drustev-godb-in-pihalnih-orkestrov-dolenjske-in-bele-krajine/
LOCATION:Kulturni center Primoža Trubarja\, Trubarjeva cesta 13\, Šentjernej\, Slovenija\, 8310\, Slovenija
CATEGORIES:Glasba
ATTACH;FMTTYPE=image/jpeg:https://www.kc-sentjernej.si/wp-content/uploads/2022/04/revija.jpg
END:VEVENT
BEGIN:VEVENT
DTSTART;TZID=Africa/Abidjan:20220415T083000
DTEND;TZID=Africa/Abidjan:20220415T170000
DTSTAMP:20260425T115217
CREATED:20220409T082636Z
LAST-MODIFIED:20220409T082636Z
UID:5209-1650011400-1650042000@www.kc-sentjernej.si
SUMMARY:Učenje nekoč in danes
DESCRIPTION:Orto klub Društva upokojencev Šentjernej vabi na srečanje z ambasadorko učenja Matejo Petric. Vabljeni!
URL:https://www.kc-sentjernej.si/dogodek/ucenje-nekoc-in-danes/
LOCATION:Kulturni center Primoža Trubarja\, Trubarjeva cesta 13\, Šentjernej\, Slovenija\, 8310\, Slovenija
CATEGORIES:Delavnica,Predavanje
ATTACH;FMTTYPE=image/png:https://www.kc-sentjernej.si/wp-content/uploads/2022/02/Orto-klub-DU-m.png
END:VEVENT
BEGIN:VEVENT
DTSTART;TZID=Africa/Abidjan:20220419T180000
DTEND;TZID=Africa/Abidjan:20220419T180000
DTSTAMP:20260425T115217
CREATED:20220409T083103Z
LAST-MODIFIED:20220409T083103Z
UID:5212-1650391200-1650391200@www.kc-sentjernej.si
SUMMARY:Hospickafe z Rudijem Zamanom
DESCRIPTION:Hospickafe je neformalen družabni dogodek\, na katerem se v varnem vzdušju 25 letne tradicije Slovenskega društva Hospic pogovarjamo o minljivosti. Vabljeni!
URL:https://www.kc-sentjernej.si/dogodek/hospickafe-z-rudijem-zamanom/
LOCATION:Knjižnica Šentjernej
CATEGORIES:Pogovorni večer
ATTACH;FMTTYPE=image/jpeg:https://www.kc-sentjernej.si/wp-content/uploads/2022/04/hospic.jpg
END:VEVENT
BEGIN:VEVENT
DTSTART;TZID=Africa/Abidjan:20220421T200000
DTEND;TZID=Africa/Abidjan:20220421T200000
DTSTAMP:20260425T115217
CREATED:20220409T084411Z
LAST-MODIFIED:20220419T120710Z
UID:5216-1650571200-1650571200@www.kc-sentjernej.si
SUMMARY:Ljubezen gre skozi želodec
DESCRIPTION:ALI RAJŠI 60 LET SREČEN KOT 90 LET TEČEN!\nKomedija izven abonmaja\nAvtor in režija: Jernej Čampelj\nIgrajo: Urška Vučak Markež\, Saša Klančnik\, Maja Martina Merljak \nNekaj malega o vsebini:\nV zgodbi spremljamo Meto\, ki si želi osamosvojiti od svoje mame\, ki ji očita\, da nima parterja\, nima otrok\, nima družabnega življenja\, ne ukvarja se s športom\, jogo… Vse\, kar ima je preveč kilogramov (tako pravi mama). Na drugi strani spremljamo Bojana\, ki po ločitvi začenja novo življenje. Zdaj sta mu pomembna le mir in poln hladilnik. Življenji Mete in Bojana se začneta zabavno in obetavno prepletati. A kaj ko se z ene in druge strani “z najboljšimi nameni” vmešajo še tisti tretji… \nAktualna komedija o odnosih med ljudmi\, odnosu do prehranjevalnih navad\, odnosu do družbenih norm in standardov.
URL:https://www.kc-sentjernej.si/dogodek/ljubezen-gre-skozi-zelodec/
LOCATION:Kulturni center Primoža Trubarja\, Trubarjeva cesta 13\, Šentjernej\, Slovenija\, 8310\, Slovenija
CATEGORIES:Gledališče,Izven abonmaja
ATTACH;FMTTYPE=image/jpeg:https://www.kc-sentjernej.si/wp-content/uploads/2022/04/Ljubezen-gre-skozi-zelodec.jpg
END:VEVENT
BEGIN:VEVENT
DTSTART;TZID=Africa/Abidjan:20220422T180000
DTEND;TZID=Africa/Abidjan:20220422T180000
DTSTAMP:20260425T115217
CREATED:20220419T105742Z
LAST-MODIFIED:20220419T105742Z
UID:5673-1650650400-1650650400@www.kc-sentjernej.si
SUMMARY:TU JE ENA LEIPA REIČ
DESCRIPTION:Na območnem srečanju otroških in odraslih folklornih skupin\, poimenovanem TU JE PA ENA LEIPA REIČ bodo nastopile otroške in odrasle folklorne skupine\, ki delujejo v kulturnih društvih in šolah na območju novomeške izpostave Javnega sklada Republike Slovenije za kulturne dejavnosti in ki navdih za ustvarjanje črpajo iz slovenskega izročila.
URL:https://www.kc-sentjernej.si/dogodek/tu-je-ena-leipa-reic/
LOCATION:Kulturni center Primoža Trubarja\, Trubarjeva cesta 13\, Šentjernej\, Slovenija\, 8310\, Slovenija
ATTACH;FMTTYPE=image/png:https://www.kc-sentjernej.si/wp-content/uploads/2022/04/TU-JE-ENA.png
END:VEVENT
BEGIN:VEVENT
DTSTART;TZID=Africa/Abidjan:20220513T083000
DTEND;TZID=Africa/Abidjan:20220513T170000
DTSTAMP:20260425T115217
CREATED:20220512T095808Z
LAST-MODIFIED:20220512T101709Z
UID:5692-1652430600-1652461200@www.kc-sentjernej.si
SUMMARY:ZNANJE ZA ŽIVLJENJE
DESCRIPTION:Orto klub Društva upokojencev Šentjernej vabi na pogovor z naslovom Znanje za življenje. Pogovor bo vodil politolog Andrej Pešec.\nVabljeni!
URL:https://www.kc-sentjernej.si/dogodek/znanje-za-zivljenje/
LOCATION:Knjižnica Šentjernej
CATEGORIES:pogovor
ATTACH;FMTTYPE=image/png:https://www.kc-sentjernej.si/wp-content/uploads/2022/02/orto-splet.png
END:VEVENT
BEGIN:VEVENT
DTSTART;TZID=Africa/Abidjan:20220518T193000
DTEND;TZID=Africa/Abidjan:20220518T193000
DTSTAMP:20260425T115217
CREATED:20220503T131647Z
LAST-MODIFIED:20220503T131647Z
UID:5686-1652902200-1652902200@www.kc-sentjernej.si
SUMMARY:Popolni tujci
DESCRIPTION:PRODUKCIJA Drama SNG Maribor\nREŽIJA Tamara Damjanović\nIGRAJO Tomo Tomšič / Kristijan Ostanek\, Maša Žilavec\, Gorazd Žilavec\, Mateja Pucko\, Nejc Ropret\, Ana Urbanc / Eva Kraš\, Matevž Biber \nŠtirje dolgoletni prijatelji in njihove najdražje\, se družijo in opazujejo lunin mrk. Večer mineva v čaru duhovitih zbadljivk\, šal in aktualnih pogovorov o družinskih in intimnih zadevah. Ko tema pogovora nanese na informacije\, ki jih skrivajo naši mobilni telefoni\, se zbrana druščina junaško odloči\, da ni skrivnosti\, ki bi jih tajili pred zbranimi. Nedolžna igra\, da bo vsak od njih klice in sporočila\, ki bodo prihajali med večerjo\, delil z vsemi zbranimi\, sproži sprva zabavne reakcije\, a lahkotnost igre se začne počasi izgubljati. Skrivnosti\, ki bi morale ostati v telefonih\, spremenijo slike o zakoncih\, partnerjih\, ljubicah in prijateljih …
URL:https://www.kc-sentjernej.si/dogodek/popolni-tujci/
LOCATION:Kulturni center Primoža Trubarja\, Trubarjeva cesta 13\, Šentjernej\, Slovenija\, 8310\, Slovenija
CATEGORIES:Abonmaji,Gledališče,Gledališki abonma,Izven
ATTACH;FMTTYPE=image/jpeg:https://www.kc-sentjernej.si/wp-content/uploads/2022/05/3_DSC2265_b.jpg
END:VEVENT
BEGIN:VEVENT
DTSTART;TZID=Africa/Abidjan:20220519T083000
DTEND;TZID=Africa/Abidjan:20220519T170000
DTSTAMP:20260425T115217
CREATED:20220512T101619Z
LAST-MODIFIED:20220512T101619Z
UID:5697-1652949000-1652979600@www.kc-sentjernej.si
SUMMARY:HOSPIC - društvo in njegovo poslanstvo
DESCRIPTION:Orto klub Društva upokojencev Šentjernej vabi na pogovor s prostovoljko društva Hospic go. Suzano Plut. Predstavila bo to humanitarno društvo poslanstvo le tega.\nVljudno vabljeni!
URL:https://www.kc-sentjernej.si/dogodek/hospic-drustvo-in-njegovo-poslanstvo/
LOCATION:Kulturni center Primoža Trubarja\, Trubarjeva cesta 13\, Šentjernej\, Slovenija\, 8310\, Slovenija
CATEGORIES:pogovor
ATTACH;FMTTYPE=image/png:https://www.kc-sentjernej.si/wp-content/uploads/2022/02/orto-splet.png
END:VEVENT
BEGIN:VEVENT
DTSTART;TZID=Africa/Abidjan:20220519T110000
DTEND;TZID=Africa/Abidjan:20220519T170000
DTSTAMP:20260425T115217
CREATED:20220512T101227Z
LAST-MODIFIED:20220512T103611Z
UID:5694-1652958000-1652979600@www.kc-sentjernej.si
SUMMARY:ZBOROVSKI BUM
DESCRIPTION:Letošnjo pomlad bodo vse pevske revije širom Slovenije namenjene predvsem motivaciji mladih pevcev.\nS partnerjem – Zavodom za šolstvo RS smo se dogovorili za letošnjo prilagoditev običajnih revij v t.i. ZBOROVSKI BUM\, ki bo potekal v obliki skupnega petja ob glasbeni spremljavi\, z enotnim repertoarjem in na prostem.\nSkupaj bo zapelo preko 200 mladih glasov.\nVabljeni\, da se nam pridružite – na ploščadi pri Knjižnici Šentjernej!
URL:https://www.kc-sentjernej.si/dogodek/zborovski-bum/
CATEGORIES:Glasba
ATTACH;FMTTYPE=image/jpeg:https://www.kc-sentjernej.si/wp-content/uploads/2022/05/zborovski-bum-e1652351765780.jpg
END:VEVENT
BEGIN:VEVENT
DTSTART;TZID=Africa/Abidjan:20220520T170000
DTEND;TZID=Africa/Abidjan:20220520T170000
DTSTAMP:20260425T115217
CREATED:20220512T102801Z
LAST-MODIFIED:20220520T120621Z
UID:5699-1653066000-1653066000@www.kc-sentjernej.si
SUMMARY:Gugajo se pesmice
DESCRIPTION:Na nekaterih šolah in vrtcih se kljub negotovim razmeram veselo poje. Prijavljeni  pevski zbori  se bodo predstavili javnosti na območni reviji predšolskih in prvošolskih pevskih zborov. Vabljeni\, da podprete mlade pevce!\nNastopili bodo:\n– prvošolski OPZ Šentjernej (OŠ Šentjernej)\n– prvošolski OPZ Škocjan (OŠ Frana Metelka)\n– prvošolski OPZ Otočec (OŠ Otočec)\n–  vrtec Brusnice
URL:https://www.kc-sentjernej.si/dogodek/gugajo-se-pesmice-2/
LOCATION:Kulturni center Primoža Trubarja\, Trubarjeva cesta 13\, Šentjernej\, Slovenija\, 8310\, Slovenija
CATEGORIES:Glasba,Koncert
ATTACH;FMTTYPE=image/png:https://www.kc-sentjernej.si/wp-content/uploads/2022/05/gugajo-lepa.png
END:VEVENT
BEGIN:VEVENT
DTSTART;TZID=Africa/Abidjan:20220521T190000
DTEND;TZID=Africa/Abidjan:20220521T190000
DTSTAMP:20260425T115217
CREATED:20220512T103333Z
LAST-MODIFIED:20220512T103521Z
UID:5702-1653159600-1653159600@www.kc-sentjernej.si
SUMMARY:110 LET USTANOVITVE PIHALNEGA ORKESTRA
DESCRIPTION:Na slavnostnem koncertu bomo najzaslužnejšim članom društva podelili plakete za delovanje v ljubiteljski kulturi. Tematika koncerta oz. program skladb smo izbrali iz celotnega opusa zadnjih 40 let\, katere skladbe je igral orkester. Ves izkupiček od prodaje vstopnic bo namenjen v humanitarne namene.
URL:https://www.kc-sentjernej.si/dogodek/110-let-ustanovitve-pihalnega-orkestra/
LOCATION:Kulturni center Primoža Trubarja\, Trubarjeva cesta 13\, Šentjernej\, Slovenija\, 8310\, Slovenija
CATEGORIES:Glasba,Koncert
ATTACH;FMTTYPE=image/jpeg:https://www.kc-sentjernej.si/wp-content/uploads/2022/05/110-let-godba-e1652351714639.jpg
END:VEVENT
BEGIN:VEVENT
DTSTART;TZID=Africa/Abidjan:20220526T183000
DTEND;TZID=Africa/Abidjan:20220526T183000
DTSTAMP:20260425T115217
CREATED:20220524T123232Z
LAST-MODIFIED:20220524T123232Z
UID:5714-1653589800-1653589800@www.kc-sentjernej.si
SUMMARY:JAVNI ZAKLJUČNI NASTOP
DESCRIPTION:Vabljeni na nastop učencev Glasbene šole Marjana Kozine Novo mesto – oddelek Šentjernej.\nBrezplačna udeležba!
URL:https://www.kc-sentjernej.si/dogodek/javni-zakljucni-nastop-2/
LOCATION:Kulturni center Primoža Trubarja\, Trubarjeva cesta 13\, Šentjernej\, Slovenija\, 8310\, Slovenija
CATEGORIES:Glasba,Koncert
ATTACH;FMTTYPE=image/png:https://www.kc-sentjernej.si/wp-content/uploads/2022/05/GS-Zakljucni.png
END:VEVENT
BEGIN:VEVENT
DTSTART;TZID=Africa/Abidjan:20220527T083000
DTEND;TZID=Africa/Abidjan:20220527T090000
DTSTAMP:20260425T115217
CREATED:20220524T123611Z
LAST-MODIFIED:20220527T105543Z
UID:5718-1653640200-1653642000@www.kc-sentjernej.si
SUMMARY:UPORABA PAMETNEGA TELEFONA
DESCRIPTION:Vabljeni na srečanje ORTO KLUBA Društva upokojencev Šentjernej\, kjer se boste še nekaj novega naučili o uporabi pametnega telefona.\nSvoje znanje in izkušnje bo delila ga. Zvonka Potočar. Nikoli ni prepozno…
URL:https://www.kc-sentjernej.si/dogodek/uporaba-pametnega-telefona/
LOCATION:Kulturni center Primoža Trubarja\, Trubarjeva cesta 13\, Šentjernej\, Slovenija\, 8310\, Slovenija
CATEGORIES:Delavnica,Izobraževanje
ATTACH;FMTTYPE=image/png:https://www.kc-sentjernej.si/wp-content/uploads/2022/02/orto-splet.png
END:VEVENT
BEGIN:VEVENT
DTSTART;TZID=Africa/Abidjan:20220605T130000
DTEND;TZID=Africa/Abidjan:20220605T170000
DTSTAMP:20260425T115217
CREATED:20220524T124816Z
LAST-MODIFIED:20220602T064927Z
UID:5720-1654434000-1654448400@www.kc-sentjernej.si
SUMMARY:DOBRODELNI OPERNI MARATON
DESCRIPTION:Z Ireno Yebuah Tiran bomo na dobrodelnem opernem maratonu povezali štiri občine. Pričeli bomo v občini Šmarješke Toplice\, na Karlovškem trgu v Šmarjeti\, se nato odpravili proti Otočcu\, Novemu mestu\, mimo Rateža do občine Šentjernej\, od tu pa nadaljevali pot do Škocjana in nazaj proti cilju.\nVeč kot 42km dolgo pot bomo polepšali z opernimi arijami\, okrog 17ih pa zaključili z velikim dogodkom na trgu in razglasitvijo v dobrodelni akciji zbranega zneska.\nIrena bo v Šentjerneju okoli 13. ure. Pričakajte jo pred Kulturnem centru Primoža Trubarja in ji tudi prisluhnite!\nVabljeni k sodelovanju!
URL:https://www.kc-sentjernej.si/dogodek/dobrodelni-operni-maraton/
LOCATION:Kulturni center Primoža Trubarja\, Trubarjeva cesta 13\, Šentjernej\, Slovenija\, 8310\, Slovenija
CATEGORIES:Dobrodelni operni maraton
ATTACH;FMTTYPE=image/jpeg:https://www.kc-sentjernej.si/wp-content/uploads/2022/05/DOM-Pojem15.jpg
END:VEVENT
BEGIN:VEVENT
DTSTART;TZID=Africa/Abidjan:20220606T082000
DTEND;TZID=Africa/Abidjan:20220606T100000
DTSTAMP:20260425T115217
CREATED:20220527T110156Z
LAST-MODIFIED:20220527T113041Z
UID:5728-1654503600-1654509600@www.kc-sentjernej.si
SUMMARY:Contour Slovenia
DESCRIPTION:Contour Slovenia je slovenski športno-dokumentarni film o kolesarstvu. Športna avantura ljubiteljskega kolesarja – Šentjernejčana Bakše Ignaca se je odvijala ob slovenski državni meji točno pred enim letom. Na poti polni izzivov so ga spremljale kamere Produkcijske Hiše Vihar Media.\nVabljeni na ogled dogodivščin našega Ignaca\, kjer boste še deležni čudovitih posnetkov naše dežele!  \nZa osnovno šolo in izven.
URL:https://www.kc-sentjernej.si/dogodek/contour-slovenia-2/
LOCATION:Kulturni center Primoža Trubarja\, Trubarjeva cesta 13\, Šentjernej\, Slovenija\, 8310\, Slovenija
CATEGORIES:Film
ATTACH;FMTTYPE=image/png:https://www.kc-sentjernej.si/wp-content/uploads/2022/03/contour.png
END:VEVENT
BEGIN:VEVENT
DTSTART;TZID=Africa/Abidjan:20220607T180000
DTEND;TZID=Africa/Abidjan:20220607T180000
DTSTAMP:20260425T115217
CREATED:20220520T120952Z
LAST-MODIFIED:20220602T114305Z
UID:5708-1654624800-1654624800@www.kc-sentjernej.si
SUMMARY:ŽIVIM V BARVAH
DESCRIPTION:Odprtje razstave likovnih del učencev predmetne stopnje OŠ Šentjernej. Vabljeni!
URL:https://www.kc-sentjernej.si/dogodek/zivim-v-barvah/
LOCATION:Kulturni center Primoža Trubarja\, Trubarjeva cesta 13\, Šentjernej\, Slovenija\, 8310\, Slovenija
CATEGORIES:Razstava
ATTACH;FMTTYPE=image/jpeg:https://www.kc-sentjernej.si/wp-content/uploads/2022/05/Vabilo-na-odprtje-razstave-OS-Sentjernej-1.jpg
ORGANIZER;CN="O%C5%A0 %C5%A0entjernej":MAILTO:os.sentjernej@guest.arnes.si
END:VEVENT
BEGIN:VEVENT
DTSTART;TZID=Africa/Abidjan:20220610T180000
DTEND;TZID=Africa/Abidjan:20220610T180000
DTSTAMP:20260425T115217
CREATED:20220527T110721Z
LAST-MODIFIED:20220527T110721Z
UID:5730-1654884000-1654884000@www.kc-sentjernej.si
SUMMARY:Valeta
DESCRIPTION:Valeta devetošolcev OŠ Šentjernej.\nZaključeno.
URL:https://www.kc-sentjernej.si/dogodek/valeta-2/
LOCATION:Kulturni center Primoža Trubarja\, Trubarjeva cesta 13\, Šentjernej\, Slovenija\, 8310\, Slovenija
CATEGORIES:Zaključeno
ATTACH;FMTTYPE=image/png:https://www.kc-sentjernej.si/wp-content/uploads/2022/05/OS-LOGO.png
ORGANIZER;CN="O%C5%A0 %C5%A0entjernej":MAILTO:os.sentjernej@guest.arnes.si
END:VEVENT
BEGIN:VEVENT
DTSTART;TZID=Africa/Abidjan:20220623T080000
DTEND;TZID=Africa/Abidjan:20220623T170000
DTSTAMP:20260425T115217
CREATED:20220623T102455Z
LAST-MODIFIED:20220623T102455Z
UID:5744-1655971200-1656003600@www.kc-sentjernej.si
SUMMARY:SLAVNOSTNA AKADEMIJA OB DNEVU DRŽAVNOSTI
DESCRIPTION:Vabljeni na slovesnost ob dnevu državnosti\, kjer bodo nastopili naši kulturniki\, slavnostni govornik bo Franc Bogovič\, poslanec Evropskega parlamenta.
URL:https://www.kc-sentjernej.si/dogodek/slavnostna-akademija-ob-dnevu-drzavnosti-2/
CATEGORIES:Slovesnost
ATTACH;FMTTYPE=image/jpeg:https://www.kc-sentjernej.si/wp-content/uploads/2022/06/dan-drzavnosti.jpg
END:VEVENT
END:VCALENDAR