BEGIN:VCALENDAR
VERSION:2.0
PRODID:-// - ECPv6.15.20//NONSGML v1.0//EN
CALSCALE:GREGORIAN
METHOD:PUBLISH
X-ORIGINAL-URL:https://www.kc-sentjernej.si
X-WR-CALDESC:Dogodki od 
REFRESH-INTERVAL;VALUE=DURATION:PT1H
X-Robots-Tag:noindex
X-PUBLISHED-TTL:PT1H
BEGIN:VTIMEZONE
TZID:Africa/Abidjan
BEGIN:STANDARD
TZOFFSETFROM:+0000
TZOFFSETTO:+0000
TZNAME:GMT
DTSTART:20190101T000000
END:STANDARD
END:VTIMEZONE
BEGIN:VEVENT
DTSTART;TZID=Africa/Abidjan:20200124T083000
DTEND;TZID=Africa/Abidjan:20200124T083000
DTSTAMP:20260425T024642
CREATED:20191219T150503Z
LAST-MODIFIED:20191219T162042Z
UID:3678-1579854600-1579854600@www.kc-sentjernej.si
SUMMARY:Zadnji polet Megijinih hlačk
DESCRIPTION:Orto klub DU Šentjernej vabi na pogovor o knjigi Zadnji polet Megijinih hlačk – padec bombnika pri Gracarjevem turnu 1944. \n  \nUdeležba je brezplačna
URL:https://www.kc-sentjernej.si/dogodek/zadnji-polet-megijinih-hlack-predavanje/
CATEGORIES:Predavanje
ATTACH;FMTTYPE=image/jpeg:https://www.kc-sentjernej.si/wp-content/uploads/2019/12/naslovnica-6.jpg
END:VEVENT
BEGIN:VEVENT
DTSTART;TZID=Africa/Abidjan:20200124T193000
DTEND;TZID=Africa/Abidjan:20200124T193000
DTSTAMP:20260425T024642
CREATED:20191219T150317Z
LAST-MODIFIED:20200123T102439Z
UID:3680-1579894200-1579894200@www.kc-sentjernej.si
SUMMARY:Koncert Novomeškega simfoničnega orkestra
DESCRIPTION:Novomeški simfonični orkester\, ohranja tradicijo januarskih gostovanj v Šentjerneju. Orkester\, ki letos obeležuje 30 letnico\, sestavljajo učitelji ter sedanji in nekdanji učenci glasbene šole Marjana Kozine Novo mesto. Vodi ga dirigent Miro Saje.\nTudi na letošnjem koncertu se bo Novomeški simfonični orkester predstavil z bogato zastavljenim programom. \nZačeli bomo s prvo suito iz opere Carmen\, sledi Pesem srečnega popotnika rojaka Zdravka Hribarja in barviti Huapango J. P. Moncaya. V ljudski skladbi Zrejlo je žito v priredbi Roka Goloba se nam bo predstavila sopranistka Ana Berus\, sledijo pa melodije Andrewa Lloyda Webbra in Franza Leharja. \nKot omenjeno je solistka večera Ana Berus\, ki je svojo glasbeno pot začela prav v Glasbeni šoli Marjana Kozine Novo mesto. Danes je učenka solopetja na Konservatoriju za glasbo balet v Ljubljani pri profesorici Tatjani Vasle\, svojo poklino pot pa vidi v zdravstvu\, saj je absolventka medicine. \nVabljeni na koncert\, ki bo ponudil čudovit program v veličastni zvočni podobi z zanimivimi gosti in odličnim glasbenim izborom. \n  \nVstopnice: 5 € \nUčencem Osnovne šole Šentjernej in Glasbene šole Marjana Kozine Novo mesto zagotavljamo brezplačne vstopnice.
URL:https://www.kc-sentjernej.si/dogodek/koncert-novomeskega-simfonicnega-orkestra/
CATEGORIES:Glasba,izpostavljamo,Koncert
ATTACH;FMTTYPE=image/jpeg:https://www.kc-sentjernej.si/wp-content/uploads/2019/12/naslovnica-2-3.jpg
END:VEVENT
BEGIN:VEVENT
DTSTART;TZID=Africa/Abidjan:20200127T150000
DTEND;TZID=Africa/Abidjan:20200127T180000
DTSTAMP:20260425T024642
CREATED:20191219T150118Z
LAST-MODIFIED:20191219T163302Z
UID:3701-1580137200-1580148000@www.kc-sentjernej.si
SUMMARY:Delo s terapevtskimi kartami
DESCRIPTION:Prijave (do zapolnitve mest) na: neuroeducation.si@gmail.com
URL:https://www.kc-sentjernej.si/dogodek/delo-s-terapevtskimi-kartami/
CATEGORIES:Izobraževanje,Seminar
ATTACH;FMTTYPE=image/jpeg:https://www.kc-sentjernej.si/wp-content/uploads/2019/12/naslovnica-9.jpg
END:VEVENT
BEGIN:VEVENT
DTSTART;TZID=Africa/Abidjan:20200130T130000
DTEND;TZID=Africa/Abidjan:20200130T160000
DTSTAMP:20260425T024642
CREATED:20191219T151422Z
LAST-MODIFIED:20191219T163435Z
UID:3720-1580389200-1580400000@www.kc-sentjernej.si
SUMMARY:Prodaja mesečnih vozovnic
DESCRIPTION:Prodajno mesto Šentjernej\, kulturni center Primoža Trubarja: \n\nčetrtek\, 30. 1. 2020: 13.00 – 16.00h\n\nProdaja subvencioniranih vozovnic se izvaja na prodajnem mestu na avtobusni postaji v Brežicah ter enkrat ali dvakrat mesečno na prodajnem mestu v Šentjerneju v kulturnem centru Primoža Trubarja.
URL:https://www.kc-sentjernej.si/dogodek/prodaja-mesecnih-vozovnic-za-februar-ijpp-sentjernej/
CATEGORIES:Prodaja vozovnic
ATTACH;FMTTYPE=image/jpeg:https://www.kc-sentjernej.si/wp-content/uploads/2019/11/Kopija-izdelka-naslovnica-5.jpg
END:VEVENT
BEGIN:VEVENT
DTSTART;TZID=Africa/Abidjan:20200130T170000
DTEND;TZID=Africa/Abidjan:20200130T170000
DTSTAMP:20260425T024642
CREATED:20191219T151207Z
LAST-MODIFIED:20191219T163403Z
UID:3721-1580403600-1580403600@www.kc-sentjernej.si
SUMMARY:Ura pravljic in ustvarjalna delavnica
DESCRIPTION:Brezplačna udeležba.
URL:https://www.kc-sentjernej.si/dogodek/ura-pravljic-ustvarjalna-delavnica-januar-2020/
CATEGORIES:Delavnica
ATTACH;FMTTYPE=image/jpeg:https://www.kc-sentjernej.si/wp-content/uploads/2019/11/Kopija-izdelka-naslovnica-4.jpg
END:VEVENT
BEGIN:VEVENT
DTSTART;TZID=Africa/Abidjan:20200131T083000
DTEND;TZID=Africa/Abidjan:20200131T083000
DTSTAMP:20260425T024642
CREATED:20191219T151904Z
LAST-MODIFIED:20191219T163121Z
UID:3724-1580459400-1580459400@www.kc-sentjernej.si
SUMMARY:Čudoviti svet morskih globin
DESCRIPTION:Orto klub DU Šentjernej vabi na predavanje ČUDOVITI SVET MORSKIH GLOBIN. Predaval bo Dominko Kušljan. \nUdeležba je brezplačna.
URL:https://www.kc-sentjernej.si/dogodek/cudoviti-svet-morskh-globin/
CATEGORIES:Predavanje
ATTACH;FMTTYPE=image/jpeg:https://www.kc-sentjernej.si/wp-content/uploads/2019/12/naslovnica-8.jpg
END:VEVENT
BEGIN:VEVENT
DTSTART;TZID=Africa/Abidjan:20200204T083000
DTEND;TZID=Africa/Abidjan:20200204T163000
DTSTAMP:20260425T024642
CREATED:20200128T095246Z
LAST-MODIFIED:20200128T131705Z
UID:3838-1580805000-1580833800@www.kc-sentjernej.si
SUMMARY:Pozitivna disciplina
DESCRIPTION:Izvaja: Jani Prgić \nPrijave na: neuroeducation.si@gmail.com
URL:https://www.kc-sentjernej.si/dogodek/pozitivna-disciplina-janiprgic/
CATEGORIES:Delavnica,Izobraževanje,Predavanje
ATTACH;FMTTYPE=image/jpeg:https://www.kc-sentjernej.si/wp-content/uploads/2020/01/nasl-spl-1.jpg
END:VEVENT
BEGIN:VEVENT
DTSTART;TZID=Africa/Abidjan:20200205T083000
DTEND;TZID=Africa/Abidjan:20200205T163000
DTSTAMP:20260425T024642
CREATED:20200128T095457Z
LAST-MODIFIED:20200128T131736Z
UID:3846-1580891400-1580920200@www.kc-sentjernej.si
SUMMARY:Pozitivna disciplina
DESCRIPTION:Izvaja: Jani Prgić \nPrijave na: neuroeducation.si@gmail.com
URL:https://www.kc-sentjernej.si/dogodek/pozitivna-disciplina-janiprgic-2/
CATEGORIES:Delavnica,Izobraževanje,Predavanje
ATTACH;FMTTYPE=image/jpeg:https://www.kc-sentjernej.si/wp-content/uploads/2020/01/nasl-spl-1.jpg
END:VEVENT
BEGIN:VEVENT
DTSTART;TZID=Africa/Abidjan:20200205T180000
DTEND;TZID=Africa/Abidjan:20200205T180000
DTSTAMP:20260425T024642
CREATED:20200128T090901Z
LAST-MODIFIED:20200129T120144Z
UID:3841-1580925600-1580925600@www.kc-sentjernej.si
SUMMARY:Kolaži trškega jedra - neznane podobe Šentjerneja
DESCRIPTION:Odprtje razstave \nAvtorji razstave Andrej Bučar\, Darko Homan in Matej Kerin skozi tehniko kolaža sestavljajo znane in manj znane fotografije trškega jedra v nov kontekst\, s čimer nastavljajo zrcalo današnjemu stanju v prostoru. Včasih je potrebno vsem znano podobo spremeniti skoraj do neprepoznavnosti\, da jo lahko pogledamo z novimi očmi ter opazimo razvojni potencial obravnavanega prostora. Vljudno vabljeni na odprtje razstave.
URL:https://www.kc-sentjernej.si/dogodek/kolazi-trskega-jedra-neznane-podobe-sentjerneja-razstava/
CATEGORIES:Razstava
ATTACH;FMTTYPE=image/jpeg:https://www.kc-sentjernej.si/wp-content/uploads/2020/01/nasl-spl-1-1.jpg
ORGANIZER;CN="O%C5%A0 %C5%A0entjernej":MAILTO:os.sentjernej@guest.arnes.si
END:VEVENT
BEGIN:VEVENT
DTSTART;TZID=Africa/Abidjan:20200206T170000
DTEND;TZID=Africa/Abidjan:20200206T170000
DTSTAMP:20260425T024642
CREATED:20200205T115220Z
LAST-MODIFIED:20200205T120010Z
UID:3941-1581008400-1581008400@www.kc-sentjernej.si
SUMMARY:Ti si življenja mojga magistrale - dodatna slovesnost!
DESCRIPTION:DODATNA SLOVESNOST – brez podelitve Slavčkov \nRecitatorji\, pevci\, glasbeniki in plesalci OŠ Šentjernej nas bodo s pomočjo svojih mentorjev in gostov  popeljali skozi najbolj znane Prešernove pesmi\, ki jih bodo na različne izvirne načine uprizorili na odru kulturnega centra. \nTa večer bo Osnovna šola Šentjernej tudi nagradila svoje bivše in sedanje učence za njihovo udejstvovanje in dosežke na kulturnem področju s priznanji  in plaketami Slavček. Slavnostni gost večera bo priznani slovenski gledališki ustvarjalec Pavle Ravnohrib. \n  \nPlakete in priznanja Slavček bodo podeljeni bodo na slovesnosti ob 19. uri\, za katero so vstopnice že pošle. Vstopnic za dogodek ob 17. uri pa je še dovolj.  \nVljudno vabljeni\, da obilno zajamete kulturo. \n  \nBrezplačne vstopnice
URL:https://www.kc-sentjernej.si/dogodek/ti-si-zivljenja-mojga-magistrale-dodatna-slovesnost/
CATEGORIES:Slovesnost
ATTACH;FMTTYPE=image/jpeg:https://www.kc-sentjernej.si/wp-content/uploads/2020/02/nasl-spl.jpg
END:VEVENT
BEGIN:VEVENT
DTSTART;TZID=Africa/Abidjan:20200206T190000
DTEND;TZID=Africa/Abidjan:20200206T190000
DTSTAMP:20260425T024642
CREATED:20200128T092432Z
LAST-MODIFIED:20200205T115240Z
UID:3843-1581015600-1581015600@www.kc-sentjernej.si
SUMMARY:Ti si življenja mojga magistrale
DESCRIPTION:Osrednja občinska proslava ob kulturnem prazniku s podelitvijo Slavčkov \nRecitatorji\, pevci\, glasbeniki in plesalci OŠ Šentjernej nas bodo s pomočjo svojih mentorjev in gostov  popeljali skozi najbolj znane Prešernove pesmi\, ki jih bodo na različne izvirne načine uprizorili na odru kulturnega centra. \nTa večer bo Osnovna šola Šentjernej tudi nagradila svoje bivše in sedanje učence za njihovo udejstvovanje in dosežke na kulturnem področju s priznanji  in plaketami Slavček. Slavnostni gost večera bo priznani slovenski gledališki ustvarjalec Pavle Ravnohrib. Vljudno vabljeni\, da obilno zajamete kulturo. \n  \nBrezplačne vstopnice so že pošle.
URL:https://www.kc-sentjernej.si/dogodek/ti-si-zivljenja-mojga-magistrale/
CATEGORIES:Slovesnost
ATTACH;FMTTYPE=image/jpeg:https://www.kc-sentjernej.si/wp-content/uploads/2020/01/nasl-spl-3.jpg
END:VEVENT
BEGIN:VEVENT
DTSTART;TZID=Africa/Abidjan:20200207T083000
DTEND;TZID=Africa/Abidjan:20200207T083000
DTSTAMP:20260425T024642
CREATED:20200128T100126Z
LAST-MODIFIED:20200128T134144Z
UID:3848-1581064200-1581064200@www.kc-sentjernej.si
SUMMARY:Smeh
DESCRIPTION:Orto klub DU Šentjernej vabi na predavanje Neži But: SMEH. \nV knjižnici Šentjernej \n  \nBrezplačna udeležba
URL:https://www.kc-sentjernej.si/dogodek/nezi-but-smeh-predavanje-knjiznica-sentjernej/
LOCATION:Knjižnica Šentjernej
CATEGORIES:Predavanje
ATTACH;FMTTYPE=image/jpeg:https://www.kc-sentjernej.si/wp-content/uploads/2020/01/nasl-spl-4.jpg
END:VEVENT
BEGIN:VEVENT
DTSTART;TZID=Africa/Abidjan:20200211T083000
DTEND;TZID=Africa/Abidjan:20200211T083000
DTSTAMP:20260425T024642
CREATED:20200128T101813Z
LAST-MODIFIED:20200128T134131Z
UID:3850-1581409800-1581409800@www.kc-sentjernej.si
SUMMARY:Boli! Kdaj k zdravniku?
DESCRIPTION:Orto klub DU Šentjernej vabi na brezplačno predavanje dr. Mirjam Vide Katič: Boli! Kdaj k zdravniku?. \nVabljeni!
URL:https://www.kc-sentjernej.si/dogodek/boli-kdaj-k-zdravniku/
CATEGORIES:Predavanje
ATTACH;FMTTYPE=image/jpeg:https://www.kc-sentjernej.si/wp-content/uploads/2020/01/nasl-spl-5.jpg
END:VEVENT
BEGIN:VEVENT
DTSTART;TZID=Africa/Abidjan:20200211T160000
DTEND;TZID=Africa/Abidjan:20200211T160000
DTSTAMP:20260425T024642
CREATED:20200128T105936Z
LAST-MODIFIED:20200128T132236Z
UID:3851-1581436800-1581436800@www.kc-sentjernej.si
SUMMARY:Promocija zdravja – I. del
DESCRIPTION:ZD Novo mesto vabi na brezplačno predavanje PROMOCIJA ZDRAVJA – I. del.
URL:https://www.kc-sentjernej.si/dogodek/promocija-zdravja-prvi-del-ena/
CATEGORIES:Izobraževanje,Predavanje
ATTACH;FMTTYPE=image/jpeg:https://www.kc-sentjernej.si/wp-content/uploads/2020/01/promocija-zdravja1.jpg
END:VEVENT
BEGIN:VEVENT
DTSTART;TZID=Africa/Abidjan:20200211T180000
DTEND;TZID=Africa/Abidjan:20200211T180000
DTSTAMP:20260425T024642
CREATED:20200128T110008Z
LAST-MODIFIED:20200128T132258Z
UID:3854-1581444000-1581444000@www.kc-sentjernej.si
SUMMARY:Promocija zdravja – I. del
DESCRIPTION:ZD Novo mesto vabi na brezplačno predavanje PROMOCIJA ZDRAVJA – I. del.
URL:https://www.kc-sentjernej.si/dogodek/promocija-zdravja-prvi-del-dve/
CATEGORIES:Izobraževanje,Predavanje
ATTACH;FMTTYPE=image/jpeg:https://www.kc-sentjernej.si/wp-content/uploads/2020/01/promocija-zdravja1.jpg
END:VEVENT
BEGIN:VEVENT
DTSTART;TZID=Africa/Abidjan:20200212T173000
DTEND;TZID=Africa/Abidjan:20200212T173000
DTSTAMP:20260425T024642
CREATED:20200127T120918Z
LAST-MODIFIED:20200203T110136Z
UID:3820-1581528600-1581528600@www.kc-sentjernej.si
SUMMARY:Krpanov Martin
DESCRIPTION:OTROŠKI ABONMA IN IZVEN \nPantomimska mono klovnada \nPRODUKCIJA Teater Cizamo \nPRIREDBA Andrej Zupanc in Jure Lajovic \nREŽIJA Jure Lajovic \nIGRA Andrej Zupanc \nRudi je redoljuben hišnik stare šole. Ravno\, ko je natančno vse pripravil za gostujočo predstavo\, dobi nepričakovan klic ravnatelja: »Rudi\, nastopajočih ne bo\, daj prosim ti odigraj predstavo!« Ojoj\, kaj pa zdaj?! Bo Rudiju\, s pomočjo pisnih navodil in cirkuških rekvizitov uspelo uprizoriti najbolj junaško slovensko povest o Martinu Krpanu? \nInteraktivna\, medžanrska\, pantomimsko – klovnska predstava\, dobrovoljnega hišnika\, s specifičnim smislom za humor! \nPRIMERNO ZA STAROST 4+ \nTRAJANJE 35 minut \n  \nFotografije predstave TUKAJ. \nVstopnice: 5 €
URL:https://www.kc-sentjernej.si/dogodek/krpanov-martin-teatercizamo-otroskiabonma-izven/
CATEGORIES:Abonmaji,izpostavljamo,Izven,Otroški abonma
ATTACH;FMTTYPE=image/jpeg:https://www.kc-sentjernej.si/wp-content/uploads/2020/01/nasl-spl.jpg
END:VEVENT
BEGIN:VEVENT
DTSTART;TZID=Africa/Abidjan:20200213T193000
DTEND;TZID=Africa/Abidjan:20200213T193000
DTSTAMP:20260425T024642
CREATED:20200115T080936Z
LAST-MODIFIED:20200129T104237Z
UID:3786-1581622200-1581622200@www.kc-sentjernej.si
SUMMARY:Tih vdih
DESCRIPTION:GLEDALIŠKI ABONMA IN IZVEN\nDrama \nPRODUKCIJA Mestno gledališče ljubljansko \nAVTOR in REŽISER Nejc Gazvoda \nIGRAJO\nKatarina Mirjam Korbar\nMarjan Jure Henigman\nPetra Ajda Smrekar\nJanez Matej Puc\nMaja Tjaša Železnik\nTamala Lara Wolf Završnik \nLeto dni po očetovi nepričakovani smrti se odtujena družina zbere\, da bi najmlajši hčerki\, ki jo vsi kličejo »tamala« in ki odhaja študirat v Ljubljano\, dala čim več nasvetov in obilo ljubezni. \nKot se v družini spodobi\, tudi v tukaj drug za drugega verjamejo\, da so se zadeve lotili narobe. A bolj kot se z njimi pomikamo skozi tisto jesensko popoldne\, bolj se nam zdi\, da so mogoče vsi ravnali pravilno. Večkrat bi si lahko rekli\, da je to\, da živimo v skladu s svojimi načeli\, dovolj dobro. Da je dovolj dobro\, če kdaj kakšno stvar preskočimo\, počakamo. \nFotografije in video napovednik predstave TUKAJ. \nVstopnice: 17 € / 15 € (dijaki\, študenti\, upokojenci) \n 
URL:https://www.kc-sentjernej.si/dogodek/tih-vdih-gledaliski-abonma-izven/
CATEGORIES:Abonmaji,Gledališki abonma,izpostavljamo,Izven
ATTACH;FMTTYPE=image/jpeg:https://www.kc-sentjernej.si/wp-content/uploads/2020/01/naslovnica.jpg
END:VEVENT
BEGIN:VEVENT
DTSTART;TZID=Africa/Abidjan:20200215T200000
DTEND;TZID=Africa/Abidjan:20200215T200000
DTSTAMP:20260425T024642
CREATED:20200115T112810Z
LAST-MODIFIED:20200121T115020Z
UID:3790-1581796800-1581796800@www.kc-sentjernej.si
SUMMARY:Ditka & Feri: “Ne bodi kar nisi”
DESCRIPTION:NE BODI KAR NISI – koncert uglasbene poezije \n\n \n\n\nCENA VSTOPNICE V PREPRODAJI: 15 € \n\n\nCENA VSTOPNICE NA DAN DOGODKA: 17 €;\n\n\n \n\n\nRomantiki\, sanjači in tisti\, ki še vedno verjamemo v drugačen svet\, smo končno dočakali težko pričakovani album uglasbene poezije z naslovom Ne bodi\, kar nisi. Na predstavitvi bo glasbeno zasedbo spremljal pisatelj in pesnik Feri Lainšček.\n\n\n \n\n\nKantavtorica\, pevka in skladateljica Ditka si je z unikatnim avtorskim pristopom in drugačnostjo na slovenski glasbeni sceni ustvarila posebno mesto. Glasbenica svojih poslušalcev nikoli ne pusti ravnodušnih\, saj poje s srcem in se drži svojega pravila\, da mora besedilo\, ki ga prepeva\, razumeti in začutiti. „Glasba mora napolniti dušo\, to je njeno bistvo\,“ poudarja Ditka\, saj je to največ\, kar lahko glasbenik prejme. Prepeva predvsem ljubezensko poezijo Ferija Lainščka. Rada ima ljubezen\, saj je sila\, ki vse povezuje. Pesnik pravi\, da on ljubezen razume\, ker je starejši\, ona pa zato\, ker je mlada 🙂 Za uglasbitev njegove poezije je pravzaprav zadolžena Ditkina mama Jelka\, ki je občudovala pesnika in imela pesem Ne bodi kot drugi več kot deset let prilepljeno na hladilniku\, preden se je Ditkinemu očetu Gorazdu nekega dne utrnila ideja in jo je končno uglasbil. Sledilo je večletno sodelovanje\, ki je preseglo dotedanja pričakovanja v uglasbeni poeziji. Visoke naklade\, mnoge radijske uspešnice in razprodani koncerti so rezultat izjemnega in plodnega dela.\n\n\n \n\n\nDitka je svojo prvo pesem napisala pri komaj devetih letih. Imenovala se je V deželi mojih sanj\, saj si je med pisanjem pesmi predstavljala svoje sanje. Pesem je predstavila na festivalu Kristalček v Rogaški Slatini. „Po tem prvem večjem nastopu se je začela moja glasbena pot in danes lahko rečem\, da živim svoje sanje.“ \n\n\n \n\n\nPo albumih Ne bodi kot drugi iz leta 2013 in Ne spreminjaj me iz leta 2016 glasbenica predstavlja nov projekt uglasbene poezije z naslovom Ne bodi\, kar nisi. Tako se imenuje tudi naslovna pesem albuma\, ki je poslušalce nemudoma očarala s svojim prepričljivim sporočilom. Tokratna tematika iz Lainščkove pesniške zbirke z naslovom Ne je v prvi vrsti namenjena mladostnikom. \n\n\n \n\n\nDitka želi na prijeten način preko glasbe spodbuditi ljudi\, naj prisluhnejo sebi in si rečejo: Ne bodi\, kar nisi. „Sporočilo pesmi je izredno pomembno v svetu\, v katerem živimo. Z vseh strani nam narekujejo\, kakšni naj bomo\, komu naj sledimo\, kaj naj naredimo\, da bomo uspešni\, zdravi\, srečni\, … Ampak vse prevečkrat to vodi ravno v nasprotno. Premalokrat se upremo\, naredimo nekaj po svoje in dejansko poslušamo srce\, ki edino ve\, kaj je najboljše za nas.“ \n\n\n \n\n\nNjeni vzornici sta brez dvoma Norah Jonas in pokojna Eva Cassidy\, saj je njun uspeh posledica dobre glasbe in ne medijskih škandalov. Mlada pevka dela v svojem duhu in se ne obremenjuje s trendi\, čeprav je v današnjem času to nekoliko težje. \n\n\n \n\n\nSnubi jo tudi tujina – v Veliki Britaniji se je pesem Dreamer uvrstila v finale festivala Songwriting Contest\, njene pesmi pa so odlično sprejeli tudi na Slovaškem\, Madžarskem\, v Bolgariji\, Italiji in na Hrvaškem. Kljub temu pevka zaenkrat ostaja zvesta svojim domačim poslušalcem.\n\n\n \n\n\nAlbum Ne bodi\, kar nisi bo Ditka predstavila na koncertni turneji skupaj s pesnikom Ferijem Lainščkom in svojo glasbeno zasedbo\, katere člani so Gorazd Čepin – klaviature\, spremljevalni vokal\, Jan Lužnik – električna kitara\, spremljevalni vokal\, Ilj Pušnik – kontrabas\, David Slatinek– bobni.
URL:https://www.kc-sentjernej.si/dogodek/ditka-feri-ne-bodi-kar-nisi-sentjernej/
CATEGORIES:Glasba,izpostavljamo,Koncert
ATTACH;FMTTYPE=image/jpeg:https://www.kc-sentjernej.si/wp-content/uploads/2020/01/naslovnica-1.jpg
END:VEVENT
BEGIN:VEVENT
DTSTART;TZID=Africa/Abidjan:20200216T090000
DTEND;TZID=Africa/Abidjan:20200216T090000
DTSTAMP:20260425T024642
CREATED:20200128T111027Z
LAST-MODIFIED:20200128T123035Z
UID:3862-1581843600-1581843600@www.kc-sentjernej.si
SUMMARY:Občni zbor Društva vinogradnikov Šentjernej
DESCRIPTION:Zaključeno
URL:https://www.kc-sentjernej.si/dogodek/obcni-zbor-drustva-vinogradnikov-sentjernej-2/
CATEGORIES:Zaključeno
END:VEVENT
BEGIN:VEVENT
DTSTART;TZID=Africa/Abidjan:20200218T150000
DTEND;TZID=Africa/Abidjan:20200218T163000
DTSTAMP:20260425T024642
CREATED:20200128T110108Z
LAST-MODIFIED:20200218T093049Z
UID:3852-1582038000-1582043400@www.kc-sentjernej.si
SUMMARY:Promocija zdravja – II. del
DESCRIPTION:ZD Novo mesto vabi na brezplačno predavanje PROMOCIJA ZDRAVJA – II. del.
URL:https://www.kc-sentjernej.si/dogodek/promocija-zdravja-drugi-del-ena/
CATEGORIES:Izobraževanje,Predavanje
ATTACH;FMTTYPE=image/jpeg:https://www.kc-sentjernej.si/wp-content/uploads/2020/01/promocija-zdravja2.jpg
END:VEVENT
BEGIN:VEVENT
DTSTART;TZID=Africa/Abidjan:20200218T170000
DTEND;TZID=Africa/Abidjan:20200218T183000
DTSTAMP:20260425T024642
CREATED:20200128T110055Z
LAST-MODIFIED:20200218T092957Z
UID:3859-1582045200-1582050600@www.kc-sentjernej.si
SUMMARY:Promocija zdravja – II. del
DESCRIPTION:ZD Novo mesto vabi na brezplačno predavanje PROMOCIJA ZDRAVJA – II. del.
URL:https://www.kc-sentjernej.si/dogodek/promocija-zdravja-drugi-del-dve/
CATEGORIES:Izobraževanje,Predavanje
ATTACH;FMTTYPE=image/jpeg:https://www.kc-sentjernej.si/wp-content/uploads/2020/01/promocija-zdravja2.jpg
END:VEVENT
BEGIN:VEVENT
DTSTART;TZID=Africa/Abidjan:20200220T190000
DTEND;TZID=Africa/Abidjan:20200220T190000
DTSTAMP:20260425T024642
CREATED:20200128T112741Z
LAST-MODIFIED:20200203T101832Z
UID:3864-1582225200-1582225200@www.kc-sentjernej.si
SUMMARY:Srečanje obrtnikov\, podjetnikov in poslovnih partnerjev
DESCRIPTION:Zaključeno.
URL:https://www.kc-sentjernej.si/dogodek/srecanje-obrtnikov-podjetnikov-in-poslovnih-partnerjev/
CATEGORIES:Zaključeno
END:VEVENT
BEGIN:VEVENT
DTSTART;TZID=Africa/Abidjan:20200220T190000
DTEND;TZID=Africa/Abidjan:20200220T190000
DTSTAMP:20260425T024642
CREATED:20200128T114509Z
LAST-MODIFIED:20200128T215358Z
UID:3866-1582225200-1582225200@www.kc-sentjernej.si
SUMMARY:Skupina za žalujoče
DESCRIPTION:Brezplačno v Knjižnici Šentjernej
URL:https://www.kc-sentjernej.si/dogodek/skupina-za-zalujoce-knjiznica-sentjernej/
LOCATION:Knjižnica Šentjernej
CATEGORIES:Predavanje
ATTACH;FMTTYPE=image/jpeg:https://www.kc-sentjernej.si/wp-content/uploads/2020/01/hospic.jpg
END:VEVENT
BEGIN:VEVENT
DTSTART;TZID=Africa/Abidjan:20200221T083000
DTEND;TZID=Africa/Abidjan:20200221T083000
DTSTAMP:20260425T024642
CREATED:20200128T115029Z
LAST-MODIFIED:20200128T215418Z
UID:3871-1582273800-1582273800@www.kc-sentjernej.si
SUMMARY:Bolj star\, bolj živ ...
DESCRIPTION:Orto klub DU Šentjernej vabi na brezplačno predavanje pod vodstvom Lizike Vardijan: BOLJ STAR\, BOLJ ŽIV… \nKnjižnica Šentjernej
URL:https://www.kc-sentjernej.si/dogodek/bolj-star-bolj-ziv-predavanje-knjiznica-sentjernej/
LOCATION:Knjižnica Šentjernej
CATEGORIES:Predavanje
ATTACH;FMTTYPE=image/jpeg:https://www.kc-sentjernej.si/wp-content/uploads/2020/01/orto-klub.jpg
END:VEVENT
BEGIN:VEVENT
DTSTART;TZID=Africa/Abidjan:20200222T080000
DTEND;TZID=Africa/Abidjan:20200222T150000
DTSTAMP:20260425T024642
CREATED:20200128T120045Z
LAST-MODIFIED:20200128T133008Z
UID:3867-1582358400-1582383600@www.kc-sentjernej.si
SUMMARY:Čustva nas učijo II
DESCRIPTION:Seminar z delavnicami \nVabljeni na seminar z delavnicami\, ki ga izvaja p. dr. Silvo Šinkovec\, kjer se boste naučili veliko novega o čustvih\, čustvovanju\, izražanju čustev\, smiselni uporabi informacij\, ki nam jih dajejo čustva… \nVsi močno doživljamo čustva\, pogosto pa ne vemo\, kako z njimi ravnati. Delavnice se lahko udeleži vsakdo\, tudi če se ni udeležil prvega dela. Vabljeni! \nIzvaja: p. Silvo Šinkovec \nKotizacija: 25 € \nPrijave: blagajna@kc-sentjernej.si ali 07/393 13 71 med 13.00 in 15.00 ob četrtkih do 16.00 \n \n  \n 
URL:https://www.kc-sentjernej.si/dogodek/custva-nas-ucija-ii-seminar-z-delavnicami/
CATEGORIES:Delavnica,Izobraževanje,Seminar
ATTACH;FMTTYPE=image/jpeg:https://www.kc-sentjernej.si/wp-content/uploads/2020/01/nasl-spl-2.jpg
END:VEVENT
BEGIN:VEVENT
DTSTART;TZID=Africa/Abidjan:20200222T180000
DTEND;TZID=Africa/Abidjan:20200222T180000
DTSTAMP:20260425T024642
CREATED:20200129T091929Z
LAST-MODIFIED:20200216T143435Z
UID:3916-1582394400-1582394400@www.kc-sentjernej.si
SUMMARY:Denali 2019 - smučarski spust z najvišje gore Amerike z Davom Karničarjem
DESCRIPTION:Planinsko društvo vabi na predavanje alpinista Borisa Repnika – Denali 2019:  smučarski spust z najvišje gore Amerike z Davom Karničarjem. \nBrezplačna udeležba. \n  \n  \n 
URL:https://www.kc-sentjernej.si/dogodek/denali-2019-boris-repnik/
CATEGORIES:izpostavljamo,Predavanje
ATTACH;FMTTYPE=image/jpeg:https://www.kc-sentjernej.si/wp-content/uploads/2020/01/nasl-spl-8.jpg
END:VEVENT
BEGIN:VEVENT
DTSTART;TZID=Africa/Abidjan:20200224T100000
DTEND;TZID=Africa/Abidjan:20200224T120000
DTSTAMP:20260425T024642
CREATED:20200128T121657Z
LAST-MODIFIED:20200212T082852Z
UID:3881-1582538400-1582545600@www.kc-sentjernej.si
SUMMARY:Počitniške ustvarjalnice
DESCRIPTION:POČITNIŠKE DELAVNICE ZA OTROKE \nPONEDELJEK IN TOREK\, 24. in 25. februar 2020 \nURNIK: 10.00-12-00 \nLOKACIJA: KC PRIMOŽA TRUBARJA ŠENTJERNEJ \n  \nMentorice: \nponedeljek\, 24. 2. 2020 – EVA MALALAN in DUŠANKA POŽGAJ (izdelava klobukov in ples s klobuki) \ntorek\, 25. 2. 2020 – GEA GERSTENHOFER in KLARA MAGIČ LUNEAI (poslikava obraza in pustni ples) \nDelavnice so primerne za osnovnošolske otroke. \nUdeležba na delavnicah je brezplačna\, potrebna je le predhodna e-prijava otrok. Rok prijave je sreda\, 19. februar 2020. \nE-prijavnico najdete na povezavi:  https://forms.gle/mi6YQeqMXFikZJDH6
URL:https://www.kc-sentjernej.si/dogodek/pocitniske-ustvarjalnice-prvi-dan/
CATEGORIES:Delavnica
ATTACH;FMTTYPE=image/jpeg:https://www.kc-sentjernej.si/wp-content/uploads/2020/01/jskd-otroci.jpg
END:VEVENT
BEGIN:VEVENT
DTSTART;TZID=Africa/Abidjan:20200225T100000
DTEND;TZID=Africa/Abidjan:20200225T120000
DTSTAMP:20260425T024642
CREATED:20200128T121700Z
LAST-MODIFIED:20200212T082913Z
UID:3882-1582624800-1582632000@www.kc-sentjernej.si
SUMMARY:Počitniške ustvarjalnice
DESCRIPTION:POČITNIŠKE DELAVNICE ZA OTROKE \nPONEDELJEK IN TOREK\, 24. in 25. februar 2020 \nURNIK: 10.00-12-00 \nLOKACIJA: KC PRIMOŽA TRUBARJA ŠENTJERNEJ \n  \nMentorice: \nponedeljek\, 24. 2. 2020 – EVA MALALAN in DUŠANKA POŽGAJ (izdelava klobukov in ples s klobuki) \ntorek\, 25. 2. 2020 – GEA GERSTENHOFER in KLARA MAGIČ LUNEAI (poslikava obraza in pustni ples) \nDelavnice so primerne za osnovnošolske otroke. \nUdeležba na delavnicah je brezplačna\, potrebna je le predhodna e-prijava otrok. Rok prijave je sreda\, 19. februar 2020. \nE-prijavnico najdete na povezavi:  https://forms.gle/mi6YQeqMXFikZJDH6
URL:https://www.kc-sentjernej.si/dogodek/pocitniske-ustvarjalnice-drugi-dan/
CATEGORIES:Delavnica
ATTACH;FMTTYPE=image/jpeg:https://www.kc-sentjernej.si/wp-content/uploads/2020/01/jskd-otroci.jpg
END:VEVENT
BEGIN:VEVENT
DTSTART;TZID=Africa/Abidjan:20200226T170000
DTEND;TZID=Africa/Abidjan:20200226T170000
DTSTAMP:20260425T024642
CREATED:20200128T120833Z
LAST-MODIFIED:20200128T123224Z
UID:3879-1582736400-1582736400@www.kc-sentjernej.si
SUMMARY:Ura pravljic in ustvarjalna delavnica
DESCRIPTION:Brezplačna udeležba.
URL:https://www.kc-sentjernej.si/dogodek/ura-pravljic-ustvarjalna-delavnica-februar-2020/
LOCATION:Knjižnica Šentjernej
CATEGORIES:Delavnica
ATTACH;FMTTYPE=image/jpeg:https://www.kc-sentjernej.si/wp-content/uploads/2019/11/Kopija-izdelka-naslovnica-4.jpg
END:VEVENT
BEGIN:VEVENT
DTSTART;TZID=Africa/Abidjan:20200227T130000
DTEND;TZID=Africa/Abidjan:20200227T160000
DTSTAMP:20260425T024642
CREATED:20200128T121057Z
LAST-MODIFIED:20200128T123237Z
UID:3877-1582808400-1582819200@www.kc-sentjernej.si
SUMMARY:Prodaja mesečnih vozovnic
DESCRIPTION:Prodajno mesto Šentjernej\, kulturni center Primoža Trubarja: \n\nčetrtek\, 27. 2. 2020: 13.00 – 16.00h\n\nProdaja subvencioniranih vozovnic se izvaja na prodajnem mestu na avtobusni postaji v Brežicah ter enkrat ali dvakrat mesečno na prodajnem mestu v Šentjerneju v kulturnem centru Primoža Trubarja.
URL:https://www.kc-sentjernej.si/dogodek/prodaja-mesecnih-vozovnic-za-marec-ijpp-sentjernej/
CATEGORIES:Prodaja vozovnic
ATTACH;FMTTYPE=image/jpeg:https://www.kc-sentjernej.si/wp-content/uploads/2019/11/Kopija-izdelka-naslovnica-5.jpg
END:VEVENT
END:VCALENDAR