BEGIN:VCALENDAR
VERSION:2.0
PRODID:-// - ECPv6.15.20//NONSGML v1.0//EN
CALSCALE:GREGORIAN
METHOD:PUBLISH
X-ORIGINAL-URL:https://www.kc-sentjernej.si
X-WR-CALDESC:Dogodki od 
REFRESH-INTERVAL;VALUE=DURATION:PT1H
X-Robots-Tag:noindex
X-PUBLISHED-TTL:PT1H
BEGIN:VTIMEZONE
TZID:Africa/Abidjan
BEGIN:STANDARD
TZOFFSETFROM:+0000
TZOFFSETTO:+0000
TZNAME:GMT
DTSTART:20180101T000000
END:STANDARD
END:VTIMEZONE
BEGIN:VEVENT
DTSTART;TZID=Africa/Abidjan:20191108T083000
DTEND;TZID=Africa/Abidjan:20191108T083000
DTSTAMP:20260422T220336
CREATED:20191025T115550Z
LAST-MODIFIED:20191025T115550Z
UID:2996-1573201800-1573201800@www.kc-sentjernej.si
SUMMARY:Plesi narave
DESCRIPTION:Orto klub DU Šentjernej vabi na brezplačno predavanje Marije Črv: PLESI NARAVE.
URL:https://www.kc-sentjernej.si/dogodek/plesi-narave/
CATEGORIES:Predavanje
ATTACH;FMTTYPE=image/jpeg:https://www.kc-sentjernej.si/wp-content/uploads/2019/10/plesi-narave.jpg
END:VEVENT
BEGIN:VEVENT
DTSTART;TZID=Africa/Abidjan:20191108T190000
DTEND;TZID=Africa/Abidjan:20191108T190000
DTSTAMP:20260422T220336
CREATED:20191025T105828Z
LAST-MODIFIED:20191025T110441Z
UID:2902-1573239600-1573239600@www.kc-sentjernej.si
SUMMARY:Martinov koncert
DESCRIPTION:Pevska skupina Fantje z vasi vabijo na priložnostni Martinov koncert\, kjer se bodo predstavili s svojim ljudskim petjem\, \nv goste pa so povabili Šentjernejski oktet\, pevke Mavrica in ljudske godce Fantje iz Lukarije. Vabljeni! \nVstopnice: 5 € \n 
URL:https://www.kc-sentjernej.si/dogodek/martinov-koncert-fantje-z-vasi/
CATEGORIES:Glasba
ATTACH;FMTTYPE=image/jpeg:https://www.kc-sentjernej.si/wp-content/uploads/2019/10/martinovkoncert-fb.jpg
END:VEVENT
BEGIN:VEVENT
DTSTART;TZID=Africa/Abidjan:20191111T180000
DTEND;TZID=Africa/Abidjan:20191111T180000
DTSTAMP:20260422T220336
CREATED:20191030T110118Z
LAST-MODIFIED:20191030T140423Z
UID:3092-1573495200-1573495200@www.kc-sentjernej.si
SUMMARY:Javna predstavitev izhodišč za pripravo občinskega podrobnega prostorskega načrta za razvoj območja med Levičnikovo cesto in Turopoljem
DESCRIPTION:Občina bo pred sprejetjem odločitve o pripravi občinskega podrobnega prostorskega načrta (OPPN) pripravila izhodišča za pripravo OPPN\, kot jih predpisuje 108. člen ZUreP-2. Za usklajevanje interesov javnosti\, občina pri oblikovanju izhodišč zagotovi sodelovanje zainteresirane javnosti v obliki zbiranja predlogov in pripomb. V ta namen se organizira javna predstavitev izhodišč za pripravo občinskega podrobnega prostorskega načrta za razvoj območja med Levičnikovo cesto in Turopoljem. \nObmočje ob obrtni coni severno od stanovanjskega naselja Turopolje do Levičnikove ceste\, je namenjeno sejmišču in je\, kljub že pred leti sprejetemu zazidalnemu načrtu\, ostalo večinoma še nepozidano in neurejeno. Glede na trend in izkušnje živinski del sejma ni več primeren in aktualen. Za oživitev preostalega sejma pa je potreben vnos novih programov\, ki bodo privabljali širšo starostno strukturo obiskovalcev (športne\, parkovne površine\, …). Obenem se je v prostoru pojavila pobuda za gradnjo centra zaščite in reševanja\, ki bi bila tudi vsebinsko povezana z večnamensko uporabo sejmiščnega prostora. Ti smotrni\, dopolnilni programi pa se zaradi strogega zazidalnega načrta ne morejo realizirati v prostoru. Zato je občina pristopila k  pripravi novega OPPN\, ki bo na delu obstoječega zazidalnega načrta le-tega razveljavil in omogočil umestitev novih\, bolj aktualnih programov v območje\, ob upoštevanju težnje po čim bolj razumni rabi prostora. \nJavna predstavitev izhodišč za pripravo občinskega podrobnega prostorskega načrta za razvoj območja med Levičnikovo cesto in Turopoljem bo 11.11.2019 ob 18. uri v Kulturnem centru Primoža Trubarja. \nVabljena zainteresirana javnost.
URL:https://www.kc-sentjernej.si/dogodek/javna-predstavitev-izhodisc-za-pripravo-obcinskega-podrobnega-prostorskega-nacrta-za-razvoj-obmocja-med-levicnikovo-cesto-in-turopoljem/
CATEGORIES:Predavanje
ATTACH;FMTTYPE=image/jpeg:https://www.kc-sentjernej.si/wp-content/uploads/2019/10/brezplačno-predavanje-1.jpg
END:VEVENT
BEGIN:VEVENT
DTSTART;TZID=Africa/Abidjan:20191112T180000
DTEND;TZID=Africa/Abidjan:20191112T180000
DTSTAMP:20260422T220336
CREATED:20191025T120321Z
LAST-MODIFIED:20191108T132421Z
UID:2999-1573581600-1573581600@www.kc-sentjernej.si
SUMMARY:Gutenwerd - srednjeveški trg
DESCRIPTION:Razstava o najdišču s panoji in predmeti. \nBrezplačna udeležba
URL:https://www.kc-sentjernej.si/dogodek/gutenwerd-srednjeveski-trg/
CATEGORIES:Razstava
ATTACH;FMTTYPE=image/jpeg:https://www.kc-sentjernej.si/wp-content/uploads/2019/10/plesi-narave-1.jpg
END:VEVENT
BEGIN:VEVENT
DTSTART;TZID=Africa/Abidjan:20191114T193000
DTEND;TZID=Africa/Abidjan:20191114T193000
DTSTAMP:20260422T220336
CREATED:20191025T090637Z
LAST-MODIFIED:20191028T215306Z
UID:2964-1573759800-1573759800@www.kc-sentjernej.si
SUMMARY:Nune v akciji
DESCRIPTION:KOMPLETNO ZMEŠANA GLASBENA KOMEDIJA \nProducent muzikalov Mamma Mia! in Briljantina Jurij Franko je s svojo produkcijsko hišo Prospot iz Radovljice\, za slovenske odrske deske pripravil še en veliki svetovni HIT – glasbeno komedijo Nune v akciji! \nNune v akciji! (v originalu Nunsense) je izjemno delo avtorja Dana Goggina\, ki je bilo premierno uprizorjeno decembra 1985 v gledališču Cherry Lane in je druga najdlje izvajana predstava na Off-Broadwayu. V zadnjih tridesetih letih je predstava postala pravi mednarodni fenomen\, saj je bila prevedena v več kot 26 jezikov in si jo je ogledala publika po vsem svetu. \nNune v akciji! je domiselna zgodba o petih redovnicah\, ki se znajdejo v denarnih težavah in so prisiljene pripraviti dobrodelni SHOW\, v katerem pa hoče biti vsaka od njih prva zvezda. V nizu nenavadnih situacij se redovnice pokažejo v povsem drugačni luči\, kot smo jih vajeni. V soju reflektorjev ob petju\, plesu in smehu vsaka posebej in vse skupaj zažarijo na čisto samosvoj način. \nV slovenski različici nastopajo vrhunska slovenska umetniška imena\, ki obiskovalce navdušujejo tudi v najbolj obiskanem muzikalu v Sloveniji vseh časov: Mamma Mia!\nGojmir Lešnjak – Gojc\, Simona Vodopivec – Franko\, Alenka Godec\, Marjan Bunič in Lea Bartha Pesek. Kot glasbeni vodja in instrumentalist pri predstavi sodeluje Miran Juvan. \nPredstava\, v kateri bo vsak našel košček samega sebe in ekipa\, ki vas bo prepričala\, da je vsak od nas lahko Svetnik. \nNune v akciji! je pripravila kreativna ekipa:\nProducent: Jurij Franko\nRežija: Jaša Jamnik\nPrevod in priredba: Drago Mislej – Mef in Marjan Bunič\nKoreografija: Matevž Česen\nScenografija: Jože Logar\nKostumografija: Andrej Vrhovnik \nTehnična izvedba: Demo produkcija\nOblikovanje luči: Kristjan Vidner\nOblikovanje zvoka: Damir Rapić\, Primož Vozelj\, Marko Turel\nIzdelava scenografije: Demo produkcija \nProdukcija: Prospot d.o.o. \n  \nVstopnice: 22\,50 € / 18 € (balkon) predprodaja do 6. 11. ; nato 25 € / 20 € (balkon) \nNa voljo na blagajni KCPT in Eventim prodajnih mestih (tudi na spletu – TUKAJ)
URL:https://www.kc-sentjernej.si/dogodek/nune-v-akciji-kompletno-zmesana-glasbena-komedija/
CATEGORIES:Glasba,Gledališče,Izven
ATTACH;FMTTYPE=image/jpeg:https://www.kc-sentjernej.si/wp-content/uploads/2019/10/NUNE-V-AKCIJI.jpg
END:VEVENT
BEGIN:VEVENT
DTSTART;TZID=Africa/Abidjan:20191115T083000
DTEND;TZID=Africa/Abidjan:20191115T083000
DTSTAMP:20260422T220336
CREATED:20191025T130219Z
LAST-MODIFIED:20191025T130258Z
UID:3009-1573806600-1573806600@www.kc-sentjernej.si
SUMMARY:Maroko
DESCRIPTION:Orto klub DU Šentjernej vabi na potopisno predavanje Marije in Andreja Zupanc: MAROKO \nBrezplačna udeležba.
URL:https://www.kc-sentjernej.si/dogodek/maroko-potopisno-predavanje/
CATEGORIES:Predavanje
ATTACH;FMTTYPE=image/jpeg:https://www.kc-sentjernej.si/wp-content/uploads/2019/10/dogodki-november.jpg
END:VEVENT
BEGIN:VEVENT
DTSTART;TZID=Africa/Abidjan:20191119T180000
DTEND;TZID=Africa/Abidjan:20191119T180000
DTSTAMP:20260422T220336
CREATED:20191025T123644Z
LAST-MODIFIED:20191114T155249Z
UID:3005-1574186400-1574186400@www.kc-sentjernej.si
SUMMARY:Forum za razvoj turizma občine Šentjernej 2019 – 2029
DESCRIPTION:Občina Šentjernej vabi na FORUM ZA RAZVOJ TURIZMA OBČINE ŠENTJERNEJ 2019 – 2029. \nBrezplačna udeležba.
URL:https://www.kc-sentjernej.si/dogodek/forum-razvoj-turizma-sentjernej-2019-2029/
CATEGORIES:Predavanje
ATTACH;FMTTYPE=image/jpeg:https://www.kc-sentjernej.si/wp-content/uploads/2019/10/dogodki-november-jpg.jpg
END:VEVENT
BEGIN:VEVENT
DTSTART;TZID=Africa/Abidjan:20191120T170000
DTEND;TZID=Africa/Abidjan:20191120T170000
DTSTAMP:20260422T220336
CREATED:20191025T075408Z
LAST-MODIFIED:20191025T104611Z
UID:2941-1574269200-1574269200@www.kc-sentjernej.si
SUMMARY:Čarobni potoček
DESCRIPTION:Glasbeno – lutkovna predstava \nAVTORICA Melita Osojnik / E. Farjeon \nPRODUKCIJA Glasbeno gledališče Melite Osojnik \nREŽIJA IN IGRA Melita Osojnik \nSCENA IN LUTKE Gabrijela Bodlaj \nIda je deklica\, ki ima skoraj vse kar si želi\, le prijateljev nima\, da bi se z njimi igrala. Nekega dne se domisli\, da bi v potoček\, ki teče mimo hiše\, vrgla žogico\, spustila ladjico ali listke marjetice. Morda pa jih kdo najde in se pride k njej igrat. O\, kako bi bilo to lepo! Morda pa bi drug drugega še česa naučili … \nPRIMERNO ZA STAROST 3+ \nTRAJANJE 35 minut \nFotografije in video napovednik predstave TUKAJ. \nVstopnice: 5 €
URL:https://www.kc-sentjernej.si/dogodek/carobni-potocek-otroski-abonma/
CATEGORIES:Izven,Otroški abonma
ATTACH;FMTTYPE=image/png:https://www.kc-sentjernej.si/wp-content/uploads/2019/10/Otroški-abonma-19-20.png
END:VEVENT
BEGIN:VEVENT
DTSTART;TZID=Africa/Abidjan:20191121T180000
DTEND;TZID=Africa/Abidjan:20191121T180000
DTSTAMP:20260422T220336
CREATED:20191025T131432Z
LAST-MODIFIED:20191118T144118Z
UID:3018-1574359200-1574359200@www.kc-sentjernej.si
SUMMARY:Zdravilna moč začimb
DESCRIPTION:Sodoben čas prinaša tudi vse več zdravstvenih težav\, s katerimi naši predniki niso imeli veliko opravka. Vse bolj odporne bakterije\, motnje pozornosti\, propadanje živčevja\, depresije\, alergije\, diabetes …  niso več bolezni zgolj tretjega življenjskega obdobja. Dolgoročno jemanje močnih sinteznih zdravil s številnimi stranskimi učinki ne bo modra rešitev. Ali poznamo kaj boljšega? Seveda … že tisočletje! \nO zdravilni moči začimb bo predavala Sabina Topolovec\, soavtorica trilogije o začimbah Ščepec in avtorica knjige Zdravilna moč začimb za otroke. \nBrezplačno predavanje. \n \n 
URL:https://www.kc-sentjernej.si/dogodek/zdravilna-moc-zacimb/
CATEGORIES:Predavanje
ATTACH;FMTTYPE=image/jpeg:https://www.kc-sentjernej.si/wp-content/uploads/2019/10/dogodki-november-1.jpg
END:VEVENT
BEGIN:VEVENT
DTSTART;TZID=Africa/Abidjan:20191122T083000
DTEND;TZID=Africa/Abidjan:20191122T083000
DTSTAMP:20260422T220336
CREATED:20191025T122255Z
LAST-MODIFIED:20191025T122255Z
UID:3002-1574411400-1574411400@www.kc-sentjernej.si
SUMMARY:Srednjeveški trg Otok\, poznejši freisinški Gutenwerth\, danes pa kraj Drama
DESCRIPTION:Orto klub DU Šentjernej vabi na brezplačno VODENJE PO RAZSTAVI z naslovom: Srednjeveški trg OTOK\, poznejši freisinški GUTENWERTH\, danes pa kraj DRAMA na kateri bodo predstavili obsežna arheološka raziskovanja. \nBrezplačna udeležba.
URL:https://www.kc-sentjernej.si/dogodek/otok-gutenwert-drama-razstava/
CATEGORIES:Razstava
ATTACH;FMTTYPE=image/jpeg:https://www.kc-sentjernej.si/wp-content/uploads/2019/10/otok-gutenwerth-drama.jpg
END:VEVENT
BEGIN:VEVENT
DTSTART;TZID=Africa/Abidjan:20191123T190000
DTEND;TZID=Africa/Abidjan:20191123T190000
DTSTAMP:20260422T220336
CREATED:20191025T133555Z
LAST-MODIFIED:20191112T141641Z
UID:3024-1574535600-1574535600@www.kc-sentjernej.si
SUMMARY:Praznovanje ob 40-letnici zbora
DESCRIPTION:Mešani pevski zbor Vlaste Tavčar Šentjernej prijazno vabi na jubilejni koncert ob 40-letnici delovanja\, »OSTANIMO PRIJATELJI…«. Praznovali bomo skupaj z našimi gosti in prijatelji: glasbena skupina Ješča vešča\, Šentjernejski oktet\, vokalna skupina Gorjanski spev\, MePZ Ajda Orehovica. Ob tem dogodku\, bomo v spomin učiteljici\, igralki\, režiserki in lutkarici Vlasti Tavčar\, v sodelovanju z Dolenjskim muzejem in OŠ Šentjernej pripravili razstavo lutk.\nPrisrčno vabljeni! \nBrezplačne vstopnice / prostovoljni prispevki
URL:https://www.kc-sentjernej.si/dogodek/praznovanje-40-letnice-zbora-mepz-vlaste-tavcar/
CATEGORIES:Glasba
ATTACH;FMTTYPE=image/png:https://www.kc-sentjernej.si/wp-content/uploads/2019/10/Izdelek-brez-naslova-2.png
END:VEVENT
BEGIN:VEVENT
DTSTART;TZID=Africa/Abidjan:20191124T150000
DTEND;TZID=Africa/Abidjan:20191124T150000
DTSTAMP:20260422T220336
CREATED:20191025T103451Z
LAST-MODIFIED:20191028T214351Z
UID:2973-1574607600-1574607600@www.kc-sentjernej.si
SUMMARY:25 let Ansambla Frančič
DESCRIPTION:KONCERT OB 25. OBLETNICI ANSAMBLA FRANČIČ \nAnsambel Frančič vabi na praznovanje 25 letnice delovanja. \nNa koncertu narodno-zabavne glasbe se bodo praznovanju pridružili prijatelji družine Frančiči: \n\nansambel Petra Finka\,\nansambel Prava stvar\nansambel Nebo\nansambel Andreja Bajuka.\n\nVoditelj in humorist srečanja bo gasilec SAŠO!\nObiskovalci po koncertu prejmejo novi CD ansambla FRANČIČ. Vabljeni! \nVstopnice: 10 €
URL:https://www.kc-sentjernej.si/dogodek/25-let-ansambla-francic/
CATEGORIES:Glasba
ATTACH;FMTTYPE=image/jpeg:https://www.kc-sentjernej.si/wp-content/uploads/2019/10/FB-Event-coverimage-01-jpg.jpg
END:VEVENT
BEGIN:VEVENT
DTSTART;TZID=Africa/Abidjan:20191124T180000
DTEND;TZID=Africa/Abidjan:20191124T180000
DTSTAMP:20260422T220336
CREATED:20191108T094006Z
LAST-MODIFIED:20191108T094433Z
UID:3179-1574618400-1574618400@www.kc-sentjernej.si
SUMMARY:25 let Ansambla Frančič - dodatni koncert
DESCRIPTION:KONCERT OB 25. OBLETNICI ANSAMBLA FRANČIČ \nAnsambel Frančič vabi na praznovanje 25 letnice delovanja. \nNa koncertu narodno-zabavne glasbe se bodo praznovanju pridružili prijatelji družine Frančiči: \n\nansambel Petra Finka\,\nansambel Prava stvar\nansambel Nebo\nansambel Andreja Bajuka.\n\nVoditelj in humorist srečanja bo gasilec SAŠO!\nObiskovalci po koncertu prejmejo novi CD ansambla FRANČIČ. Vabljeni! \nVstopnice: 10 €
URL:https://www.kc-sentjernej.si/dogodek/25-let-ansambla-francic-dodatni-koncert/
CATEGORIES:Glasba
END:VEVENT
BEGIN:VEVENT
DTSTART;TZID=Africa/Abidjan:20191125T180000
DTEND;TZID=Africa/Abidjan:20191125T180000
DTSTAMP:20260422T220336
CREATED:20191025T133849Z
LAST-MODIFIED:20191025T133849Z
UID:3028-1574704800-1574704800@www.kc-sentjernej.si
SUMMARY:Srečanje krvodajalcev jubilantov
DESCRIPTION:Zaključeno.
URL:https://www.kc-sentjernej.si/dogodek/srecanje-krvodajalcev-jubilantov-2/
CATEGORIES:Zaključeno
END:VEVENT
BEGIN:VEVENT
DTSTART;TZID=Africa/Abidjan:20191126T180000
DTEND;TZID=Africa/Abidjan:20191126T180000
DTSTAMP:20260422T220336
CREATED:20191025T135044Z
LAST-MODIFIED:20191108T093005Z
UID:3032-1574791200-1574791200@www.kc-sentjernej.si
SUMMARY:Radosti in pasti sodobne tehnologije
DESCRIPTION:OŠ Šentjernej vabi na brezplačno predavanje RADOSTI IN PASTI SODOBNE TEHNOLOGIJE\, ki ga bo vodil dr. Miha Kramli. \nBrezplačne vstopnice \n  \n \n 
URL:https://www.kc-sentjernej.si/dogodek/radosti-in-pasti-sodobne-tehnologije/
CATEGORIES:Predavanje
ATTACH;FMTTYPE=image/jpeg:https://www.kc-sentjernej.si/wp-content/uploads/2019/10/dogodki-november-2.jpg
ORGANIZER;CN="O%C5%A0 %C5%A0entjernej":MAILTO:os.sentjernej@guest.arnes.si
END:VEVENT
BEGIN:VEVENT
DTSTART;TZID=Africa/Abidjan:20191128T083000
DTEND;TZID=Africa/Abidjan:20191128T083000
DTSTAMP:20260422T220336
CREATED:20191030T134643Z
LAST-MODIFIED:20191030T153908Z
UID:3094-1574929800-1574929800@www.kc-sentjernej.si
SUMMARY:Skrb za zdravje v pozni menopavzi - ginekološki pregledi še vedno potrebni
DESCRIPTION:Orto klub vabi na predavanje dr. Jasne Kostanjšek z naslovom: Skrb za zdravje v pozni menopavzi – ginekološki pregledi še vedno potrebni. \nUdeležba je brezplačna.
URL:https://www.kc-sentjernej.si/dogodek/skrb-za-zdravje-v-pozni-menopavzi/
CATEGORIES:Predavanje
ATTACH;FMTTYPE=image/jpeg:https://www.kc-sentjernej.si/wp-content/uploads/2019/10/brezplačno-predavanje.jpg
END:VEVENT
BEGIN:VEVENT
DTSTART;TZID=Africa/Abidjan:20191128T130000
DTEND;TZID=Africa/Abidjan:20191128T160000
DTSTAMP:20260422T220336
CREATED:20191025T134243Z
LAST-MODIFIED:20191025T134243Z
UID:3030-1574946000-1574956800@www.kc-sentjernej.si
SUMMARY:Prodaja mesečnih vozovnic
DESCRIPTION:Prodajno mesto Šentjernej\, kulturni center Primoža Trubarja: \n\nčetrtek\, 28. 11. 2019: 13.00 – 16.00h\n\nProdaja subvencioniranih vozovnic se izvaja na prodajnem mestu na avtobusni postaji v Brežicah ter enkrat ali dvakrat mesečno na prodajnem mestu v Šentjerneju v kulturnem centru Primoža Trubarja.
URL:https://www.kc-sentjernej.si/dogodek/prodaja-mesecnih-vozovnic-december-2/
CATEGORIES:Prodaja vozovnic
ATTACH;FMTTYPE=image/jpeg:https://www.kc-sentjernej.si/wp-content/uploads/2018/10/ijpp-sta.jpg
END:VEVENT
BEGIN:VEVENT
DTSTART;TZID=Africa/Abidjan:20191128T163000
DTEND;TZID=Africa/Abidjan:20191128T163000
DTSTAMP:20260422T220336
CREATED:20191025T140137Z
LAST-MODIFIED:20191028T112223Z
UID:3037-1574958600-1574958600@www.kc-sentjernej.si
SUMMARY:Praznični zvezdogled z bazarjem
DESCRIPTION:Vrtec Čebelica Šentjernej tudi letos organizira Praznični zvezdogled z bazarjem. \nBrezplačne vstopnice na voljo na blagajni kulturnega centra.
URL:https://www.kc-sentjernej.si/dogodek/praznicni-zvezdogled-z-bazarjem-1/
CATEGORIES:Glasba,Ples
ATTACH;FMTTYPE=image/jpeg:https://www.kc-sentjernej.si/wp-content/uploads/2019/10/dogodki-november-3.jpg
END:VEVENT
BEGIN:VEVENT
DTSTART;TZID=Africa/Abidjan:20191128T180000
DTEND;TZID=Africa/Abidjan:20191128T180000
DTSTAMP:20260422T220336
CREATED:20191025T140119Z
LAST-MODIFIED:20191028T112236Z
UID:3036-1574964000-1574964000@www.kc-sentjernej.si
SUMMARY:Praznični zvezdogled z bazarjem
DESCRIPTION:Vrtec Čebelica Šentjernej tudi letos organizira Praznični zvezdogled z bazarjem. \nBrezplačne vstopnice na voljo na blagajni kulturnega centra.
URL:https://www.kc-sentjernej.si/dogodek/praznicni-zvezdogled-z-bazarjem-2/
CATEGORIES:Glasba,Ples
ATTACH;FMTTYPE=image/jpeg:https://www.kc-sentjernej.si/wp-content/uploads/2019/10/dogodki-november-3.jpg
END:VEVENT
BEGIN:VEVENT
DTSTART;TZID=Africa/Abidjan:20191130T170000
DTEND;TZID=Africa/Abidjan:20191130T170000
DTSTAMP:20260422T220336
CREATED:20191025T141626Z
LAST-MODIFIED:20191126T204253Z
UID:3042-1575133200-1575133200@www.kc-sentjernej.si
SUMMARY:V hribih se dela dan
DESCRIPTION:Šentjernejski oktet vabi na tradicionalni koncert\, ki bo letos nekoliko presenečal. Pripravili so bogat repertoar in povabili zanimive goste. \nPoleg gostiteljev bodo nastopili Simona Hudoklin\, Kataya\, Orkester Ave in Oto Pestner! \nVstopnice: 5 € \n  \n\ndrugi koncert ob 19.30
URL:https://www.kc-sentjernej.si/dogodek/v-hribih-se-dela-dan-koncert-sentjernejskega-okteta/
CATEGORIES:Glasba
ATTACH;FMTTYPE=image/png:https://www.kc-sentjernej.si/wp-content/uploads/2019/10/V-HrIBIH-SE-DELA-DAN.png
END:VEVENT
BEGIN:VEVENT
DTSTART;TZID=Africa/Abidjan:20191130T193000
DTEND;TZID=Africa/Abidjan:20191130T193000
DTSTAMP:20260422T220336
CREATED:20191028T104646Z
LAST-MODIFIED:20191126T204155Z
UID:3047-1575142200-1575142200@www.kc-sentjernej.si
SUMMARY:V hribih se dela dan
DESCRIPTION:Šentjernejski oktet vabi na tradicionalni koncert\, ki bo letos nekoliko presenečal. Pripravili so bogat repertoar in povabili zanimive goste. \nPoleg gostiteljev bodo nastopili Simona Hudoklin\, Kataya\, Orkester Ave in Oto Pestner! \nVstopnice: 5 € \n  \n\nprvi koncert ob 17.00
URL:https://www.kc-sentjernej.si/dogodek/v-hribih-se-dela-dan-koncert-sentjernejskega-okteta-2/
CATEGORIES:Glasba
ATTACH;FMTTYPE=image/png:https://www.kc-sentjernej.si/wp-content/uploads/2019/10/V-HrIBIH-SE-DELA-DAN.png
END:VEVENT
BEGIN:VEVENT
DTSTART;TZID=Africa/Abidjan:20191206T083000
DTEND;TZID=Africa/Abidjan:20191206T083000
DTSTAMP:20260422T220336
CREATED:20191126T184958Z
LAST-MODIFIED:20191126T190434Z
UID:3258-1575621000-1575621000@www.kc-sentjernej.si
SUMMARY:Izdelava voščilnic
DESCRIPTION:Orto klub vabi na delavnico izdelave voščilnic\, ki jo bo vodila Sandra Ulčnik Gruban. \nBrezplačna udeležba
URL:https://www.kc-sentjernej.si/dogodek/izdelava-voscilnic/
CATEGORIES:Delavnica
ATTACH;FMTTYPE=image/jpeg:https://www.kc-sentjernej.si/wp-content/uploads/2019/11/naslovnica-2.jpg
END:VEVENT
BEGIN:VEVENT
DTSTART;TZID=Africa/Abidjan:20191206T100000
DTEND;TZID=Africa/Abidjan:20191206T140000
DTSTAMP:20260422T220336
CREATED:20191105T095209Z
LAST-MODIFIED:20191130T102220Z
UID:3132-1575626400-1575640800@www.kc-sentjernej.si
SUMMARY:5. državno ocenjevanje in razstava potic - sprejem vzorcev
DESCRIPTION:Program: \n\nPetek\, 6. 12. 2019 od 10.00 do 14.00 – Sprejem vzorcev\nSobota\, 7. 12.2019 od 9.00 do 20.00 – Razstava potic\nNedelja\, 8. 12. 2019 od 7.30 do 14.00 – Razstava potic  in ob 14.00 Slavnostna podelitev priznanj s kulturnim programom in pogostitvijo\n\n  \n  \n  \n  \n  \n  \n  \n\n			\n				\n			\n				\n				Razpisni pogoji_potice 2019\n				\n			\n				\n			\n				\n				Prijavni list_potice 2019
URL:https://www.kc-sentjernej.si/dogodek/5-drzavno-ocenjevanje-potic-sprejem-vzorcev/
CATEGORIES:Razstava
ATTACH;FMTTYPE=image/jpeg:https://www.kc-sentjernej.si/wp-content/uploads/2019/11/naslovnica-1.jpg
END:VEVENT
BEGIN:VEVENT
DTSTART;TZID=Africa/Abidjan:20191207T090000
DTEND;TZID=Africa/Abidjan:20191207T200000
DTSTAMP:20260422T220336
CREATED:20191105T095145Z
LAST-MODIFIED:20191130T102337Z
UID:3133-1575709200-1575748800@www.kc-sentjernej.si
SUMMARY:5. državno ocenjevanje in razstava potic - razstava potic
DESCRIPTION:Program: \n\nPetek\, 6. 12. 2019 od 10.00 do 14.00 – Sprejem vzorcev\nSobota\, 7. 12.2019 od 9.00 do 20.00 – Razstava potic\nNedelja\, 8. 12. 2019 od 7.30 do 14.00 – Razstava potic  in ob 14.00 Slavnostna podelitev priznanj s kulturnim programom in pogostitvijo\n\n  \n  \n  \n  \n  \n  \n  \n\n			\n				\n			\n				\n				Razpisni pogoji_potice 2019\n				\n			\n				\n			\n				\n				Prijavni list_potice 2019
URL:https://www.kc-sentjernej.si/dogodek/5-drzavno-ocenjevanje-in-razstava-potic-razstava-potic/
CATEGORIES:Razstava
ATTACH;FMTTYPE=image/jpeg:https://www.kc-sentjernej.si/wp-content/uploads/2019/11/naslovnica-1.jpg
END:VEVENT
BEGIN:VEVENT
DTSTART;TZID=Africa/Abidjan:20191207T193000
DTEND;TZID=Africa/Abidjan:20191207T193000
DTSTAMP:20260422T220336
CREATED:20191126T193721Z
LAST-MODIFIED:20191207T143957Z
UID:3267-1575747000-1575747000@www.kc-sentjernej.si
SUMMARY:Addamsovi
DESCRIPTION:GLEDALIŠKI ABONMA – OGLED PREDSTAVE V LJUBLJANI – organiziran prevoz izpred kulturnega centra \nMuzikal – komedija \nAVTORJI Marshall Brickman\, Rick Elice\, Andrew Lippa\nPRODUKCIJA Mestno gledališče ljubljansko \nREŽIJA Aleksandar Popovski \nIGRAJO\nMorticija Addams Iva Krajnc Bagola\nGomez Addams Uroš Smolej\nSreda Addams Viktorija Bencik Emeršič\nBucko Addams Jurij Weiss k. g.\nGnoj Addams Jaka Lah\nBabica Addams Nataša Tič Ralijan\nKrč Filip Samobor\nPredniki Addams Gašper Jarni\, Tanja Dimitrievska\, Sara Gorše k. g.\, Lina Akif k. g.\, Gaber K. Trseglav / Rok Prašnikar k. g.\nAlenka Krneki Barbara Ribnikar k. g. / Lena Hribar k. g.\nJan Krneki Robert Korošec k. g.\nLukas Krneki Matic Lukšič \nGlasbo na posnetkih izvajajo Barbara Gradišek\, Matej Kužel\, Miha Petric\, Luka Ipavec\, Lazaro A. H. Zumeta\, Žiga Kožar\, Jan Gregorka in Laren Polič Zdravič. \nAddamsovi so strašni in srhljivi. Skrivnostni in odbiti. Muzikal Addamsovi prikazuje srečanje družine Addams in družine Krneki. \nSreda Addams  je odraščajoča mlada ženska\, ki je spoznala fanta Lukasa\, s katerim sta se zaljubila in se želita poročiti. Tako je napočil čas\, da se njuni družini spoznata. Toda Lukasova družina je »normalna«. Čudaška in srhljiva\, vendar tudi nadvse zabavna družina Addams povabi konvencionalno družino Krneki na večerjo\, med preigravanji besed pa pride do igre – Kelih resnice. Napetost med posamezniki raste\, saj mora vsak o sebi povedati skrivnost … Odličen muzikal v Mestnem gledališču ljubljanskem\, ki bo znova navduševal! \nFotografije in video napovednik predstave TUKAJ. \n \nInformacije o odhodu v Ljubljano z organiziranim avtobusnim prevozom – na blagajni KCPT.
URL:https://www.kc-sentjernej.si/dogodek/addamsovi-gledaliski-abonma-ljubljana/
CATEGORIES:Abonmaji,Gledališki abonma,izpostavljamo
ATTACH;FMTTYPE=image/jpeg:https://www.kc-sentjernej.si/wp-content/uploads/2019/11/add-nasl.jpg
END:VEVENT
BEGIN:VEVENT
DTSTART;TZID=Africa/Abidjan:20191208T073000
DTEND;TZID=Africa/Abidjan:20191208T140000
DTSTAMP:20260422T220336
CREATED:20191105T095133Z
LAST-MODIFIED:20191130T102216Z
UID:3134-1575790200-1575813600@www.kc-sentjernej.si
SUMMARY:5. državno ocenjevanje in razstava potic - razstava potic
DESCRIPTION:Program: \n\nPetek\, 6. 12. 2019 od 10.00 do 14.00 – Sprejem vzorcev\nSobota\, 7. 12.2019 od 9.00 do 20.00 – Razstava potic\nNedelja\, 8. 12. 2019 od 7.30 do 14.00 – Razstava potic  in ob 14.00 Slavnostna podelitev priznanj s kulturnim programom in pogostitvijo\n\n  \n  \n  \n  \n  \n  \n  \n\n			\n				\n			\n				\n				Razpisni pogoji_potice 2019\n				\n			\n				\n			\n				\n				Prijavni list_potice 2019
URL:https://www.kc-sentjernej.si/dogodek/5-drzavno-ocenjevanje-in-razstava-potic-nedelja/
CATEGORIES:Razstava
ATTACH;FMTTYPE=image/jpeg:https://www.kc-sentjernej.si/wp-content/uploads/2019/11/naslovnica-1.jpg
END:VEVENT
BEGIN:VEVENT
DTSTART;TZID=Africa/Abidjan:20191208T140000
DTEND;TZID=Africa/Abidjan:20191208T140000
DTSTAMP:20260422T220336
CREATED:20191105T092620Z
LAST-MODIFIED:20191126T191238Z
UID:3129-1575813600-1575813600@www.kc-sentjernej.si
SUMMARY:5. državno ocenjevanje in razstava potic - Slavnostna podelitev priznanj s kulturnim programom
DESCRIPTION:Program: \n\nPetek\, 6. 12. 2019 od 10.00 do 14.00 – Sprejem vzorcev\nSobota\, 7. 12.2019 od 9.00 do 20.00 – Razstava potic\nNedelja\, 8. 12. 2019 od 7.30 do 14.00 – Razstava potic  in ob 14.00 Slavnostna podelitev priznanj s kulturnim programom in pogostitvijo\n\n 
URL:https://www.kc-sentjernej.si/dogodek/5-drzavno-ocenjevanje-potic-podelitev/
CATEGORIES:Razstava
ATTACH;FMTTYPE=image/jpeg:https://www.kc-sentjernej.si/wp-content/uploads/2019/11/naslovnica-1.jpg
END:VEVENT
BEGIN:VEVENT
DTSTART;TZID=Africa/Abidjan:20191210T170000
DTEND;TZID=Africa/Abidjan:20191210T170000
DTSTAMP:20260422T220336
CREATED:20191120T232748Z
LAST-MODIFIED:20191208T093647Z
UID:3235-1575997200-1575997200@www.kc-sentjernej.si
SUMMARY:Žabec pozimi
DESCRIPTION:OTROŠKI ABONMA IN IZVEN \nIgrano – lutkovna predstava \nKOPRODUKCIJA Lutkovno gledališče Fru Fru in Hiša otrok in umetnosti \nAVTOR Max Velthuijs \nPRIREDBA\, SCENARIJ IN REŽIJA Irena Rajh \nIGRATA Ana Špik in Boštjan Oder \nNekega jutra žabca preseneti sneg. Ne razume zakaj je vse pokrito z belo odejo\, močno ga zebe\, drsi mu na zaledenelem ribniku in ne more razumeti\, zakaj se njegovi prijatelji tako veselijo drsanja in kepanja. Ko skoraj zmrzne v snegu\, pa mu prijatelji priskočijo na pomoč …\nPo lutkovni uspešnici Zaljubljeni žabec iz bogate zbirke kratkih zgodb Maxa Velthuijsa\, prihaja na lutkovni oder nova zgodba z novimi preizkušnjami za naše junake\, ki bogatijo vezi med njimi.\nOdlična predstava\, primerna za praznične zimske dni! \nPRIMERNO ZA STAROST 3+ \nTRAJANJE 35 minut \nFotografije in video napovednik predstave TUKAJ. \nVstopnice: 5 €
URL:https://www.kc-sentjernej.si/dogodek/zabec-pozimi-otroski-abonma/
CATEGORIES:Abonmaji,izpostavljamo,Izven,Otroški abonma
ATTACH;FMTTYPE=image/jpeg:https://www.kc-sentjernej.si/wp-content/uploads/2019/11/žabec-pozim.jpg
END:VEVENT
BEGIN:VEVENT
DTSTART;TZID=Africa/Abidjan:20191212T180000
DTEND;TZID=Africa/Abidjan:20191212T180000
DTSTAMP:20260422T220336
CREATED:20191126T203118Z
LAST-MODIFIED:20191130T102104Z
UID:3281-1576173600-1576173600@www.kc-sentjernej.si
SUMMARY:Konopljina čajanka
DESCRIPTION:Knjižnica Šentjernej vabi na predavanje Lenarta Vrindavana: KONOPLJINA ČAJANKA \nBrezplačna udeležba.
URL:https://www.kc-sentjernej.si/dogodek/konopljina-cajanka-knjiznica-sentjernej/
CATEGORIES:Predavanje
ATTACH;FMTTYPE=image/jpeg:https://www.kc-sentjernej.si/wp-content/uploads/2019/11/naslovnica-2-1.jpg
END:VEVENT
BEGIN:VEVENT
DTSTART;TZID=Africa/Abidjan:20191212T180000
DTEND;TZID=Africa/Abidjan:20191212T180000
DTSTAMP:20260422T220336
CREATED:20191126T203223Z
LAST-MODIFIED:20191205T190634Z
UID:3280-1576173600-1576173600@www.kc-sentjernej.si
SUMMARY:Svet je kakor ringaraja
DESCRIPTION:OŠ Šentjernej vabi na likovno razstavo učencev razredne stopnje z naslovom Svet je kakor ringaraja. \nUdeležba je brezplačna.
URL:https://www.kc-sentjernej.si/dogodek/svet-je-kakor-ringaraja-razstava/
CATEGORIES:Razstava
ATTACH;FMTTYPE=image/jpeg:https://www.kc-sentjernej.si/wp-content/uploads/2019/11/naslovnica-1-1.jpg
ORGANIZER;CN="O%C5%A0 %C5%A0entjernej":MAILTO:os.sentjernej@guest.arnes.si
END:VEVENT
END:VCALENDAR