BEGIN:VCALENDAR
VERSION:2.0
PRODID:-// - ECPv6.15.20//NONSGML v1.0//EN
CALSCALE:GREGORIAN
METHOD:PUBLISH
X-ORIGINAL-URL:https://www.kc-sentjernej.si
X-WR-CALDESC:Dogodki od 
REFRESH-INTERVAL;VALUE=DURATION:PT1H
X-Robots-Tag:noindex
X-PUBLISHED-TTL:PT1H
BEGIN:VTIMEZONE
TZID:Africa/Abidjan
BEGIN:STANDARD
TZOFFSETFROM:+0000
TZOFFSETTO:+0000
TZNAME:GMT
DTSTART:20180101T000000
END:STANDARD
END:VTIMEZONE
BEGIN:VEVENT
DTSTART;TZID=Africa/Abidjan:20190829T080000
DTEND;TZID=Africa/Abidjan:20190829T120000
DTSTAMP:20260421T165608
CREATED:20190814T111537Z
LAST-MODIFIED:20190814T111537Z
UID:2634-1567065600-1567080000@www.kc-sentjernej.si
SUMMARY:Prodaja mesečnih vozovnic
DESCRIPTION:Integral Brežice obvešča! \nURNIK PRODAJE SUBVENIONIRANIH VOZOVNIC ZA ŠOLSKO LETO 2019-2020 \nProdajno mesto Šentjernej\, kulturni center Primoža Trubarja:\n➡️sreda 28.8.2019: 8.00 – 14.00\n➡️četrtek\, 29.8.2019: 8.00 – 12.00 \n\nVeč informacij na njihovi spletni strani:\nhttp://www.integral-brebus.si/mesecne-vozovnice
URL:https://www.kc-sentjernej.si/dogodek/prodaja-mesecnih-vozovnic-4/
CATEGORIES:Prodaja vozovnic
END:VEVENT
BEGIN:VEVENT
DTSTART;TZID=Africa/Abidjan:20190830T210000
DTEND;TZID=Africa/Abidjan:20190830T210000
DTSTAMP:20260421T165608
CREATED:20190807T065609Z
LAST-MODIFIED:20190807T065609Z
UID:2093-1567198800-1567198800@www.kc-sentjernej.si
SUMMARY:Kino pod zvezdami
DESCRIPTION:park pri KCPT
URL:https://www.kc-sentjernej.si/dogodek/kino-pod-zvezdami-2/
CATEGORIES:Jernejevo
END:VEVENT
BEGIN:VEVENT
DTSTART;TZID=Africa/Abidjan:20190903T170000
DTEND;TZID=Africa/Abidjan:20190903T170000
DTSTAMP:20260421T165608
CREATED:20190830T100234Z
LAST-MODIFIED:20190830T100234Z
UID:2726-1567530000-1567530000@www.kc-sentjernej.si
SUMMARY:Priprava na trgatev 2019
DESCRIPTION:Kmetijsko gozdarski zavod Novo mesto vabi na predavanje z naslovom PRIPRAVA NA TRGATEV 2019. \nVodi: ga. Ivanka Badovinac\, specialistka za vinarstvo \n 
URL:https://www.kc-sentjernej.si/dogodek/priprava-na-trgatev-2019-predavanje/
CATEGORIES:Predavanje
END:VEVENT
BEGIN:VEVENT
DTSTART;TZID=Africa/Abidjan:20190916T130000
DTEND;TZID=Africa/Abidjan:20190916T150000
DTSTAMP:20260421T165608
CREATED:20190901T201450Z
LAST-MODIFIED:20190901T201642Z
UID:2737-1568638800-1568646000@www.kc-sentjernej.si
SUMMARY:Dosedanji abonenti - vpis v abonmaje
DESCRIPTION:Vpis abonmajev za sezono 2019/20 za dosedanje abonente\, bo potekal na blagajni kulturnega centra: od 16. do 25. septembra 2019 \nČAS VPISOV: vsak delavnik od 13.00 do 15.00 ter torek in četrtek od 16.00 do 19.00. \nVSE INFORMACIJE:  https://www.kc-sentjernej.si/abonmaji \nGLEDALIŠKI ABONMA (6 predstav):\nhttps://www.kc-sentjernej.si/abonmaji/gledaliski-abonma/ \nOTROŠKI ABONMA (7 predstav):\nhttps://www.kc-sentjernej.si/abonmaji/otroski-abonma/
URL:https://www.kc-sentjernej.si/dogodek/dosedanji-abonenti-vpis-v-abonmaje/
CATEGORIES:Gledališki abonma,Otroški abonma
ATTACH;FMTTYPE=image/jpeg:https://www.kc-sentjernej.si/wp-content/uploads/2019/09/abonenti.jpg
END:VEVENT
BEGIN:VEVENT
DTSTART;TZID=Africa/Abidjan:20190917T130000
DTEND;TZID=Africa/Abidjan:20190917T150000
DTSTAMP:20260421T165608
CREATED:20190901T202044Z
LAST-MODIFIED:20190901T202044Z
UID:2742-1568725200-1568732400@www.kc-sentjernej.si
SUMMARY:Dosedanji abonenti – vpis v abonmaje
DESCRIPTION:Vpis abonmajev za sezono 2019/20 za dosedanje abonente\, bo potekal na blagajni kulturnega centra: od 16. do 25. septembra 2019 \nČAS VPISOV: vsak delavnik od 13.00 do 15.00 ter torek in četrtek od 16.00 do 19.00. \nVSE INFORMACIJE:  https://www.kc-sentjernej.si/abonmaji \nGLEDALIŠKI ABONMA (6 predstav):\nhttps://www.kc-sentjernej.si/abonmaji/gledaliski-abonma/ \nOTROŠKI ABONMA (7 predstav):\nhttps://www.kc-sentjernej.si/abonmaji/otroski-abonma/
URL:https://www.kc-sentjernej.si/dogodek/dosedanji-abonenti-vpis-v-abonmaje-2/
CATEGORIES:Gledališki abonma,Otroški abonma
ATTACH;FMTTYPE=image/jpeg:https://www.kc-sentjernej.si/wp-content/uploads/2019/09/abonenti.jpg
END:VEVENT
BEGIN:VEVENT
DTSTART;TZID=Africa/Abidjan:20190917T160000
DTEND;TZID=Africa/Abidjan:20190917T190000
DTSTAMP:20260421T165608
CREATED:20190901T202438Z
LAST-MODIFIED:20190901T202438Z
UID:2744-1568736000-1568746800@www.kc-sentjernej.si
SUMMARY:Dosedanji abonenti – vpis v abonmaje
DESCRIPTION:Vpis abonmajev za sezono 2019/20 za dosedanje abonente\, bo potekal na blagajni kulturnega centra: od 16. do 25. septembra 2019 \nČAS VPISOV: vsak delavnik od 13.00 do 15.00 ter torek in četrtek od 16.00 do 19.00. \nVSE INFORMACIJE:  https://www.kc-sentjernej.si/abonmaji \nGLEDALIŠKI ABONMA (6 predstav):\nhttps://www.kc-sentjernej.si/abonmaji/gledaliski-abonma/ \nOTROŠKI ABONMA (7 predstav):\nhttps://www.kc-sentjernej.si/abonmaji/otroski-abonma/
URL:https://www.kc-sentjernej.si/dogodek/dosedanji-abonenti-vpis-v-abonmaje-3/
CATEGORIES:Gledališki abonma,Otroški abonma
ATTACH;FMTTYPE=image/jpeg:https://www.kc-sentjernej.si/wp-content/uploads/2019/09/abonenti.jpg
END:VEVENT
BEGIN:VEVENT
DTSTART;TZID=Africa/Abidjan:20190918T130000
DTEND;TZID=Africa/Abidjan:20190918T150000
DTSTAMP:20260421T165608
CREATED:20190901T203009Z
LAST-MODIFIED:20190901T203009Z
UID:2747-1568811600-1568818800@www.kc-sentjernej.si
SUMMARY:Dosedanji abonenti – vpis v abonmaje
DESCRIPTION:Vpis abonmajev za sezono 2019/20 za dosedanje abonente\, bo potekal na blagajni kulturnega centra: od 16. do 25. septembra 2019 \nČAS VPISOV: vsak delavnik od 13.00 do 15.00 ter torek in četrtek od 16.00 do 19.00. \nVSE INFORMACIJE:  https://www.kc-sentjernej.si/abonmaji \nGLEDALIŠKI ABONMA (6 predstav):\nhttps://www.kc-sentjernej.si/abonmaji/gledaliski-abonma/ \nOTROŠKI ABONMA (7 predstav):\nhttps://www.kc-sentjernej.si/abonmaji/otroski-abonma/
URL:https://www.kc-sentjernej.si/dogodek/dosedanji-abonenti-vpis-v-abonmaje-6/
CATEGORIES:Gledališki abonma,Otroški abonma
ATTACH;FMTTYPE=image/jpeg:https://www.kc-sentjernej.si/wp-content/uploads/2019/09/abonenti.jpg
END:VEVENT
BEGIN:VEVENT
DTSTART;TZID=Africa/Abidjan:20190919T130000
DTEND;TZID=Africa/Abidjan:20190919T150000
DTSTAMP:20260421T165608
CREATED:20190901T203235Z
LAST-MODIFIED:20190901T203235Z
UID:2748-1568898000-1568905200@www.kc-sentjernej.si
SUMMARY:Dosedanji abonenti – vpis v abonmaje
DESCRIPTION:Vpis abonmajev za sezono 2019/20 za dosedanje abonente\, bo potekal na blagajni kulturnega centra: od 16. do 25. septembra 2019 \nČAS VPISOV: vsak delavnik od 13.00 do 15.00 ter torek in četrtek od 16.00 do 19.00. \nVSE INFORMACIJE:  https://www.kc-sentjernej.si/abonmaji \nGLEDALIŠKI ABONMA (6 predstav):\nhttps://www.kc-sentjernej.si/abonmaji/gledaliski-abonma/ \nOTROŠKI ABONMA (7 predstav):\nhttps://www.kc-sentjernej.si/abonmaji/otroski-abonma/
URL:https://www.kc-sentjernej.si/dogodek/dosedanji-abonenti-vpis-v-abonmaje-7/
CATEGORIES:Gledališki abonma,Otroški abonma
ATTACH;FMTTYPE=image/jpeg:https://www.kc-sentjernej.si/wp-content/uploads/2019/09/abonenti.jpg
END:VEVENT
BEGIN:VEVENT
DTSTART;TZID=Africa/Abidjan:20190919T160000
DTEND;TZID=Africa/Abidjan:20190919T190000
DTSTAMP:20260421T165608
CREATED:20190901T202652Z
LAST-MODIFIED:20190901T202652Z
UID:2745-1568908800-1568919600@www.kc-sentjernej.si
SUMMARY:Dosedanji abonenti – vpis v abonmaje
DESCRIPTION:Vpis abonmajev za sezono 2019/20 za dosedanje abonente\, bo potekal na blagajni kulturnega centra: od 16. do 25. septembra 2019 \nČAS VPISOV: vsak delavnik od 13.00 do 15.00 ter torek in četrtek od 16.00 do 19.00. \nVSE INFORMACIJE:  https://www.kc-sentjernej.si/abonmaji \nGLEDALIŠKI ABONMA (6 predstav):\nhttps://www.kc-sentjernej.si/abonmaji/gledaliski-abonma/ \nOTROŠKI ABONMA (7 predstav):\nhttps://www.kc-sentjernej.si/abonmaji/otroski-abonma/
URL:https://www.kc-sentjernej.si/dogodek/dosedanji-abonenti-vpis-v-abonmaje-4/
CATEGORIES:Gledališki abonma,Otroški abonma
ATTACH;FMTTYPE=image/jpeg:https://www.kc-sentjernej.si/wp-content/uploads/2019/09/abonenti.jpg
END:VEVENT
BEGIN:VEVENT
DTSTART;TZID=Africa/Abidjan:20190920T130000
DTEND;TZID=Africa/Abidjan:20190920T150000
DTSTAMP:20260421T165608
CREATED:20190901T203656Z
LAST-MODIFIED:20190901T203732Z
UID:2749-1568984400-1568991600@www.kc-sentjernej.si
SUMMARY:Dosedanji abonenti – vpis v abonmaje
DESCRIPTION:Vpis abonmajev za sezono 2019/20 za dosedanje abonente\, bo potekal na blagajni kulturnega centra: od 16. do 25. septembra 2019 \nČAS VPISOV: vsak delavnik od 13.00 do 15.00 ter torek in četrtek od 16.00 do 19.00. \nVSE INFORMACIJE:  https://www.kc-sentjernej.si/abonmaji \nGLEDALIŠKI ABONMA (6 predstav):\nhttps://www.kc-sentjernej.si/abonmaji/gledaliski-abonma/ \nOTROŠKI ABONMA (7 predstav):\nhttps://www.kc-sentjernej.si/abonmaji/otroski-abonma/
URL:https://www.kc-sentjernej.si/dogodek/dosedanji-abonenti-vpis-v-abonmaje-8/
CATEGORIES:Gledališki abonma,Otroški abonma
ATTACH;FMTTYPE=image/jpeg:https://www.kc-sentjernej.si/wp-content/uploads/2019/09/abonenti.jpg
END:VEVENT
BEGIN:VEVENT
DTSTART;TZID=Africa/Abidjan:20190923T130000
DTEND;TZID=Africa/Abidjan:20190923T150000
DTSTAMP:20260421T165609
CREATED:20190901T204233Z
LAST-MODIFIED:20190901T204233Z
UID:2750-1569243600-1569250800@www.kc-sentjernej.si
SUMMARY:Dosedanji abonenti – vpis v abonmaje
DESCRIPTION:Vpis abonmajev za sezono 2019/20 za dosedanje abonente\, bo potekal na blagajni kulturnega centra: od 16. do 25. septembra 2019 \nČAS VPISOV: vsak delavnik od 13.00 do 15.00 ter torek in četrtek od 16.00 do 19.00. \nVSE INFORMACIJE:  https://www.kc-sentjernej.si/abonmaji \nGLEDALIŠKI ABONMA (6 predstav):\nhttps://www.kc-sentjernej.si/abonmaji/gledaliski-abonma/ \nOTROŠKI ABONMA (7 predstav):\nhttps://www.kc-sentjernej.si/abonmaji/otroski-abonma/
URL:https://www.kc-sentjernej.si/dogodek/dosedanji-abonenti-vpis-v-abonmaje-11/
CATEGORIES:Gledališki abonma,Otroški abonma
ATTACH;FMTTYPE=image/jpeg:https://www.kc-sentjernej.si/wp-content/uploads/2019/09/abonenti.jpg
END:VEVENT
BEGIN:VEVENT
DTSTART;TZID=Africa/Abidjan:20190924T130000
DTEND;TZID=Africa/Abidjan:20190924T150000
DTSTAMP:20260421T165609
CREATED:20190901T204221Z
LAST-MODIFIED:20190901T204221Z
UID:2751-1569330000-1569337200@www.kc-sentjernej.si
SUMMARY:Dosedanji abonenti – vpis v abonmaje
DESCRIPTION:Vpis abonmajev za sezono 2019/20 za dosedanje abonente\, bo potekal na blagajni kulturnega centra: od 16. do 25. septembra 2019 \nČAS VPISOV: vsak delavnik od 13.00 do 15.00 ter torek in četrtek od 16.00 do 19.00. \nVSE INFORMACIJE:  https://www.kc-sentjernej.si/abonmaji \nGLEDALIŠKI ABONMA (6 predstav):\nhttps://www.kc-sentjernej.si/abonmaji/gledaliski-abonma/ \nOTROŠKI ABONMA (7 predstav):\nhttps://www.kc-sentjernej.si/abonmaji/otroski-abonma/
URL:https://www.kc-sentjernej.si/dogodek/dosedanji-abonenti-vpis-v-abonmaje-10/
CATEGORIES:Gledališki abonma,Otroški abonma
ATTACH;FMTTYPE=image/jpeg:https://www.kc-sentjernej.si/wp-content/uploads/2019/09/abonenti.jpg
END:VEVENT
BEGIN:VEVENT
DTSTART;TZID=Africa/Abidjan:20190924T160000
DTEND;TZID=Africa/Abidjan:20190924T190000
DTSTAMP:20260421T165609
CREATED:20190901T202844Z
LAST-MODIFIED:20190901T202844Z
UID:2746-1569340800-1569351600@www.kc-sentjernej.si
SUMMARY:Dosedanji abonenti – vpis v abonmaje
DESCRIPTION:Vpis abonmajev za sezono 2019/20 za dosedanje abonente\, bo potekal na blagajni kulturnega centra: od 16. do 25. septembra 2019 \nČAS VPISOV: vsak delavnik od 13.00 do 15.00 ter torek in četrtek od 16.00 do 19.00. \nVSE INFORMACIJE:  https://www.kc-sentjernej.si/abonmaji \nGLEDALIŠKI ABONMA (6 predstav):\nhttps://www.kc-sentjernej.si/abonmaji/gledaliski-abonma/ \nOTROŠKI ABONMA (7 predstav):\nhttps://www.kc-sentjernej.si/abonmaji/otroski-abonma/
URL:https://www.kc-sentjernej.si/dogodek/dosedanji-abonenti-vpis-v-abonmaje-5/
CATEGORIES:Gledališki abonma,Otroški abonma
ATTACH;FMTTYPE=image/jpeg:https://www.kc-sentjernej.si/wp-content/uploads/2019/09/abonenti.jpg
END:VEVENT
BEGIN:VEVENT
DTSTART;TZID=Africa/Abidjan:20190925T130000
DTEND;TZID=Africa/Abidjan:20190925T150000
DTSTAMP:20260421T165609
CREATED:20190901T204208Z
LAST-MODIFIED:20190901T204208Z
UID:2752-1569416400-1569423600@www.kc-sentjernej.si
SUMMARY:Dosedanji abonenti – vpis v abonmaje
DESCRIPTION:Vpis abonmajev za sezono 2019/20 za dosedanje abonente\, bo potekal na blagajni kulturnega centra: od 16. do 25. septembra 2019 \nČAS VPISOV: vsak delavnik od 13.00 do 15.00 ter torek in četrtek od 16.00 do 19.00. \nVSE INFORMACIJE:  https://www.kc-sentjernej.si/abonmaji \nGLEDALIŠKI ABONMA (6 predstav):\nhttps://www.kc-sentjernej.si/abonmaji/gledaliski-abonma/ \nOTROŠKI ABONMA (7 predstav):\nhttps://www.kc-sentjernej.si/abonmaji/otroski-abonma/
URL:https://www.kc-sentjernej.si/dogodek/dosedanji-abonenti-vpis-v-abonmaje-9/
CATEGORIES:Gledališki abonma,Otroški abonma
ATTACH;FMTTYPE=image/jpeg:https://www.kc-sentjernej.si/wp-content/uploads/2019/09/abonenti.jpg
END:VEVENT
BEGIN:VEVENT
DTSTART;TZID=Africa/Abidjan:20190926T130000
DTEND;TZID=Africa/Abidjan:20190926T150000
DTSTAMP:20260421T165609
CREATED:20190901T211035Z
LAST-MODIFIED:20190901T211035Z
UID:2762-1569502800-1569510000@www.kc-sentjernej.si
SUMMARY:Novi abonenti - vpis v abonmaje
DESCRIPTION:Vpis abonmajev za sezono 2019/20 za nove abonente\, bo potekal na blagajni kulturnega centra: od 26. septembra do 4. oktobra 2019 \nČAS VPISOV: vsak delavnik od 13.00 do 15.00 ter torek in četrtek od 16.00 do 19.00. \nVSE INFORMACIJE:  https://www.kc-sentjernej.si/abonmaji \nGLEDALIŠKI ABONMA (6 predstav):\nhttps://www.kc-sentjernej.si/abonmaji/gledaliski-abonma/ \nOTROŠKI ABONMA (7 predstav):\nhttps://www.kc-sentjernej.si/abonmaji/otroski-abonma/
URL:https://www.kc-sentjernej.si/dogodek/novi-abonenti-vpis-v-abonmaje/
CATEGORIES:Gledališki abonma,Otroški abonma
ATTACH;FMTTYPE=image/jpeg:https://www.kc-sentjernej.si/wp-content/uploads/2019/09/abonenti-1.jpg
END:VEVENT
BEGIN:VEVENT
DTSTART;TZID=Africa/Abidjan:20190926T160000
DTEND;TZID=Africa/Abidjan:20190926T190000
DTSTAMP:20260421T165609
CREATED:20190901T211046Z
LAST-MODIFIED:20190901T211046Z
UID:2763-1569513600-1569524400@www.kc-sentjernej.si
SUMMARY:Novi abonenti - vpis v abonmaje
DESCRIPTION:Vpis abonmajev za sezono 2019/20 za nove abonente\, bo potekal na blagajni kulturnega centra: od 26. septembra do 4. oktobra 2019 \nČAS VPISOV: vsak delavnik od 13.00 do 15.00 ter torek in četrtek od 16.00 do 19.00. \nVSE INFORMACIJE:  https://www.kc-sentjernej.si/abonmaji \nGLEDALIŠKI ABONMA (6 predstav):\nhttps://www.kc-sentjernej.si/abonmaji/gledaliski-abonma/ \nOTROŠKI ABONMA (7 predstav):\nhttps://www.kc-sentjernej.si/abonmaji/otroski-abonma/
URL:https://www.kc-sentjernej.si/dogodek/novi-abonenti-vpisi-v-abonmaje-1/
CATEGORIES:Gledališki abonma,Otroški abonma
ATTACH;FMTTYPE=image/jpeg:https://www.kc-sentjernej.si/wp-content/uploads/2019/09/abonenti-1.jpg
END:VEVENT
BEGIN:VEVENT
DTSTART;TZID=Africa/Abidjan:20190927T130000
DTEND;TZID=Africa/Abidjan:20190927T150000
DTSTAMP:20260421T165609
CREATED:20190901T211055Z
LAST-MODIFIED:20190901T211055Z
UID:2764-1569589200-1569596400@www.kc-sentjernej.si
SUMMARY:Novi abonenti - vpis v abonmaje
DESCRIPTION:Vpis abonmajev za sezono 2019/20 za nove abonente\, bo potekal na blagajni kulturnega centra: od 26. septembra do 4. oktobra 2019 \nČAS VPISOV: vsak delavnik od 13.00 do 15.00 ter torek in četrtek od 16.00 do 19.00. \nVSE INFORMACIJE:  https://www.kc-sentjernej.si/abonmaji \nGLEDALIŠKI ABONMA (6 predstav):\nhttps://www.kc-sentjernej.si/abonmaji/gledaliski-abonma/ \nOTROŠKI ABONMA (7 predstav):\nhttps://www.kc-sentjernej.si/abonmaji/otroski-abonma/
URL:https://www.kc-sentjernej.si/dogodek/novi-abonenti-vpisi-v-abonmaje-2/
CATEGORIES:Gledališki abonma,Otroški abonma
ATTACH;FMTTYPE=image/jpeg:https://www.kc-sentjernej.si/wp-content/uploads/2019/09/abonenti-1.jpg
END:VEVENT
BEGIN:VEVENT
DTSTART;TZID=Africa/Abidjan:20190930T130000
DTEND;TZID=Africa/Abidjan:20190930T150000
DTSTAMP:20260421T165609
CREATED:20190901T211717Z
LAST-MODIFIED:20190901T211717Z
UID:2765-1569848400-1569855600@www.kc-sentjernej.si
SUMMARY:Novi abonenti - vpis v abonmaje
DESCRIPTION:Vpis abonmajev za sezono 2019/20 za nove abonente\, bo potekal na blagajni kulturnega centra: od 26. septembra do 4. oktobra 2019 \nČAS VPISOV: vsak delavnik od 13.00 do 15.00 ter torek in četrtek od 16.00 do 19.00. \nVSE INFORMACIJE:  https://www.kc-sentjernej.si/abonmaji \nGLEDALIŠKI ABONMA (6 predstav):\nhttps://www.kc-sentjernej.si/abonmaji/gledaliski-abonma/ \nOTROŠKI ABONMA (7 predstav):\nhttps://www.kc-sentjernej.si/abonmaji/otroski-abonma/
URL:https://www.kc-sentjernej.si/dogodek/novi-abonenti-vpisi-v-abonmaje-3/
CATEGORIES:Gledališki abonma,Otroški abonma
ATTACH;FMTTYPE=image/jpeg:https://www.kc-sentjernej.si/wp-content/uploads/2019/09/abonenti-1.jpg
END:VEVENT
BEGIN:VEVENT
DTSTART;TZID=Africa/Abidjan:20191001T130000
DTEND;TZID=Africa/Abidjan:20191001T150000
DTSTAMP:20260421T165609
CREATED:20190901T211732Z
LAST-MODIFIED:20190901T211732Z
UID:2766-1569934800-1569942000@www.kc-sentjernej.si
SUMMARY:Novi abonenti - vpis v abonmaje
DESCRIPTION:Vpis abonmajev za sezono 2019/20 za nove abonente\, bo potekal na blagajni kulturnega centra: od 26. septembra do 4. oktobra 2019 \nČAS VPISOV: vsak delavnik od 13.00 do 15.00 ter torek in četrtek od 16.00 do 19.00. \nVSE INFORMACIJE:  https://www.kc-sentjernej.si/abonmaji \nGLEDALIŠKI ABONMA (6 predstav):\nhttps://www.kc-sentjernej.si/abonmaji/gledaliski-abonma/ \nOTROŠKI ABONMA (7 predstav):\nhttps://www.kc-sentjernej.si/abonmaji/otroski-abonma/
URL:https://www.kc-sentjernej.si/dogodek/novi-abonenti-vpisi-v-abonmaje-4/
CATEGORIES:Gledališki abonma,Otroški abonma
ATTACH;FMTTYPE=image/jpeg:https://www.kc-sentjernej.si/wp-content/uploads/2019/09/abonenti-1.jpg
END:VEVENT
BEGIN:VEVENT
DTSTART;TZID=Africa/Abidjan:20191001T160000
DTEND;TZID=Africa/Abidjan:20191001T190000
DTSTAMP:20260421T165609
CREATED:20190901T211755Z
LAST-MODIFIED:20190901T211755Z
UID:2767-1569945600-1569956400@www.kc-sentjernej.si
SUMMARY:Novi abonenti - vpis v abonmaje
DESCRIPTION:Vpis abonmajev za sezono 2019/20 za nove abonente\, bo potekal na blagajni kulturnega centra: od 26. septembra do 4. oktobra 2019 \nČAS VPISOV: vsak delavnik od 13.00 do 15.00 ter torek in četrtek od 16.00 do 19.00. \nVSE INFORMACIJE:  https://www.kc-sentjernej.si/abonmaji \nGLEDALIŠKI ABONMA (6 predstav):\nhttps://www.kc-sentjernej.si/abonmaji/gledaliski-abonma/ \nOTROŠKI ABONMA (7 predstav):\nhttps://www.kc-sentjernej.si/abonmaji/otroski-abonma/
URL:https://www.kc-sentjernej.si/dogodek/novi-abonenti-vpisi-v-abonmaje-5/
CATEGORIES:Gledališki abonma,Otroški abonma
ATTACH;FMTTYPE=image/jpeg:https://www.kc-sentjernej.si/wp-content/uploads/2019/09/abonenti-1.jpg
END:VEVENT
BEGIN:VEVENT
DTSTART;TZID=Africa/Abidjan:20191002T130000
DTEND;TZID=Africa/Abidjan:20191002T190000
DTSTAMP:20260421T165609
CREATED:20190901T211826Z
LAST-MODIFIED:20190901T211826Z
UID:2768-1570021200-1570042800@www.kc-sentjernej.si
SUMMARY:Novi abonenti - vpis v abonmaje
DESCRIPTION:Vpis abonmajev za sezono 2019/20 za nove abonente\, bo potekal na blagajni kulturnega centra: od 26. septembra do 4. oktobra 2019 \nČAS VPISOV: vsak delavnik od 13.00 do 15.00 ter torek in četrtek od 16.00 do 19.00. \nVSE INFORMACIJE:  https://www.kc-sentjernej.si/abonmaji \nGLEDALIŠKI ABONMA (6 predstav):\nhttps://www.kc-sentjernej.si/abonmaji/gledaliski-abonma/ \nOTROŠKI ABONMA (7 predstav):\nhttps://www.kc-sentjernej.si/abonmaji/otroski-abonma/
URL:https://www.kc-sentjernej.si/dogodek/novi-abonenti-vpisi-v-abonmaje-6/
CATEGORIES:Gledališki abonma,Otroški abonma
ATTACH;FMTTYPE=image/jpeg:https://www.kc-sentjernej.si/wp-content/uploads/2019/09/abonenti-1.jpg
END:VEVENT
BEGIN:VEVENT
DTSTART;TZID=Africa/Abidjan:20191003T130000
DTEND;TZID=Africa/Abidjan:20191003T150000
DTSTAMP:20260421T165609
CREATED:20190901T211845Z
LAST-MODIFIED:20190901T211845Z
UID:2769-1570107600-1570114800@www.kc-sentjernej.si
SUMMARY:Novi abonenti - vpis v abonmaje
DESCRIPTION:Vpis abonmajev za sezono 2019/20 za nove abonente\, bo potekal na blagajni kulturnega centra: od 26. septembra do 4. oktobra 2019 \nČAS VPISOV: vsak delavnik od 13.00 do 15.00 ter torek in četrtek od 16.00 do 19.00. \nVSE INFORMACIJE:  https://www.kc-sentjernej.si/abonmaji \nGLEDALIŠKI ABONMA (6 predstav):\nhttps://www.kc-sentjernej.si/abonmaji/gledaliski-abonma/ \nOTROŠKI ABONMA (7 predstav):\nhttps://www.kc-sentjernej.si/abonmaji/otroski-abonma/
URL:https://www.kc-sentjernej.si/dogodek/novi-abonenti-vpisi-v-abonmaje-7/
CATEGORIES:Gledališki abonma,Otroški abonma
ATTACH;FMTTYPE=image/jpeg:https://www.kc-sentjernej.si/wp-content/uploads/2019/09/abonenti-1.jpg
END:VEVENT
BEGIN:VEVENT
DTSTART;TZID=Africa/Abidjan:20191003T160000
DTEND;TZID=Africa/Abidjan:20191003T190000
DTSTAMP:20260421T165609
CREATED:20190901T211906Z
LAST-MODIFIED:20190901T211906Z
UID:2770-1570118400-1570129200@www.kc-sentjernej.si
SUMMARY:Novi abonenti - vpis v abonmaje
DESCRIPTION:Vpis abonmajev za sezono 2019/20 za nove abonente\, bo potekal na blagajni kulturnega centra: od 26. septembra do 4. oktobra 2019 \nČAS VPISOV: vsak delavnik od 13.00 do 15.00 ter torek in četrtek od 16.00 do 19.00. \nVSE INFORMACIJE:  https://www.kc-sentjernej.si/abonmaji \nGLEDALIŠKI ABONMA (6 predstav):\nhttps://www.kc-sentjernej.si/abonmaji/gledaliski-abonma/ \nOTROŠKI ABONMA (7 predstav):\nhttps://www.kc-sentjernej.si/abonmaji/otroski-abonma/
URL:https://www.kc-sentjernej.si/dogodek/novi-abonenti-vpisi-v-abonmaje-8/
CATEGORIES:Gledališki abonma,Otroški abonma
ATTACH;FMTTYPE=image/jpeg:https://www.kc-sentjernej.si/wp-content/uploads/2019/09/abonenti-1.jpg
END:VEVENT
BEGIN:VEVENT
DTSTART;TZID=Africa/Abidjan:20191004T083000
DTEND;TZID=Africa/Abidjan:20191004T083000
DTSTAMP:20260421T165609
CREATED:20190924T120015Z
LAST-MODIFIED:20190926T132517Z
UID:2801-1570177800-1570177800@www.kc-sentjernej.si
SUMMARY:"Ko ti srce zaigra ..."
DESCRIPTION:Predstavitev nove sezone in dnevnega utripa KC Primoža Trubarja  – Elizabeta Kušljan Gegič. \nBrezplačna udeležba 
URL:https://www.kc-sentjernej.si/dogodek/abonma-kaj-zakaj-koliko-cemu/
CATEGORIES:Predavanje
ATTACH;FMTTYPE=image/jpeg:https://www.kc-sentjernej.si/wp-content/uploads/2019/09/Abonma.jpg
END:VEVENT
BEGIN:VEVENT
DTSTART;TZID=Africa/Abidjan:20191004T130000
DTEND;TZID=Africa/Abidjan:20191004T150000
DTSTAMP:20260421T165609
CREATED:20190901T211928Z
LAST-MODIFIED:20190901T211928Z
UID:2771-1570194000-1570201200@www.kc-sentjernej.si
SUMMARY:Novi abonenti - vpis v abonmaje
DESCRIPTION:Vpis abonmajev za sezono 2019/20 za nove abonente\, bo potekal na blagajni kulturnega centra: od 26. septembra do 4. oktobra 2019 \nČAS VPISOV: vsak delavnik od 13.00 do 15.00 ter torek in četrtek od 16.00 do 19.00. \nVSE INFORMACIJE:  https://www.kc-sentjernej.si/abonmaji \nGLEDALIŠKI ABONMA (6 predstav):\nhttps://www.kc-sentjernej.si/abonmaji/gledaliski-abonma/ \nOTROŠKI ABONMA (7 predstav):\nhttps://www.kc-sentjernej.si/abonmaji/otroski-abonma/
URL:https://www.kc-sentjernej.si/dogodek/novi-abonenti-vpisi-v-abonmaje-9/
CATEGORIES:Gledališki abonma,Otroški abonma
ATTACH;FMTTYPE=image/jpeg:https://www.kc-sentjernej.si/wp-content/uploads/2019/09/abonenti-1.jpg
END:VEVENT
BEGIN:VEVENT
DTSTART;TZID=Africa/Abidjan:20191008T170000
DTEND;TZID=Africa/Abidjan:20191008T170000
DTSTAMP:20260421T165609
CREATED:20190924T130944Z
LAST-MODIFIED:20190924T141853Z
UID:2820-1570554000-1570554000@www.kc-sentjernej.si
SUMMARY:Mesec požarne varnosti
DESCRIPTION:Gasilska zveza Šentjernej vabi na pregledno razstavo likovnih natečajev zveze z naslovom: MESEC POŽARNE VARNOSTI \nBrezplačna udeležba
URL:https://www.kc-sentjernej.si/dogodek/mesec-pozarne-varnosti/
CATEGORIES:Razstava
ATTACH;FMTTYPE=image/jpeg:https://www.kc-sentjernej.si/wp-content/uploads/2019/09/Abonma-1.jpg
END:VEVENT
BEGIN:VEVENT
DTSTART;TZID=Africa/Abidjan:20191011T083000
DTEND;TZID=Africa/Abidjan:20191011T083000
DTSTAMP:20260421T165609
CREATED:20190926T132913Z
LAST-MODIFIED:20190926T132913Z
UID:2847-1570782600-1570782600@www.kc-sentjernej.si
SUMMARY:Zdravo in nezdravo razvajanje naših otrok
DESCRIPTION:Orto klub vabi na predavanje Mateje Petric z naslovom ZDRAVO IN NEZDRAVO RAZVAJANJE NAŠIH OTROK. \nUdeležba je brezplačna.
URL:https://www.kc-sentjernej.si/dogodek/zdravo-in-nezdravo-razvajanje-nasih-otrok/
CATEGORIES:Predavanje
END:VEVENT
BEGIN:VEVENT
DTSTART;TZID=Africa/Abidjan:20191012T190000
DTEND;TZID=Africa/Abidjan:20191012T190000
DTSTAMP:20260421T165609
CREATED:20190925T062917Z
LAST-MODIFIED:20191007T090636Z
UID:2828-1570906800-1570906800@www.kc-sentjernej.si
SUMMARY:Prižgimo luč\, ljudje - večer Franeta Milčinskega Ježka
DESCRIPTION:Glasbeno pravljični večer \nFrane Milčinski – Ježek (1914 – 1988) je bil slovenski humorist\, pisatelj\, pesnik\, scenarist\, igralec\, šansonjer\, skladatelj\, radijski in televizijski voditelj. Njegov življenjski opus je obsežen in veličasten\, zato dovolite\, da vas povabimo na večer\, kjer vam boo predstavljena le trohica njegovega življenjskega opusa. \nV glasbeno – pravljičnem večeru bodo njegove songe poustvarjali člani Čaj benda in bralci in bralke Zvezdice Zaspanke – vsi člani KUD Straža. \nJežek je nekje zapisal: »Zaprt nisem bil\, dobil pa sem pet odlikovanj. Moja najbolj svetla kolajna pa je tole pismo: ‘Ljubi Ježek\, včeraj je bilo tako veselo\, ko si bil med nami. Kmalu se pet prikaži!’ Tako mi je z Braillovo pisavo napisal slepi otrok…«       \nVstopnice: 5 €
URL:https://www.kc-sentjernej.si/dogodek/prizgimo-luc-ljudje-vecer-franeta-milcinskega-jezka/
CATEGORIES:Glasba
ATTACH;FMTTYPE=image/jpeg:https://www.kc-sentjernej.si/wp-content/uploads/2019/09/jezek_KC_sentjernej_fb-jpg.jpg
END:VEVENT
BEGIN:VEVENT
DTSTART;TZID=Africa/Abidjan:20191016T180000
DTEND;TZID=Africa/Abidjan:20191016T180000
DTSTAMP:20260421T165609
CREATED:20191010T115709Z
LAST-MODIFIED:20191010T120121Z
UID:2886-1571248800-1571248800@www.kc-sentjernej.si
SUMMARY:Skrb za zdravje srca in ožilja
DESCRIPTION:V društvu koronarnih bolnikov Dolenjske in Bele krajine vabimo na predavanje\, mag. Sabine Jakše Hren\, dr. med.: \nSKRB ZA ZDRAVJE SRCA IN OŽILJA\, \nki bo v sredo\, 16.10. 2019\, ob 18.00 uri  v KC Primoža Trubarja v Šentjerneju \n  \nMag. Sabina Jakše Hren\, dr.med.\, zdravnica specialistka internistka\, je zaposlena na kardiološkem odseku internega oddelka SB Novo mesto in vodja antikoagulantne ambulante. Predavanje je namenjeno osvežitvi znanj o sodobnih ukrepih za ohranjanje zdravja koronarnih bolnikov\, po njem vam bo odgovarjala tudi na vaša vprašanja. \nPredavanje je organizirano v sodelovanju in z podporo Občine Šentjernej. \n  \nPredsednik strokovnega sveta: Mag. Boris Krajačič\, dr.med. l.r. \nPredsednica društva: Martinka Picelj\, l.r.
URL:https://www.kc-sentjernej.si/dogodek/skrb-za-zdravje-srca-in-ozilja/
CATEGORIES:Predavanje
ATTACH;FMTTYPE=image/jpeg:https://www.kc-sentjernej.si/wp-content/uploads/2019/10/Abonma.jpg
END:VEVENT
BEGIN:VEVENT
DTSTART;TZID=Africa/Abidjan:20191017T173000
DTEND;TZID=Africa/Abidjan:20191017T173000
DTSTAMP:20260421T165609
CREATED:20190924T125836Z
LAST-MODIFIED:20190926T135322Z
UID:2813-1571333400-1571333400@www.kc-sentjernej.si
SUMMARY:Vidkova srajčica
DESCRIPTION:Lutkovna predstava \nPRODUKCIJA  Lutkovno gledališče Fru Fru \nPRIREDBA TEKSTA\, BESEDILA PESMIC IN DRAMATURGIJA Jelena Sitar \nREŽIJA IN IGRA Irena Rajh   \nLevstikov Videk v izvedbi gledališča Fru-Fru je predstava namenjena najmlajšim\, ne le po vsebini\, ampak tudi po likovni podobi\, polni mehkih form\, toplih materialov in živih barv\, ki se v posebnem\, počasnem ritmu predstave prepletajo z glasovi ritmiziranih in petih besed in drobnih instumentov. \nOtrok\, mama\, bratci in sestrice\, postelja\, žlička in skodelica s kašo – varen dom\, kjer jemo\, spimo in se igramo. Svet\, ki ga otrok prepoznava iz lastnega vsakdana. Zunaj hiše: travnik\, potok\, grmovje in živali\, ki jih otrok opazuje … \nPRIMERNO ZA STAROST 2+ \nTRAJANJE 35 minut \nFotografije in video napovednik predstave TUKAJ. \n\n🎫 Vstopnice: 5 €
URL:https://www.kc-sentjernej.si/dogodek/vidkova-srajcica-otroski-abonma/
CATEGORIES:Izven,Otroški abonma
ATTACH;FMTTYPE=image/jpeg:https://www.kc-sentjernej.si/wp-content/uploads/2019/09/Otroški-abonma-19-20.jpg
END:VEVENT
END:VCALENDAR