BEGIN:VCALENDAR
VERSION:2.0
PRODID:-// - ECPv6.15.20//NONSGML v1.0//EN
CALSCALE:GREGORIAN
METHOD:PUBLISH
X-ORIGINAL-URL:https://www.kc-sentjernej.si
X-WR-CALDESC:Dogodki od 
REFRESH-INTERVAL;VALUE=DURATION:PT1H
X-Robots-Tag:noindex
X-PUBLISHED-TTL:PT1H
BEGIN:VTIMEZONE
TZID:Africa/Abidjan
BEGIN:STANDARD
TZOFFSETFROM:+0000
TZOFFSETTO:+0000
TZNAME:GMT
DTSTART:20240101T000000
END:STANDARD
END:VTIMEZONE
BEGIN:VEVENT
DTSTART;TZID=Africa/Abidjan:20250612T190000
DTEND;TZID=Africa/Abidjan:20250612T190000
DTSTAMP:20260420T073936
CREATED:20250610T115753Z
LAST-MODIFIED:20250610T115753Z
UID:7835-1749754800-1749754800@www.kc-sentjernej.si
SUMMARY:KDO SEM JAZ?
DESCRIPTION:Osnovna šola Šentjernej vas vabi na odprtje razstave likovnih del učencev predmetne stopnje z naslovom \nKdo sem Jaz? \nMladi ustvarjalci so se ukvarjali z vprašanji\, kdo so\, kaj jih določa\, kako jih vidijo drugi in kako sami vidijo svet. Odgovore so izrazili z bogato\, zanimivo in izvirno likovno govorico\, ki jo izražajo razstavljena dela. \nSpremljevalni  kulturni program bodo oblikovali recitatorji šole in mladi glasbeniki. \nVljudno vabljeni.
URL:https://www.kc-sentjernej.si/dogodek/kdo-sem-jaz/
CATEGORIES:Razstava,Slovesnost
ATTACH;FMTTYPE=image/jpeg:https://www.kc-sentjernej.si/wp-content/uploads/2025/06/RazstavaPS-365x240-1.jpg
END:VEVENT
END:VCALENDAR