BEGIN:VCALENDAR
VERSION:2.0
PRODID:-// - ECPv6.15.20//NONSGML v1.0//EN
CALSCALE:GREGORIAN
METHOD:PUBLISH
X-ORIGINAL-URL:https://www.kc-sentjernej.si
X-WR-CALDESC:Dogodki od 
REFRESH-INTERVAL;VALUE=DURATION:PT1H
X-Robots-Tag:noindex
X-PUBLISHED-TTL:PT1H
BEGIN:VTIMEZONE
TZID:Africa/Abidjan
BEGIN:STANDARD
TZOFFSETFROM:+0000
TZOFFSETTO:+0000
TZNAME:GMT
DTSTART:20210101T000000
END:STANDARD
END:VTIMEZONE
BEGIN:VEVENT
DTSTART;TZID=Africa/Abidjan:20221007T080000
DTEND;TZID=Africa/Abidjan:20221007T190000
DTSTAMP:20260423T070800
CREATED:20220923T084007Z
LAST-MODIFIED:20220923T084007Z
UID:5778-1665129600-1665169200@www.kc-sentjernej.si
SUMMARY:SIRIJA - potopis
DESCRIPTION:Orto klub DU Šentjernej vabi na potopisno predavanje dr. Francija Kokalja po Siriji. \nBrezplačna udeležba
URL:https://www.kc-sentjernej.si/dogodek/sirija-potopis/
CATEGORIES:pogovor,Predavanje
ATTACH;FMTTYPE=image/png:https://www.kc-sentjernej.si/wp-content/uploads/2022/02/orto-splet.png
END:VEVENT
END:VCALENDAR