BEGIN:VCALENDAR
VERSION:2.0
PRODID:-// - ECPv6.15.20//NONSGML v1.0//EN
CALSCALE:GREGORIAN
METHOD:PUBLISH
X-ORIGINAL-URL:https://www.kc-sentjernej.si
X-WR-CALDESC:Dogodki od 
REFRESH-INTERVAL;VALUE=DURATION:PT1H
X-Robots-Tag:noindex
X-PUBLISHED-TTL:PT1H
BEGIN:VTIMEZONE
TZID:Africa/Abidjan
BEGIN:STANDARD
TZOFFSETFROM:+0000
TZOFFSETTO:+0000
TZNAME:GMT
DTSTART:20210101T000000
END:STANDARD
END:VTIMEZONE
BEGIN:VEVENT
DTSTART;TZID=Africa/Abidjan:20240126T180000
DTEND;TZID=Africa/Abidjan:20240126T180000
DTSTAMP:20260420T000421
CREATED:20240103T090908Z
LAST-MODIFIED:20240103T091415Z
UID:7059-1706292000-1706292000@www.kc-sentjernej.si
SUMMARY:Varuhi formule
DESCRIPTION:Film Dragana Bjelogrlića\nFilm\, posnet po resnični zgodbi govori o nesreči leta 1958 v Vinči\, zaradi katere bi lahko izgubilo življenje šest raziskovalcev. To je zgodba o izjemni človeški humanosti\, ki jo je navdihnilo resnično dogajanje pred 65. leti.\nPotem ko je predsednik Jugoslavije Josip Broz Tito slovesno zagnal prvi raziskovalni jedrski reaktor Vinča pri Beogradu\, se je še isto leto\, na tem reaktorju zgodila nesreča. Šest srbskih znanstvenikov je bilo podvrženih radioaktivnemu sevanju. Ker so se zavedali\, da obsevanim v Beogradu ne bodo znali pomagati\, so vseh šest takoj odpeljali v pariško bolnišnico Fondation Curie. Tam se zdravniki odločijo za eksperimentalno zdravljenje – za presaditev kostnega mozga. Tega so mladim raziskovalcem darovali prostovoljci\, Parižani\, ki so zaradi nevarnosti takšne operacije takrat tvegali tudi svoja življenja.\nFilm s številnimi mednarodnimi nagradami\, res vreden ogleda! \nIgrajo: Alexis Manenti\, Dragan Bjelogrlić\, Jeremie Laheurte\, Jurij Drevenšek\, Lionel Abelanski\, Olivier Barthélémy\, Predrag ‘Miki’ Manojlović\, Radivoje Bukvić \nVstopnice: 7 €
URL:https://www.kc-sentjernej.si/dogodek/varuhi-formule/
CATEGORIES:Film
ATTACH;FMTTYPE=image/jpeg:https://www.kc-sentjernej.si/wp-content/uploads/2024/01/varuhi-formule-le.jpg
END:VEVENT
BEGIN:VEVENT
DTSTART;TZID=Africa/Abidjan:20240112T180000
DTEND;TZID=Africa/Abidjan:20240112T180000
DTSTAMP:20260420T000421
CREATED:20231218T082948Z
LAST-MODIFIED:20231218T082948Z
UID:7036-1705082400-1705082400@www.kc-sentjernej.si
SUMMARY:VZORNIK
DESCRIPTION:Film Nejca Gazvode\nMaja in Jan\, mama in sin\, se preselita v majhen kraj nekam na jug  Slovenije. Jan je v zadnjem razredu osnovne šole\, še nekaj mesecev ima do zaključka\, Maja je psihologinja na tej isti šoli. Film se začne ob ponovnem odprtju šol po koncu epidemije in zdi se\, da se otroci niso vrnili v čas\, kot je bil pred tem. Jana začnejo brez razloga nadlegovati vrstniki\, Maja si nakoplje sovražnico v obliki mlade psihologinje. Jan spozna skrivnostnega moškega\, v katerem zaradi stiske išče podporo\, a cena\, ki jo za to plača\, je velika.  \nIgrajo: France Mandič\, Jure Henigman\, Klara Kuk\, Luka Cimprič\, Marko Engelman\, Mojca Funkl\, Nik Osmanović\, Vesna Pernarčič … \nVstopnice: 7 €
URL:https://www.kc-sentjernej.si/dogodek/vzornik/
CATEGORIES:Film,Izven abonmaja
ATTACH;FMTTYPE=image/jpeg:https://www.kc-sentjernej.si/wp-content/uploads/2023/12/VZORNIK_poster-SLO-low.jpg
END:VEVENT
BEGIN:VEVENT
DTSTART;TZID=Africa/Abidjan:20220518T193000
DTEND;TZID=Africa/Abidjan:20220518T193000
DTSTAMP:20260420T000421
CREATED:20220503T131647Z
LAST-MODIFIED:20220503T131647Z
UID:5686-1652902200-1652902200@www.kc-sentjernej.si
SUMMARY:Popolni tujci
DESCRIPTION:PRODUKCIJA Drama SNG Maribor\nREŽIJA Tamara Damjanović\nIGRAJO Tomo Tomšič / Kristijan Ostanek\, Maša Žilavec\, Gorazd Žilavec\, Mateja Pucko\, Nejc Ropret\, Ana Urbanc / Eva Kraš\, Matevž Biber \nŠtirje dolgoletni prijatelji in njihove najdražje\, se družijo in opazujejo lunin mrk. Večer mineva v čaru duhovitih zbadljivk\, šal in aktualnih pogovorov o družinskih in intimnih zadevah. Ko tema pogovora nanese na informacije\, ki jih skrivajo naši mobilni telefoni\, se zbrana druščina junaško odloči\, da ni skrivnosti\, ki bi jih tajili pred zbranimi. Nedolžna igra\, da bo vsak od njih klice in sporočila\, ki bodo prihajali med večerjo\, delil z vsemi zbranimi\, sproži sprva zabavne reakcije\, a lahkotnost igre se začne počasi izgubljati. Skrivnosti\, ki bi morale ostati v telefonih\, spremenijo slike o zakoncih\, partnerjih\, ljubicah in prijateljih …
URL:https://www.kc-sentjernej.si/dogodek/popolni-tujci/
LOCATION:Kulturni center Primoža Trubarja\, Trubarjeva cesta 13\, Šentjernej\, Slovenija\, 8310\, Slovenija
CATEGORIES:Abonmaji,Gledališče,Gledališki abonma,Izven
ATTACH;FMTTYPE=image/jpeg:https://www.kc-sentjernej.si/wp-content/uploads/2022/05/3_DSC2265_b.jpg
END:VEVENT
END:VCALENDAR