BEGIN:VCALENDAR
VERSION:2.0
PRODID:-// - ECPv6.15.20//NONSGML v1.0//EN
CALSCALE:GREGORIAN
METHOD:PUBLISH
X-ORIGINAL-URL:https://www.kc-sentjernej.si
X-WR-CALDESC:Dogodki od 
REFRESH-INTERVAL;VALUE=DURATION:PT1H
X-Robots-Tag:noindex
X-PUBLISHED-TTL:PT1H
BEGIN:VTIMEZONE
TZID:Africa/Abidjan
BEGIN:STANDARD
TZOFFSETFROM:+0000
TZOFFSETTO:+0000
TZNAME:GMT
DTSTART:20250101T000000
END:STANDARD
END:VTIMEZONE
BEGIN:VEVENT
DTSTART;TZID=Africa/Abidjan:20260202T180000
DTEND;TZID=Africa/Abidjan:20260202T180000
DTSTAMP:20260421T113708
CREATED:20260122T143051Z
LAST-MODIFIED:20260122T143051Z
UID:8409-1770055200-1770055200@www.kc-sentjernej.si
SUMMARY:BELO SE PERE NA DEVETDESET - ponovitev predvajanja filma
DESCRIPTION:BELO SE PERE NA DEVETDESET – ponovitev predvajanja filma\n\nIgrajo: Anica Dobra\, Iva Krajnc Bagola\, Jurij Zrnec\, Lea Cok\, Polona Juh\, Saša Tabaković\, Tjaša Železnik\, Vladimir Tintor\nRežiser: Marko Naberšnik\nŽanr: Drama\nPremiera: 20. 11. 2025\n\nGanljiv\, humoren in navdihujoč film o soočanju z boleznijo. Zgodba spremlja Bronjo skozi različna obdobja njenega življenja. Potem ko v otroštvu zaradi raka izgubi mamo\, se mora v mladosti s to zahrbtno boleznijo soočiti še sama. Kljub številnim in skoraj nepremostljivim izzivom se Bronja z njimi spoprijema z mešanico solz\, smeha in neomajnega optimizma. Film temelji na resnični zgodbi in avtobiografskem romanu z istim naslovom. Doživel je že devet ponatisov. \nV vlogi Bronjinega očeta nastopa Jurij Zrnec\, v glavni vlogi igra Lea Cok\, ki je upodobila starejšo Bronjo\, mlajšo verzijo pisateljice pa je zaigrala Mei Rabič. Mlajšega brata Roka je upodobil Jaka Mehle\, starejšega pa Žiga Šorli. V vlogi Bronjine mame nastopa Tjaša Železnik\, babica je Anica Dobra. Kot ožja sorodnika se v filmu pojavita še Saša Tabaković in Iva Krajnc Bagola. \n  \nO KNJIGI:\nBelo se pere na devetdeset je pretresljiv\, duhovit in navdihujoč roman\, ki opisuje življenjsko zgodbo pripovedovalke\, odraščajoče v 70. in 80. letih. Njen otroški svet sestavljajo starši\, brat Rok\, babica Dada\, tete in strici\, pa benko\, albert keksi\, Oddaja o morju in pomorščakih\, Gavrilović in prenos sarajevskih olimpijskih iger. A čeprav govori o naštetem\, je avtobiografski roman predvsem pripoved o odraščanju\, soočanju z izgubo in boleznijo\, pripoved o udomačevanju strahu in vsem tistem\, česar nočemo videti\, dokler s tem nismo neizbežno soočeni. \n  \nVSTOPNICE: 7 EUR \n  \nVljudno vabljeni.
URL:https://www.kc-sentjernej.si/dogodek/belo-se-pere-na-devetdeset-2/
CATEGORIES:Film
ATTACH;FMTTYPE=image/jpeg:https://www.kc-sentjernej.si/wp-content/uploads/2026/01/42861-belo.jpg
END:VEVENT
BEGIN:VEVENT
DTSTART;TZID=Africa/Abidjan:20260206T190000
DTEND;TZID=Africa/Abidjan:20260206T190000
DTSTAMP:20260421T113708
CREATED:20260126T121322Z
LAST-MODIFIED:20260126T121322Z
UID:8428-1770404400-1770404400@www.kc-sentjernej.si
SUMMARY:SLAVNOSTNA AKADEMIJA
DESCRIPTION:Občina Šentjernej v sodelovanju z Osnovno šolo Šentjernej \nvas v počastitev SLOVENSKEGA KULTURNEGA PRAZNIKA vljudno vabi na slavnostno akademijo\n»ČLOVEK MORA IMETI SANJE\, DA LAHKO ŽIVI\,«\nki bo v petek\, 6. februarja 2026\, ob 19. uri v Kulturnem centru Primoža Trubarja v Šentjerneju. \nSlavnostni govornik bo antropolog prof. dr. Dan Podjed. \nNa slovesnosti bodo učencem Osnovne šole Šentjernej podeljena\npriznanja in plakete SLAVČEK za dosežke na kulturnem področju. \n  \nBREZPLAČNE VSTOPNICE \nVljudno vabljeni.
URL:https://www.kc-sentjernej.si/dogodek/slavnostna-akademija/
CATEGORIES:Slovesnost
ATTACH;FMTTYPE=image/jpeg:https://www.kc-sentjernej.si/wp-content/uploads/2026/01/OBCINA-SENTJERNEJ_8-februar-2026_VABILO_splet-scaled.jpg
END:VEVENT
BEGIN:VEVENT
DTSTART;TZID=Africa/Abidjan:20260211T070000
DTEND;TZID=Africa/Abidjan:20260211T120000
DTSTAMP:20260421T113708
CREATED:20260112T104606Z
LAST-MODIFIED:20260204T070932Z
UID:8402-1770793200-1770811200@www.kc-sentjernej.si
SUMMARY:KRVODAJALSKA AKCIJA
DESCRIPTION:Vabimo vas na terensko krvodajalsko akcijo\, ki bo v \nsredo\, 11. FEBRUARJA  2026\, v KC Primoža Trubarja\, med 7. in 12. uro. \nKrvodajalsko akcijo bo izvedel Zavod Republike Slovenije za transfuzijsko medicino. \n  \nPOMEMBNA navodila za krvodajalce: \nKrvodajalci vabljeni\, da svoj prihod napoveste na eni od telefonskih številk: 051/389 270\, 051/671 147 ali 030/716 796. \nPokličete lahko vsak dan\, od 7. do 21. ure. \nZa sprejem je potreben osebni dokument s fotografijo\, za potrdilo o udeležbi na krvodajalski akciji pa zdravstvena izkaznica. \nKrvodajalstvo sodi med najširše organizirane humanitarne akcije. Gre za najvišjo obliko pomoči med ljudmi\, saj krvodajalci darujejo kri za neznanca\, prostovoljno in brez plačila. \nVsaka kapljica darovane krvi šteje. \nVljudno vabljeni!
URL:https://www.kc-sentjernej.si/dogodek/krvodajalska-akcija-3/
CATEGORIES:izpostavljamo
ATTACH;FMTTYPE=image/jpeg:https://www.kc-sentjernej.si/wp-content/uploads/2026/01/Oglas.jpg
END:VEVENT
BEGIN:VEVENT
DTSTART;TZID=Africa/Abidjan:20260212T180000
DTEND;TZID=Africa/Abidjan:20260212T180000
DTSTAMP:20260421T113708
CREATED:20260206T155443Z
LAST-MODIFIED:20260206T155443Z
UID:8450-1770919200-1770919200@www.kc-sentjernej.si
SUMMARY:GUTENWERD - VSAKDANJIK V SREDNJEM VEKU
DESCRIPTION:Vljudno vas vabimo na odprtje razstave GUTENWERD – vsakdanjik v srednjem veku\,  \nki bo v četrtek\, 12. februarja 2026\, ob 18. uri\, v Kulturnem centru Primoža Trubarja v Šentjerneju. \n  \nRazstavo\, ki predstavlja vsakdanje življenje v srednjeveški urbani naselbini Gutenwerd\, je pripravil Narodni muzej Slovenije v sodelovanju z Občino Šentjernej in Kulturnim centrom Primoža Trubarja. \n  \nPrisotne bodo nagovorili:\n– dr. Boštjan Laharnar\, vodja Arheološkega oddelka Narodnega muzeja Slovenije\,\n– dr. Tomaž Nabergoj\, kustos Narodnega muzeja Slovenije\,\n– Jože Simončič\, župan Občine Šentjernej. \n  \nVečer bodo obogatili člani glasbene skupine Gita in Janez Rodič. \n  \nRazstava bo na ogled do 17. maja 2026. \n  \nVabljeni na vodstvo po razstavi\, ki bo v torek\, 3. marca 2026\, ob 17. uri.\nPo razstavi bo vodil dr. Tomaž Nabergoj. \n  \nRazstava je na ogled: v popoldanskem času: torek in sreda od 13.00 do 15.00\, četrtek od 13.00 do 18.00 ure ter v dopoldanskem času od ponedeljka do petka\, od 8.00 do 15.00 ure po predhodnem dogovoru na 07 39 31 371 ali blagajna@kc-sentjernej.si  \n  \nVabljeni na odprtje razstave Gutenwerd – vsakdanjik v srednjem veku\, ki jo v sodelovanju pripravljata Občina Šentjernej in Narodni muzej Slovenije. Razstava skozi arheološke najdbe in pripovedne vsebine oživlja zgodovino nekdanjega Gutenwerda ter njegovo vlogo v prostoru in času. \n  \nVljudno vabljeni. \n 
URL:https://www.kc-sentjernej.si/dogodek/gutenwerd-vsakdanjik-v-srednjem-veku/
CATEGORIES:Izobraževanje,izpostavljamo,Razstava,Slovesnost
ATTACH;FMTTYPE=image/png:https://www.kc-sentjernej.si/wp-content/uploads/2026/02/Gutenwerd-vabilo.png
END:VEVENT
BEGIN:VEVENT
DTSTART;TZID=Africa/Abidjan:20260214T090000
DTEND;TZID=Africa/Abidjan:20260214T120000
DTSTAMP:20260421T113708
CREATED:20260124T070556Z
LAST-MODIFIED:20260124T070556Z
UID:8421-1771059600-1771070400@www.kc-sentjernej.si
SUMMARY:ŠENTJERNEJSKA TRŽNICA - kratka pot do bogatega okusa
DESCRIPTION:Vabljeni na dobrote s šentjernejskih kmetij \n ŠENTJERNEJSKA TRŽNICA – kratka pot do bogatega okusa \nv soboto\, 14. 2. 2026\,\nod 9. do 12. ure\nna ploščadi pred Kulturnim centrom Primoža Trubarja. \nPristni domači okusi podeželja\,\nponudniki pridelkov in izdelkov s šentjernejskih kmetij in\nprijetno vzdušje. \nVeselimo se vašega obiska!
URL:https://www.kc-sentjernej.si/dogodek/sentjernejska-trznica-kratka-pot-do-bogatega-okusa-2/
CATEGORIES:tržnica
ATTACH;FMTTYPE=image/jpeg:https://www.kc-sentjernej.si/wp-content/uploads/2026/01/l_1223226_1.jpg
END:VEVENT
BEGIN:VEVENT
DTSTART;TZID=Africa/Abidjan:20260215T160000
DTEND;TZID=Africa/Abidjan:20260215T173000
DTSTAMP:20260421T113708
CREATED:20260211T100122Z
LAST-MODIFIED:20260211T100122Z
UID:8465-1771171200-1771176600@www.kc-sentjernej.si
SUMMARY:Kasaška akademija  ´25
DESCRIPTION:Kasaška zveza Slovenije v sodelovanju s Kasaškim klubom Šentjernej vabi na \nKASAŠKO AKADEMIJO ´25\, \nkjer bodo na svečanem dogodku podeljena priznanja in nagrade najboljšim kasačem sezone 2025. \n 
URL:https://www.kc-sentjernej.si/dogodek/kasaska-akademija-25/
CATEGORIES:Slovesnost
ATTACH;FMTTYPE=image/png:https://www.kc-sentjernej.si/wp-content/uploads/2026/02/Vabilo_Kasaska-akademija_2025_KC-Primoza-Trubarja.png
END:VEVENT
BEGIN:VEVENT
DTSTART;TZID=Africa/Abidjan:20260218T180000
DTEND;TZID=Africa/Abidjan:20260218T180000
DTSTAMP:20260421T113708
CREATED:20260112T101946Z
LAST-MODIFIED:20260112T101946Z
UID:8398-1771437600-1771437600@www.kc-sentjernej.si
SUMMARY:POTOPISNA PREDAVANJA ŠENTJERNEJČANOV
DESCRIPTION:Knjižnica Šentjernej in Razvojno izobraževalni center Novo mesto vljudno vabita na potopisno predavanje POTOPISNA DOŽIVETJA ŠENTJERNEJČANOV\, \nki bo v sredo\, 18. februarja 2026\, ob 18. uri v Kulturnem centru Primoža Trubarja. \nTokrat vas v sklopu potopisnih večerov z našimi rojaki vabimo na dogodivščine\, ki jih je na potovanju po Kirgiziji doživela Špela Pucelj. Pridružite se nam na prijetnem večeru\, polnem zanimivih zgodb\, fotografij in druženja. \nBrezplačna udeležba. \n  \nVljudno vabljeni!
URL:https://www.kc-sentjernej.si/dogodek/potopisna-predavanja-sentjernejcanov-2/
CATEGORIES:Izobraževanje,Pogovorni večer,Predavanje
ATTACH;FMTTYPE=image/jpeg:https://www.kc-sentjernej.si/wp-content/uploads/2026/01/Potopisna-predavanja_Spela-Pucelj_Kirgizija-1.jpg
END:VEVENT
BEGIN:VEVENT
DTSTART;TZID=Africa/Abidjan:20260219T170000
DTEND;TZID=Africa/Abidjan:20260219T170000
DTSTAMP:20260421T113708
CREATED:20260112T075705Z
LAST-MODIFIED:20260217T084020Z
UID:8387-1771520400-1771520400@www.kc-sentjernej.si
SUMMARY:PREDSTAVITEV PROGRAMOV DORA\, ZORA in SVIT - ODPOVEDANO
DESCRIPTION:PREDAVANJE ODPOVEDANO – PRESTAVLJENO V MESEC APRIL (datum javimo naknadno) \nSpoštovani\, \nRazvojno izobraževalni center Novo mesto in Večgeneracijski center SKUPAJ+ v sodelovanju z Nacionalnim inštitutom za javno zdravje \nvas vabijo na predavanje z naslovom Predstavitev programov Dora\, Zora in Svit\, ki bo v četrtek\, 19. februarja 2026\, ob 17. uri v avli Kulturnega centra Primoža Trubarja. \nUdeležencem predavanja bodo na modelih prikazane spremembe ob rakavih obolenjih. Izpostavljen bo tudi pomen samopregledovanja. \n  \nPredavateljici: \nDoroteja Kuhar\, dr. med. spec.\, NIJZ in predsednica Društva za boj proti raku Dolenjske in Bele krajine in Mojca Florjančič\, viš. m. s.\, univ. dipl. org.\, operativna vodja registra ZORA\, OI Ljubljana \n  \nVstop prost. \nVljudno vabljeni.
URL:https://www.kc-sentjernej.si/dogodek/predstavitev-programov-dora-zora-in-svit/
CATEGORIES:Izobraževanje,Predavanje
ATTACH;FMTTYPE=image/jpeg:https://www.kc-sentjernej.si/wp-content/uploads/2026/01/logotip-01-2.jpg
END:VEVENT
BEGIN:VEVENT
DTSTART;TZID=Africa/Abidjan:20260221T190000
DTEND;TZID=Africa/Abidjan:20260221T190000
DTSTAMP:20260421T113708
CREATED:20260122T145616Z
LAST-MODIFIED:20260122T145616Z
UID:8416-1771700400-1771700400@www.kc-sentjernej.si
SUMMARY:VEČER LJUDSKIH PESMI
DESCRIPTION:Ljudski pevci Vrhpolje \nvas vljudno vabijo na Večer ljudskih pesmi\, ki bo potekal v soboto\, 21. februarja 2026\, ob 19. uri v Kulturnem centru Primoža Trubarja. \nSkupaj z gosti  – Ljudskimi godci in pevci Samotarji\, Kranjskimi furmani\, MePZ DU Mirna ter Klapo Parangal – bomo ustvarili večer\, poln domačih melodij in pristnega ljudskega izročila. \n  \nVSTOPNICE: 10 €  \nPrisrčno vabljeni na prijetno glasbeno druženje! \n  \n 
URL:https://www.kc-sentjernej.si/dogodek/vecer-ljudskih-pesmi-6/
CATEGORIES:Koncert
ATTACH;FMTTYPE=image/png:https://www.kc-sentjernej.si/wp-content/uploads/2026/01/Ljudski-pevci-2026-002-scaled.png
END:VEVENT
BEGIN:VEVENT
DTSTART;TZID=Africa/Abidjan:20260223T100000
DTEND;TZID=Africa/Abidjan:20260223T120000
DTSTAMP:20260421T113708
CREATED:20260217T084504Z
LAST-MODIFIED:20260220T173306Z
UID:8476-1771840800-1771848000@www.kc-sentjernej.si
SUMMARY:POČITNIŠKA DELAVNICA
DESCRIPTION:Kam med počitnicami? \nV KC na delavnice! \nLuštno bo! \n 
URL:https://www.kc-sentjernej.si/dogodek/brezplacne-pocitniske-delavnice-za-osnovnosolce/
CATEGORIES:Delavnica,za otroke
ATTACH;FMTTYPE=image/jpeg:https://www.kc-sentjernej.si/wp-content/uploads/2026/02/2026-POCITNISKA-DELAVNICA-rocno-tkanje-Sentjernej-Zagar.jpg
END:VEVENT
BEGIN:VEVENT
DTSTART;TZID=Africa/Abidjan:20260223T190000
DTEND;TZID=Africa/Abidjan:20260223T190000
DTSTAMP:20260421T113708
CREATED:20260211T203947Z
LAST-MODIFIED:20260211T204034Z
UID:8468-1771873200-1771873200@www.kc-sentjernej.si
SUMMARY:Zamolčana stran
DESCRIPTION:Občinski odbor VSO Šentjernej vabi na predstavitev knjige in pogovorni večer z avtorjem Boštjanom M. Turkom. \nBrezplačna udeležba
URL:https://www.kc-sentjernej.si/dogodek/zamolcana-stran/
CATEGORIES:Pogovorni večer
ATTACH;FMTTYPE=image/png:https://www.kc-sentjernej.si/wp-content/uploads/2026/02/Zamolcana-stran-VABILO-1.png
END:VEVENT
BEGIN:VEVENT
DTSTART;TZID=Africa/Abidjan:20260224T100000
DTEND;TZID=Africa/Abidjan:20260224T120000
DTSTAMP:20260421T113708
CREATED:20260217T084332Z
LAST-MODIFIED:20260220T173150Z
UID:8480-1771927200-1771934400@www.kc-sentjernej.si
SUMMARY:POČITNIŠKA DELAVNICA
DESCRIPTION:Kam med počitnicami? Na delavnico v KC! \nNekaj za spretne prste\, kjer ustvarjanju ni videti konca!
URL:https://www.kc-sentjernej.si/dogodek/pocitniska-delavnica/
CATEGORIES:Delavnica,za otroke
ATTACH;FMTTYPE=image/jpeg:https://www.kc-sentjernej.si/wp-content/uploads/2026/02/2026-POCITNISKA-DELAVNICA-igrajmo-se-arhitekturo-Sentjernej-Zanoski-in-Plevnik.jpg
END:VEVENT
BEGIN:VEVENT
DTSTART;TZID=Africa/Abidjan:20260227T193000
DTEND;TZID=Africa/Abidjan:20260227T193000
DTSTAMP:20260421T113708
CREATED:20260109T070823Z
LAST-MODIFIED:20260227T134957Z
UID:8378-1772220600-1772220600@www.kc-sentjernej.si
SUMMARY:GOSPODARJI NEUMNOSTI - ODPOVEDANO
DESCRIPTION:Spoštovani\, obveščamo\, da je predstava zaradi bolezni v igralskem ansamblu odpovedana.\nUsklajujemo termin za aprilsko gostovanje\, prosimo\, da spremljate obvestila.\nHvala za razumevanje.\n\n \nHumoristična tragedija\nPRODUKCIJA Prešernovo gledališče Kranj \n  \nRežija: Tijana Zinajić \nDramaturg: Jure Karas \nAvtor glasbe\, korepetitor in pianist: Anže Vrabec\nIgrajo: Vesna Pernarčič\, Miha Rodman\, Borut Veselko\, Suzana Krevh k. g. \nGospodarji neumnosti je nova »vesela tragedija« avtorja Jureta Karasa\, ki v značilnem duhovito-družbenokritičnem tonu razpira večno vprašanje odnosa med Gospodarjem in Hlapcem. \nKdo nam vlada\, zakaj jim to dovolimo in kaj se zgodi\, ko razum izgubi boj z napuhom\, pohlepom in – neumnostjo? Predstava v nizu globoko neresnih prizorov razkriva absurd sodobnih odnosov – ljubezenskih\, delovnih in družbenih. Jure Karas nas skozi ironičen pogled na človeško naravo\, polno protislovij\, vabi k smehu in razmisleku. \nFoto: Nada Žgank \n  \nVSTOPNICE: 22 EUR redna cena\, 20 EUR dijaki\, študenti in upokojenci
URL:https://www.kc-sentjernej.si/dogodek/gospodarji-neumnosti-humoristicna-tragedija/
CATEGORIES:Abonmaji,Gledališče,Gledališki abonma
ATTACH;FMTTYPE=image/png:https://www.kc-sentjernej.si/wp-content/uploads/2026/01/Gospodarji-ODPOVEDANO-FB-event-cover.png
END:VEVENT
BEGIN:VEVENT
DTSTART;TZID=Africa/Abidjan:20260228T193000
DTEND;TZID=Africa/Abidjan:20260228T193000
DTSTAMP:20260421T113708
CREATED:20260109T124355Z
LAST-MODIFIED:20260109T124355Z
UID:8381-1772307000-1772307000@www.kc-sentjernej.si
SUMMARY:AKADEMSKI PEVSKI ZBOR TONE TOMŠIČ UNIVERZE V LJUBLJANI
DESCRIPTION:Cenjeni ljubitelji zborovske glasbe vljudno vabljeni na koncert \nAkademskega pevskega zbora Tone Tomšič Univerze v Ljubljani\, \nki bo v soboto\, 28. februarja 2026\, ob 19.30 v veliki dvorani Antona Lesjaka v Kulturnem centru Primoža Trubarja. \n  \nAkademski pevski zbor Tone Tomšič Univerze v Ljubljani združuje študentke in študente vseh fakultet Univerze v Ljubljani\, ki sta jim skupna velika ljubezen do petja in nenehna želja po vrhunskem umetniškem ustvarjanju. Že od svojega nastanka sodi med najpomembnejše usmerjevalce slovenskega zborovskega petja\, ne samo po izvajalsko-tehnični plati\, temveč tudi po svoji programski usmerjenosti. \n  \nV Akademskem pevskem zboru Tone Tomšič UL v letu 2026 ob 100. obletnici delovanja pripravljajo več dogodkov\, med njimi tudi koncertno turnejo po Sloveniji. Koncept koncertov združuje skrbno izbrane skladbe iz železnega repertoarja zbora ter skladbe z besedili iz slovenskih ljudskih pripovedk\, ki jih bodo skozi glasbo prepletli v enkratno doživetje. Na ta način želijo obeležiti svojo stoletno predanost slovenski besedi\, pesmi in kulturi ter obenem ustvariti nepozaben večer za naše občinstvo. \nDirigentka: Rahela Durič \n  \nVljudno vabljeni. \n  \nVSTOPNICE: 16 EUR
URL:https://www.kc-sentjernej.si/dogodek/akademski-pevski-zbor-tone-tomsic-univerze-v-ljubljani/
ATTACH;FMTTYPE=image/jpeg:https://www.kc-sentjernej.si/wp-content/uploads/2026/01/JK50065-scaled.jpg
END:VEVENT
END:VCALENDAR