BEGIN:VCALENDAR
VERSION:2.0
PRODID:-// - ECPv6.15.20//NONSGML v1.0//EN
CALSCALE:GREGORIAN
METHOD:PUBLISH
X-ORIGINAL-URL:https://www.kc-sentjernej.si
X-WR-CALDESC:Dogodki od 
REFRESH-INTERVAL;VALUE=DURATION:PT1H
X-Robots-Tag:noindex
X-PUBLISHED-TTL:PT1H
BEGIN:VTIMEZONE
TZID:Africa/Abidjan
BEGIN:STANDARD
TZOFFSETFROM:+0000
TZOFFSETTO:+0000
TZNAME:GMT
DTSTART:20250101T000000
END:STANDARD
END:VTIMEZONE
BEGIN:VEVENT
DTSTART;TZID=Africa/Abidjan:20260113T180000
DTEND;TZID=Africa/Abidjan:20260113T180000
DTSTAMP:20260421T152225
CREATED:20251208T090045Z
LAST-MODIFIED:20260107T120559Z
UID:8305-1768327200-1768327200@www.kc-sentjernej.si
SUMMARY:TOK PETELINOV KOKR TRT
DESCRIPTION:Ogled kratkega dokumentarnega filma s pogovorom \nTOK PETELINOV KOKR TRT \n\njanuar 2025 /ob 18. uri / Kulturni center Primoža Trubarja\n\nFilm je nastal v okviru delavnice kratkega dokumentarnega filma. Sodelujoči so bili: Neli Hočevar\, Lana Lešnjak\, Nejc Mikec\, Zala Rebernik\, Nace Vide\, Luka Krmc\, Tia Turk\, Pika Zupančič\, Petra Penca in Zarja Kralj. \n  \nMentorji delavnice: Kaja Cvelbar\, Zigo Omerzel\, Tomaž Stupar \nScenarij: skupinsko delo \nRežija: Zigi Omerzel \nNastopajoči: Neli Hočevar\, Lana Lešnjak\, Nejc Mikec\, Zala Rebernik \nGostje v filmu: Janez Selak\, Otilija – zbirka petelinov in glasbil; Mihaela Blatnik\, ustanovna članica Društva kmetic Šentjernej; Jože Simončič\, dolgoletni ekonom Kartuzije Pleterje \nSnemanje/montaža: Tomaž Stupar \nTehnična pomoč: Nace Vide \nDolžina 20 min. \n  \nZa pomoč in sodelovanju se zahvaljujemo Kulturnemu centru Primoža Trubarja\, Društvu kmetic Šentjernej\, Mihaeli Blatnik\, Jožetu Simončiču in Janezu Selaku. \nPrireditveni in izobraževalni program sofinancira Občina Šentjernej. \nZa pomoč pri projekciji filma se zahvaljujemo JP EDŠ. \nProjekt je omogočila Občina Šentjernej. \nPo projekciji filma sledi pogovorni večer z zanimivimi gosti. \nVljudno vabljeni! \n  \nProst vstop.
URL:https://www.kc-sentjernej.si/dogodek/tok-petelinov-kokr-trt/
CATEGORIES:Film,Pogovorni večer
ATTACH;FMTTYPE=image/png:https://www.kc-sentjernej.si/wp-content/uploads/2025/12/Posnetek-zaslona-2025-12-07-185134-e1765184388621.png
END:VEVENT
BEGIN:VEVENT
DTSTART;TZID=Africa/Abidjan:20260114T180000
DTEND;TZID=Africa/Abidjan:20260114T180000
DTSTAMP:20260421T152225
CREATED:20251218T143542Z
LAST-MODIFIED:20251222T133602Z
UID:8329-1768413600-1768413600@www.kc-sentjernej.si
SUMMARY:POTOPISNA PREDAVANJA ŠENTJERNEJČANOV
DESCRIPTION:Knjižnica Šentjernej in Razvojno izobraževalni center Novo mesto vljudno vabita na potopisno predavanje POTOPISNA DOŽIVETJA ŠENTJERNEJČANOV\, \nki bo v sredo\, 14. januarja 2026\, ob 18. uri v Kulturnem centru Primoža Trubarja. \nTokrat vas v sklopu potopisnih večerov z našimi rojaki vabimo na dogodivščine\, ki sta jih na potovanju po Mongoliji doživela Jana in Lojze Hosta. Pridružite se nam na prijetnem večeru\, polnem zanimivih zgodb\, fotografij in druženja. \nBrezplačna udeležba. \n  \nVljudno vabljeni!
URL:https://www.kc-sentjernej.si/dogodek/potopisna-predavanja-sentjernejcanov/
CATEGORIES:Izobraževanje,Pogovorni večer,Predavanje
ATTACH;FMTTYPE=image/jpeg:https://www.kc-sentjernej.si/wp-content/uploads/2025/12/20251218_151955.jpg
END:VEVENT
BEGIN:VEVENT
DTSTART;TZID=Africa/Abidjan:20260115T193000
DTEND;TZID=Africa/Abidjan:20260115T193000
DTSTAMP:20260421T152225
CREATED:20251202T144536Z
LAST-MODIFIED:20251202T144536Z
UID:8309-1768505400-1768505400@www.kc-sentjernej.si
SUMMARY:KAR JE BILO IN KAR BO
DESCRIPTION:Tankočutna komedija\n\nPRODUKCIJA Mestno gledališče Ptuj\n\nV slovenskem in črnogorskem jeziku z nadnapisi \nPREVOD\, REŽIJA IN SCENOGRAFIJA: Samo M. Strelec \nGLASBA: Petar Edlan \nIGRAJO: Ksenija Mišič\, Srdjan Grahovac\, Vid Klemenc \nZgodba govori o zakoncih\, ki sedita v gledališki dvorani in čakata\, da se bo predstava pričela\, a se še pred njenim začetkom sporečeta. Ko se predstava na odru le začne\, gledališki oder dobi nenavadno moč in gledalca kar posrka vase – dobesedno. Spremljati začneta zgodbo\, v kateri nastopata sama. Gledata svojo lastno zgodovino: kako sta se spoznala\, zaljubila\, dobila otroke. Vendar tu gledališke čarovnije še ni konec. Zdaj lahko izbirata\, ali želita pogledati tudi v svojo prihodnost. \nSpremljamo njune želje\, misli\, spomine\, pa tudi hrepenenja in strahove. \n  \nVSTOPNICE: 22 EUR redna cena\, 20 EUR dijaki\, študenti in upokojenci
URL:https://www.kc-sentjernej.si/dogodek/kar-je-bilo-in-kar-bo/
CATEGORIES:Gledališče,Gledališki abonma
ATTACH;FMTTYPE=image/jpeg:https://www.kc-sentjernej.si/wp-content/uploads/2025/12/STZ_1630-1.jpg
END:VEVENT
BEGIN:VEVENT
DTSTART;TZID=Africa/Abidjan:20260120T170000
DTEND;TZID=Africa/Abidjan:20260120T170000
DTSTAMP:20260421T152225
CREATED:20260108T122400Z
LAST-MODIFIED:20260108T122836Z
UID:8374-1768928400-1768928400@www.kc-sentjernej.si
SUMMARY:DRŽAVNI PRESEJALNI PROGRAMI V SLOVENIJI
DESCRIPTION:Spoštovani\, \nRazvojno izobraževalni center Novo mesto in Večgeneracijski center SKUPAJ+ v sodelovanju z Nacionalnim inštitutom za javno zdravje \nvas vabijo na predavanje z naslovom Državni presejalni programi v Sloveniji\, ki bo v torek\, 20. januarja 2026\, ob 17. uri v avli Kulturnega centra Primoža Trubarja. \nNa predavanju bodo predstavljeni vsi preventivni programi\, ki so v Sloveniji sistemsko urejeni in tudi njihova nadgradnja. \n  \nPredavateljica: Doroteja Kuhar\, dr. med. spec.\, NIJZ in predsednica Društva za boj proti raku Dolenjske in Bele krajine \nVstop prost. \n  \nVljudno vabljeni.
URL:https://www.kc-sentjernej.si/dogodek/drzavni-presejalni-programi-v-sloveniji/
CATEGORIES:Izobraževanje,Predavanje
ATTACH;FMTTYPE=image/jpeg:https://www.kc-sentjernej.si/wp-content/uploads/2026/01/logotip-01-1.jpg
END:VEVENT
BEGIN:VEVENT
DTSTART;TZID=Africa/Abidjan:20260122T170000
DTEND;TZID=Africa/Abidjan:20260122T170000
DTSTAMP:20260421T152225
CREATED:20251202T144751Z
LAST-MODIFIED:20251202T155727Z
UID:8281-1769101200-1769101200@www.kc-sentjernej.si
SUMMARY:BELO SE PERE NA DEVETDESET
DESCRIPTION:Belo se pere na devetdeset\n\nIgrajo: Anica Dobra\, Iva Krajnc Bagola\, Jurij Zrnec\, Lea Cok\, Polona Juh\, Saša Tabaković\, Tjaša Železnik\, Vladimir Tintor\nRežiser: Marko Naberšnik\nŽanr: Drama\nPremiera: 20. 11. 2025\n\nGanljiv\, humoren in navdihujoč film o soočanju z boleznijo. Zgodba spremlja Bronjo skozi različna obdobja njenega življenja. Potem ko v otroštvu zaradi raka izgubi mamo\, se mora v mladosti s to zahrbtno boleznijo soočiti še sama. Kljub številnim in skoraj nepremostljivim izzivom se Bronja z njimi spoprijema z mešanico solz\, smeha in neomajnega optimizma. Film temelji na resnični zgodbi in avtobiografskem romanu z istim naslovom. Doživel je že devet ponatisov. \nV vlogi Bronjinega očeta nastopa Jurij Zrnec\, v glavni vlogi igra Lea Cok\, ki je upodobila starejšo Bronjo\, mlajšo verzijo pisateljice pa je zaigrala Mei Rabič. Mlajšega brata Roka je upodobil Jaka Mehle\, starejšega pa Žiga Šorli. V vlogi Bronjine mame nastopa Tjaša Železnik\, babica je Anica Dobra. Kot ožja sorodnika se v filmu pojavita še Saša Tabaković in Iva Krajnc Bagola. \n  \nO KNJIGI:\nBelo se pere na devetdeset je pretresljiv\, duhovit in navdihujoč roman\, ki opisuje življenjsko zgodbo pripovedovalke\, odraščajoče v 70. in 80. letih. Njen otroški svet sestavljajo starši\, brat Rok\, babica Dada\, tete in strici\, pa benko\, albert keksi\, Oddaja o morju in pomorščakih\, Gavrilović in prenos sarajevskih olimpijskih iger. A čeprav govori o naštetem\, je avtobiografski roman predvsem pripoved o odraščanju\, soočanju z izgubo in boleznijo\, pripoved o udomačevanju strahu in vsem tistem\, česar nočemo videti\, dokler s tem nismo neizbežno soočeni. \nVSTOPNICE: 7 EUR \nOgledu filma bo sledil pogovor z avtorico knjižne pisateljico Bronjo Žakelj.  \nVljudno vabljeni!
URL:https://www.kc-sentjernej.si/dogodek/belo-se-pere-na-devetdeset/
CATEGORIES:Film,izpostavljamo,pogovor
ATTACH;FMTTYPE=image/jpeg:https://www.kc-sentjernej.si/wp-content/uploads/2025/11/FB-event-cover-1200x628-px.jpg
END:VEVENT
BEGIN:VEVENT
DTSTART;TZID=Africa/Abidjan:20260123T190000
DTEND;TZID=Africa/Abidjan:20260123T190000
DTSTAMP:20260421T152226
CREATED:20251226T182541Z
LAST-MODIFIED:20260119T183819Z
UID:8348-1769194800-1769194800@www.kc-sentjernej.si
SUMMARY:KONCERT NOVOMEŠKEGA SIMFONIČNEGA ORKESTRA
DESCRIPTION:Vabimo vas na koncert Novomeškega simfoničnega orkestra\, ki bo v petek\, 23. januarja 2026\, v Kulturnem centru Primoža Trubarja v Šentjerneju. \nOrkester bo s skrbno izbranim programom poskrbel za nepozaben glasbeni večer. Pridružite se nam in doživite moč simfonične glasbe v prijetnem kulturnem ambientu. \n  \nDirigent: Miro Saje \n  \nProgram koncerta: \n\nBrian Balmages: (Up) Lifted\n\n\nAntonin Dvořák\, Merle Isaac: Simfonija št. 9 »Iz novega sveta«\, 1. stavek\n\n\nJože Privšek: Zlati prah imaš v očeh \n\nsolistka: Nina Strnad \n\nRok Golob: Samota   \n\nsolistka: Nina Strnad         \n\nTilen Slakan: Elegija in Tone Pavček: Čudenje\n\nrecitatorka: Eva Novak \n\nJure Robežnik: Orion \n\nsolistka: Nina Strnad \n\nJames Horner\, prir. John Moss: Titanic\n\nFoto: R. Kokol \n  \nProgram povezuje: Eva Novak \n  \nVSTOPNICE: 8 EUR redna cena\, 1 EUR za osnovnošolce in učence Glasbene šole Marjana Kozine Novo mesto
URL:https://www.kc-sentjernej.si/dogodek/koncert-novomeskega-simfonicnega-orkestra-6/
CATEGORIES:Glasba,Koncert
ATTACH;FMTTYPE=image/jpeg:https://www.kc-sentjernej.si/wp-content/uploads/2025/12/Simfoniki-1.jpg
END:VEVENT
BEGIN:VEVENT
DTSTART;TZID=Africa/Abidjan:20260124T090000
DTEND;TZID=Africa/Abidjan:20260124T120000
DTSTAMP:20260421T152226
CREATED:20260124T070926Z
LAST-MODIFIED:20260124T070926Z
UID:8424-1769245200-1769256000@www.kc-sentjernej.si
SUMMARY:ŠENTJERNEJSKA TRŽNICA - kratka pot do bogatega okusa
DESCRIPTION:Vabljeni na dobrote s šentjernejskih kmetij \n ŠENTJERNEJSKA TRŽNICA – kratka pot do bogatega okusa \nv soboto\, 24. 1. 2026\,\nod 9. do 12. ure\nna ploščadi pred Kulturnim centrom Primoža Trubarja. \nPristni domači okusi podeželja\,\nponudniki pridelkov in izdelkov s šentjernejskih kmetij in\nprijetno vzdušje. \nVeselimo se vašega obiska!
URL:https://www.kc-sentjernej.si/dogodek/sentjernejska-trznica/
CATEGORIES:tržnica
ATTACH;FMTTYPE=image/jpeg:https://www.kc-sentjernej.si/wp-content/uploads/2026/01/l_1223226_1.jpg
END:VEVENT
BEGIN:VEVENT
DTSTART;TZID=Africa/Abidjan:20260127T170000
DTEND;TZID=Africa/Abidjan:20260127T170000
DTSTAMP:20260421T152226
CREATED:20251227T065549Z
LAST-MODIFIED:20260108T114408Z
UID:8356-1769533200-1769533200@www.kc-sentjernej.si
SUMMARY:ŠKRATKA SLADKA
DESCRIPTION:Gledališka predstava \nOtroški abonma in izven \nŠKRATKA SLADKA \n  \nProdukcija: KUKUC gledališče \nREŽIJA IN SCENARIJ: Urška Raščan \nIGRATA: Gašper Lenart in Petra Jauk \nTeta Omleta je skrila namige in vsi škratje iz Sladkodola so na lovu za skritim zakladom. Tudi Škratka Sladka\, ki bo tokrat prispela v čudovit kraj\, kjer jo pričaka kopica nasmejanih otrok. Otrok\, ki imajo s seboj čarobne prstke in z veseljem pomagajo mali škratki\, ko ji zmanjka orehov\, ko se iz pečice kadi še preden je uspela prešteti do deset\, ko se njen prijatelj noče igrati s samorogi\, ko ji uide »nagajiva moka« in ji zlata ribica izpolni samo dve želji. \nPRIMERNO ZA STAROST 3 + TRAJANJE 35 minut \nFOTO: Samo Tanacek \n  \nVSTOPNICE: 7 EUR
URL:https://www.kc-sentjernej.si/dogodek/skratka-sladka/
CATEGORIES:Gledališče,Otroški abonma,za otroke
ATTACH;FMTTYPE=image/png:https://www.kc-sentjernej.si/wp-content/uploads/2025/12/Skratka-Sladka-IG.png
END:VEVENT
END:VCALENDAR