BEGIN:VCALENDAR
VERSION:2.0
PRODID:-// - ECPv6.15.20//NONSGML v1.0//EN
CALSCALE:GREGORIAN
METHOD:PUBLISH
X-ORIGINAL-URL:https://www.kc-sentjernej.si
X-WR-CALDESC:Dogodki od 
REFRESH-INTERVAL;VALUE=DURATION:PT1H
X-Robots-Tag:noindex
X-PUBLISHED-TTL:PT1H
BEGIN:VTIMEZONE
TZID:Africa/Abidjan
BEGIN:STANDARD
TZOFFSETFROM:+0000
TZOFFSETTO:+0000
TZNAME:GMT
DTSTART:20240101T000000
END:STANDARD
END:VTIMEZONE
BEGIN:VEVENT
DTSTART;TZID=Africa/Abidjan:20251201T193000
DTEND;TZID=Africa/Abidjan:20251201T213000
DTSTAMP:20260422T030236
CREATED:20251023T070648Z
LAST-MODIFIED:20251023T070648Z
UID:8202-1764617400-1764624600@www.kc-sentjernej.si
SUMMARY:ŠE VEDNO ALICE
DESCRIPTION:Drama\nŠE VEDNO ALICE\n\n\nProdukcija SNG Drama Ljubljana\nREŽIJA:  Matjaž Zupančič \nPREVOD IN DRAMATURGIJA: Darja Dominkuš \nIGRAJO: Polona Juh\, Maja Sever\, Bojan Emeršič\, Domen Novak\, Eva Jesenovec\, Sabina Kogovšek\, Matija Rozman \nPogled v notranjo pokrajino znanstvenice\, ki jo na vrhuncu kariere prizadene Alzheimerjeva bolezen. \nZnanstvenica Lisa Genova je leta 2007 objavila roman\, v katerem je opisala\, kako je pojav zgodnje Alzheimerjeve bolezni spremenil življenje lingvistke Alice Howland\, ugledne profesorice na oddelku za kognitivno nevroznanost. Alice je bila pri skoraj petdesetih na vrhuncu znanstvene kariere\, imela je odrasle otroke in uspešnega moža\, tudi znanstvenika. Ko je začela pozabljati besede in se izgubljati na vsakdanjih poteh\, se je začelo tudi njeno dolgo potovanje v neznano. \nPredstava spremlja stopnjevanje bolezni in ob težkih preizkušnjah Alice in njenih najbližjih govori tudi o tem\, da se življenje nadaljuje in da ni v njem nič samoumevno.. \nFOTO Peter Uhan \nVSTOPNICE: 22 EUR redna cena\, 20 EUR dijaki\, študenti in upokojenci \n  \nVabljeni!
URL:https://www.kc-sentjernej.si/dogodek/se-vedno-alice/
CATEGORIES:Gledališče,Gledališki abonma,Izven
ATTACH;FMTTYPE=image/jpeg:https://www.kc-sentjernej.si/wp-content/uploads/2025/10/SE_VEDNO_ALICE_arhiv_HiRes©PeterUhan_237-scaled.jpg
END:VEVENT
BEGIN:VEVENT
DTSTART;TZID=Africa/Abidjan:20251206T190000
DTEND;TZID=Africa/Abidjan:20251206T210000
DTSTAMP:20260422T030236
CREATED:20251111T124426Z
LAST-MODIFIED:20251118T132708Z
UID:8254-1765047600-1765054800@www.kc-sentjernej.si
SUMMARY:MIKLAVŽEV KONCERT PIHALNEGA ORKESTRA OBČINE ŠENTJERNEJ
DESCRIPTION:Miklavžev koncert Pihalnega orkestra Občine Šentjernej \nČlani Pihalnega orkestra Občine Šentjernej vabijo na čaroben večer z glasbo\, ki zaznamuje prihajajoče praznike. \nOrkester\, ki ga bo vodil dirigent Benjamin Burger\, vam bo ponudil popotovanje v praznični čas. \nGostja večera bo sopranistka Ema Pavlič\, niti med skladbami pa bo s svojim šarmom spletala Vesna Topolovec. \nVSTOPNICE: 10 €  \nVljudno vabljeni!
URL:https://www.kc-sentjernej.si/dogodek/miklavzev-koncert/
CATEGORIES:Glasba,Koncert
ATTACH;FMTTYPE=image/jpeg:https://www.kc-sentjernej.si/wp-content/uploads/2025/11/1000000121.jpg
END:VEVENT
BEGIN:VEVENT
DTSTART;TZID=Africa/Abidjan:20251209T170000
DTEND;TZID=Africa/Abidjan:20251209T180000
DTSTAMP:20260422T030236
CREATED:20251111T081712Z
LAST-MODIFIED:20251126T175733Z
UID:8251-1765299600-1765303200@www.kc-sentjernej.si
SUMMARY:ŠIVILJA IN ŠKARJICE
DESCRIPTION:Gostujoča topliška gledališka skupina KUD Vesel Teater bo odigrala čudovito otroško predstavo Šivilja in škarjice. \nOb bližajočem se Kettejevem letu 2026 so gledališčniki na oder postavili priljubljeno pravljico\, ki jo vsi zagotovo dobro poznajo – zgodbo o ustvarjalnosti\, prijaznosti in malih čudežih vsakdanjega sveta. \nŠivilja in škarjice (Dragotin Kette)\, priredba pravljice \nKUD Vesel Teater \nRežija: Nadja Pršina \nIgrajo: Nadja Pršina\, Suzana Bradač\, Sandra Samida\, Marko Pršina \nTehnična oprema: Marko Pršina in Aljaž Aš \nO predstavi: V starih časih je bila na nekem gradu šivilja prijazna deklica. Imela je ogromno dela\, saj si je grajska gospa želela vedno novih oblek. Utrujena je nekoč pomislila: “Kaj\, ko bi jaz imela take škarjice\, ki bi kar same obleko urezale?” In takšne škarjice je tudi dobila. Imela jih je do tistega dne\, ko je zanje izvedela hudobna grajska gospa … \nK ogledu ste vabljeni obiskovalci vseh starosti. \nBREZPLAČNE VSTOPNICE \nVljudno vabljeni!
URL:https://www.kc-sentjernej.si/dogodek/sivilja-in-skarjice/
CATEGORIES:Gledališče,za otroke
ATTACH;FMTTYPE=image/jpeg:https://www.kc-sentjernej.si/wp-content/uploads/2025/11/Sivilja-in-skarjice_Stj_Small.jpg
END:VEVENT
BEGIN:VEVENT
DTSTART;TZID=Africa/Abidjan:20251213T190000
DTEND;TZID=Africa/Abidjan:20251213T190000
DTSTAMP:20260422T030236
CREATED:20251126T175245Z
LAST-MODIFIED:20251126T175245Z
UID:8291-1765652400-1765652400@www.kc-sentjernej.si
SUMMARY:LETNI KONCERT ŠENTJERNEJSKEGA OKTETA
DESCRIPTION:Šentjernejski oktet že tradicionalno ob koncu leta vabi na letni koncert\, ki bo v soboto\, 13. decembra 2025\, ob 19. uri v Kulturnem centru Primoža Trubarja. \nČlani okteta pripravljajo program\, ki izhaja iz ljudske in domače pesmi. \nVabljeni na večer lepega petja. \nVSTOPNICE: 10 €
URL:https://www.kc-sentjernej.si/dogodek/letni-koncert-sentjernejskega-okteta-4/
CATEGORIES:Glasba,Koncert
ATTACH;FMTTYPE=image/jpeg:https://www.kc-sentjernej.si/wp-content/uploads/2025/11/1764060124674_OKTET-koncert-2025.jpg.jpg
END:VEVENT
BEGIN:VEVENT
DTSTART;TZID=Africa/Abidjan:20251215T170000
DTEND;TZID=Africa/Abidjan:20251215T170000
DTSTAMP:20260422T030236
CREATED:20251127T125341Z
LAST-MODIFIED:20251127T145830Z
UID:8297-1765818000-1765818000@www.kc-sentjernej.si
SUMMARY:TONI\, STAŠA IN ČAROBNA LUČ
DESCRIPTION:Napovednik filma \n  \nLutkovno animirani film \nDISTRIBUCIJA Demiurg \nREŽIJA Filip Pošivač \nPRODUKCIJA Češka\, Madžarska\, Slovaška/2023 \nSinhronizirano v slovenščino \nPrimerno za starost 7+ \nTrajanje: 82 minut \nDeček Toni ima posebno lastnost\, s katero se je rodil – žari. Dneve preživlja doma\, saj ga preveč zaščitniška starša ne pustita ven\, da bi ga ubranila pred svetom. Skrit v svoji sobi sanja o prijateljstvu. \nPred božičem pa se v njihovo hišo priseli nenavadno dekle po imenu Staša. Tonijev bujen domišljijski svet in Stašina odločna neustrašnost se povežeta v iskrenem prijateljstvu. Skupaj se podata na pustolovsko iskanje izvora skrivnostnih pasov teme\, ki se občasno priplazijo v hišo in iz nje srkajo svetlobo. \nAnimirani film je bil na številnih festivalih\, prejel je več nagrad:  Annecy IFF 2023 (posebna nagrada žirije)\, Zlin CFF 2023\, Pulj IFF 2023\, Giffoni CFF 2023 (nagrada)\, Fantoche IFF Baden 2023\, Cinedu CFF Nove mesto nad Vahom 2023\, Cinemagic Belfast 2023\, Schlingel CFF Chemnitz 2023 (nagrada)\, Lucas SBB Frankfurt 2023\, Cinekid Amsterdam 2023 \n  \nVSTOPNICE: 7 EUR \n 
URL:https://www.kc-sentjernej.si/dogodek/toni-stasa-in-carobna-luc/
CATEGORIES:Film,Otroški abonma,za otroke
ATTACH;FMTTYPE=image/jpeg:https://www.kc-sentjernej.si/wp-content/uploads/2025/11/MainStill_TonyShellyMagicLight01-1-150x150-1.jpg
END:VEVENT
BEGIN:VEVENT
DTSTART;TZID=Africa/Abidjan:20251216T180000
DTEND;TZID=Africa/Abidjan:20251216T200000
DTSTAMP:20260422T030236
CREATED:20251117T090912Z
LAST-MODIFIED:20251117T090912Z
UID:8270-1765908000-1765915200@www.kc-sentjernej.si
SUMMARY:POTOPISNA DOŽIVETJA ŠENTJERNEJČANOV
DESCRIPTION:Knjižnica Šentjernej in Razvojno izobraževalni center Novo mesto vljudno vabita na potopisno predavanje POTOPISNA DOŽIVETJA ŠENTJERNEJČANOV\, \nki bo v torek\, 16. decembra 2025\, ob 18. uri v Kulturnem centru Primoža Trubarja. \nTokrat vas v sklopu potopisnih večerov z našimi rojaki vabimo na dogodivščine\, ki so jih v sklopu humanitarne odprave in potovanja po južni Tanzaniji in Zanzibarju doživeli Larisa Grubič in fizioterapevti brez meja. \nBrezplačna udeležba. \n  \nVljudno vabljeni!
URL:https://www.kc-sentjernej.si/dogodek/potopisna-dozivetja-sentjernejcanov-2/
CATEGORIES:Izobraževanje,Pogovorni večer,Predavanje
ATTACH;FMTTYPE=image/jpeg:https://www.kc-sentjernej.si/wp-content/uploads/2025/11/tanzanija-1-e1763369802459.jpg
END:VEVENT
BEGIN:VEVENT
DTSTART;TZID=Africa/Abidjan:20251219T193000
DTEND;TZID=Africa/Abidjan:20251219T193000
DTSTAMP:20260422T030236
CREATED:20251106T133723Z
LAST-MODIFIED:20251106T133723Z
UID:8233-1766172600-1766172600@www.kc-sentjernej.si
SUMMARY:BORT ROSS & NOMADI
DESCRIPTION:BORT ROSS KONCERT \nBort Ross je vsestranski glasbenik\, ki vabi na prijeten večer avtorske glasbe.\nBort se bo predstavil s svojimi Nomadi – glasbeno zasedbo\, ki vrhunsko dopolnjuje avtorska besedila in izvaja čutne aranžmaje skladb. Glasba večera bo v vas vzbudila veliko pozornosti in vas ponesla daleč stran\, predvsem na čutno stran.\nVljudno vabljeni! \n  \nVSTOPNICE: 19 € redna cena\, 25 € cena na dan dogodka
URL:https://www.kc-sentjernej.si/dogodek/bort-ross-nomadi/
CATEGORIES:Glasba,Koncert
ATTACH;FMTTYPE=image/jpeg:https://www.kc-sentjernej.si/wp-content/uploads/2025/11/42522-395849349_823676403098347_5651331608502857223_n-601x600-1.jpg
END:VEVENT
BEGIN:VEVENT
DTSTART;TZID=Africa/Abidjan:20251220T190000
DTEND;TZID=Africa/Abidjan:20251220T210000
DTSTAMP:20260422T030236
CREATED:20251111T075051Z
LAST-MODIFIED:20251112T093705Z
UID:8243-1766257200-1766264400@www.kc-sentjernej.si
SUMMARY:BOŽIČNI VEČER Z ORKESTROM AVE
DESCRIPTION:Počasi prehajamo v praznični mesec december. Mesec topline\, povezanosti in ljubezni. V želji\, da z nami doživite prijeten glasbeni večer\, vas glasbeniki Orkestra Ave prisrčno vabimo na naš tradicionalni Božični koncert. S pojočimi\, navdihujočimi in spevnimi melodijami\, vas bomo popeljali v prelep predbožični čas. Poskrbeli bomo za toplo vzdušje\, ki ga v nas vzbudi pesem Sveta noč ter se od vas poslovili z mogočno Straussovo koračnico Radetzky Marsch. \nVSTOPNICE: 10 € – otroci\, dijaki\, študentje\, upokojenci (samo na blagajni KCPT)\, 12 € redna cena \nVeseli bomo vašega obiska! \n  \n 
URL:https://www.kc-sentjernej.si/dogodek/bozicni-vecer-z-orkestrom-ave-5/
CATEGORIES:Glasba,Koncert
ATTACH;FMTTYPE=image/jpeg:https://www.kc-sentjernej.si/wp-content/uploads/2025/11/474969544_909866307801164_686233891902533050_n-1.jpg
END:VEVENT
BEGIN:VEVENT
DTSTART;TZID=Africa/Abidjan:20251223T180000
DTEND;TZID=Africa/Abidjan:20251223T180000
DTSTAMP:20260422T030236
CREATED:20251218T081830Z
LAST-MODIFIED:20251218T081830Z
UID:8326-1766512800-1766512800@www.kc-sentjernej.si
SUMMARY:PRIČAKOVANJA
DESCRIPTION:Večer bomo posvetili bogatemu slovenskemu ljudskemu izročilu\,\nki skozi pesem\, besedo in gib povezuje preteklost\, sedanjost in prihodnost\nter nas spominja na vrednote\, na katerih temeljita naša samostojnost in skupnost. \nV prijetnem prazničnem vzdušju vam bodo učenci in učitelji\ns kulturnim programom pričarali toplino decembrskih dni\nter skupaj z vami obeležili pomembne trenutke naše skupne zgodbe. \nVeselimo se vaše prisotnosti. \nOsnovna šola Šentjernej
URL:https://www.kc-sentjernej.si/dogodek/pricakovanja/
CATEGORIES:folklora,Slovesnost
ATTACH;FMTTYPE=image/jpeg:https://www.kc-sentjernej.si/wp-content/uploads/2025/12/pricakovanja.jpg
END:VEVENT
BEGIN:VEVENT
DTSTART;TZID=Africa/Abidjan:20251226T170000
DTEND;TZID=Africa/Abidjan:20251226T210000
DTSTAMP:20260422T030236
CREATED:20251218T144329Z
LAST-MODIFIED:20251219T143114Z
UID:8333-1766768400-1766782800@www.kc-sentjernej.si
SUMMARY:PRAZNIČNA TRŽNICA
DESCRIPTION:Občina Šentjernej lepo vabi na druženje s kulturnim programom PRAZNIČNA TRŽNICA\,  \nki bo v petek\, 26. decembra 2025 \n in v soboto\, 27. decembra 2025\, \nod 17. do 21. ure pred Kulturnim centrom Primoža Trubarja. \nPraznična tržnica bo letos potekala pred Kulturnim centrom Primoža Trubarja. Lepo vabljeni\, da si letošnje praznike popestrite s prijetnim prazničnim vzdušjem\, uživali boste lahko v glasbi in dobrotah lokalnih ponudnikov in društev. \nVljudno vabljeni!
URL:https://www.kc-sentjernej.si/dogodek/praznicna-trznica/
ATTACH;FMTTYPE=image/png:https://www.kc-sentjernej.si/wp-content/uploads/2025/12/1764063374712_Praznicna-trznica-2025.png.png
END:VEVENT
BEGIN:VEVENT
DTSTART;TZID=Africa/Abidjan:20251227T090000
DTEND;TZID=Africa/Abidjan:20251227T120000
DTSTAMP:20260422T030236
CREATED:20251218T144631Z
LAST-MODIFIED:20251218T144631Z
UID:8337-1766826000-1766836800@www.kc-sentjernej.si
SUMMARY:ŠENTJERNEJSKA TRŽNICA - KRATKA POT DO BOGATEGA OKUSA
DESCRIPTION:Vabljeni na dobrote s šentjernejskih kmetij \n ŠENTJERNEJSKA TRŽNICA – kratka pot do bogatega okusa \nv soboto\, 27. 12. 2025\,\nod 9. do 12. ure\nna ploščadi pred Kulturnim centrom Primoža Trubarja. \nPristni domači okusi podeželja\,\nponudniki pridelkov in izdelkov s šentjernejskih kmetij in\npraznično vzdušje. \nVeselimo se vašega obiska!
URL:https://www.kc-sentjernej.si/dogodek/sentjernejska-trznica-kratka-pot-do-bogatega-okusa/
CATEGORIES:tržnica
ATTACH;FMTTYPE=image/png:https://www.kc-sentjernej.si/wp-content/uploads/2025/12/1764063952645_Sentjernejska-trznica-vabilo.png.png
END:VEVENT
BEGIN:VEVENT
DTSTART;TZID=Africa/Abidjan:20251227T170000
DTEND;TZID=Africa/Abidjan:20251227T210000
DTSTAMP:20260422T030236
CREATED:20251219T143326Z
LAST-MODIFIED:20251219T143326Z
UID:8341-1766854800-1766869200@www.kc-sentjernej.si
SUMMARY:PRAZNIČNA TRŽNICA
DESCRIPTION:Občina Šentjernej lepo vabi na druženje s kulturnim programom PRAZNIČNA TRŽNICA\,  \nki bo v petek\, 26. decembra 2025 \n in v soboto\, 27. decembra 2025\, \nod 17. do 21. ure pred Kulturnim centrom Primoža Trubarja. \nPraznična tržnica bo letos potekala pred Kulturnim centrom Primoža Trubarja. Lepo vabljeni\, da si letošnje praznike popestrite s prijetnim prazničnim vzdušjem\, uživali boste lahko v glasbi in dobrotah lokalnih ponudnikov in društev. \nVljudno vabljeni!
URL:https://www.kc-sentjernej.si/dogodek/praznicna-trznica-2/
CATEGORIES:tržnica
ATTACH;FMTTYPE=image/png:https://www.kc-sentjernej.si/wp-content/uploads/2025/12/1764063374712_Praznicna-trznica-2025-1.png-1.png
END:VEVENT
END:VCALENDAR