BEGIN:VCALENDAR
VERSION:2.0
PRODID:-// - ECPv6.15.20//NONSGML v1.0//EN
CALSCALE:GREGORIAN
METHOD:PUBLISH
X-ORIGINAL-URL:https://www.kc-sentjernej.si
X-WR-CALDESC:Dogodki od 
REFRESH-INTERVAL;VALUE=DURATION:PT1H
X-Robots-Tag:noindex
X-PUBLISHED-TTL:PT1H
BEGIN:VTIMEZONE
TZID:Africa/Abidjan
BEGIN:STANDARD
TZOFFSETFROM:+0000
TZOFFSETTO:+0000
TZNAME:GMT
DTSTART:20180101T000000
END:STANDARD
END:VTIMEZONE
BEGIN:VEVENT
DTSTART;TZID=Africa/Abidjan:20190509T170000
DTEND;TZID=Africa/Abidjan:20190509T170000
DTSTAMP:20260421T210421
CREATED:20190430T085536Z
LAST-MODIFIED:20190430T085728Z
UID:1952-1557421200-1557421200@www.kc-sentjernej.si
SUMMARY:Gugajo se pesmice
DESCRIPTION:Na območno revijo predšolskih in prvošolskih pevskih zborov GUGAJO SE PESMICE so povabljeni k sodelovanju vsi delujoči zbori vrtcev in osnovnih šol\, ki jih pokriva novomeška območna izpostava JSKD. Za nastop na pregledni reviji so se letos odločili vrtčevski in prvo šolski pevski sestavi\, ki prihajajo iz Žužemberka\, Brusnic\, Otočca\, Novega mesta\, Šmarjete in Šentjerneja. Skupaj nam bo zapelo preko sto šestdeset pevcev. \nPoslanstvo JSKD je\, da v ospredje in na velike odre\, čim večkrat in čim bolj celovito\, postavimo na ogled tudi ljubiteljsko kulturo poustvarjanje otrok\, ki je v naši regiji zelo številčno in tudi kakovostno. Skupaj z zborovodji si želimo\, da bi kar največ zborov imelo priložnost izkusiti nastop na velikih odrih\, torej izven prostora svoje šole\, vrtca v družbi drugih primerljivih zborov ter pod strokovnim spremljanjem\, ki je za nadaljnje kakovostno delo zborov zelo pomembno. \n Vstopnice:  5 €
URL:https://www.kc-sentjernej.si/dogodek/gugajo-se-pesmice/
CATEGORIES:Glasba
ATTACH;FMTTYPE=image/jpeg:https://www.kc-sentjernej.si/wp-content/uploads/2019/04/1-GUGAJO-SE-PESMICE.jpg
END:VEVENT
BEGIN:VEVENT
DTSTART;TZID=Africa/Abidjan:20190514T173000
DTEND;TZID=Africa/Abidjan:20190514T173000
DTSTAMP:20260421T210421
CREATED:20190414T085535Z
LAST-MODIFIED:20190430T085951Z
UID:1885-1557855000-1557855000@www.kc-sentjernej.si
SUMMARY:Super krila
DESCRIPTION:/ ZA OTROŠKI ABONMA IN IZVEN / \nPredstava SUPER KRILA z Janom in Alenko Kolman.  Jan iz priljubljene risana serije SUPER KRILA\, ki ga otroci obožujejo\, navdušuje s svojo predstavo! \nS pomočjo Alenke Jan z otroci zapoje in zapleše na zabavne pesmice (Ču ču va\, Ram zam zam\,…)\, ki se jih je naučil na svojih “misijah”. Pokaže jim čarovniške trike\, ki se jih je naučil na svojih potovanjih v Parizu\, Londonu\, Afriki … in se s pomočjo otrok nauči šteti do 10!! \nZabavali in nasmejali se bodo tako otroci kot starši! Zabavno druženje bomo zaključili z veselim prepevanjem pesmi Mi se imamo radi! \nPo predstavi se bodo obiskovalci lahko še fotografirali z Janom. \nTrajanje: 45 minut. \n  \nVSTOPNICE SO ŽE V PRODAJI\n Vstopnice: 5 €
URL:https://www.kc-sentjernej.si/dogodek/super-krila/
CATEGORIES:Izven,Otroški abonma
ATTACH;FMTTYPE=image/jpeg:https://www.kc-sentjernej.si/wp-content/uploads/2019/04/2-SUPER-KRILA.jpg
END:VEVENT
BEGIN:VEVENT
DTSTART;TZID=Africa/Abidjan:20190515T193000
DTEND;TZID=Africa/Abidjan:20190515T193000
DTSTAMP:20260421T210421
CREATED:20190430T090632Z
LAST-MODIFIED:20190430T090813Z
UID:1958-1557948600-1557948600@www.kc-sentjernej.si
SUMMARY:Gagarin\, prvi v vesolju
DESCRIPTION:Film je posvečen prvim korakom človeštva v raziskovanju vesolja in usodi Jurija A. Gagarina\, prvega človeka v vesolju. Osrednji motivi filma so borba za prvo mesto v osvajanju vesolja\, tekmovanje prvih posadk pred poletom v vesolje\, konkurenčnost tehnologije v gradnji raket in tekma dveh svetovnih velesil – Sovjetske zveze in ZDA. \nDolžina: 108 min\nLeto: 2013\nDržava: Rusija\nJezik: ruščina\nScenarij: Andrey Dmitriev\, Oleg Kapanets\nRežija: Pavel Parkhomenko\nIgrajo: Yaroslav Zhalnin\, Mikhail Filippov\, Olga Ivanova\, Vadim Michman\, Vladimir Steklov\,… \nSlovenski podnapisi  \nPovezava: IMDb \nBrezplačne vstopnice.
URL:https://www.kc-sentjernej.si/dogodek/gagarin-prvi-v-vesolju/
CATEGORIES:Film
ATTACH;FMTTYPE=image/jpeg:https://www.kc-sentjernej.si/wp-content/uploads/2019/04/3-GAGARIN-PRVI-V-VESOLJU.jpg
END:VEVENT
BEGIN:VEVENT
DTSTART;TZID=Africa/Abidjan:20190516T190000
DTEND;TZID=Africa/Abidjan:20190516T190000
DTSTAMP:20260421T210421
CREATED:20190430T091843Z
LAST-MODIFIED:20190430T091843Z
UID:1966-1558033200-1558033200@www.kc-sentjernej.si
SUMMARY:Pogovorni večer z Anjo Bah Žibert\, evropsko poslanko Romano Tomc in Evo Irgl
DESCRIPTION:Organizira: Občinski odbor SDS
URL:https://www.kc-sentjernej.si/dogodek/pogovorni-vecer-z-anjo-bah-zibert-evropsko-poslanko-romano-tomc-in-evo-irgl/
CATEGORIES:Seminar
ATTACH;FMTTYPE=image/jpeg:https://www.kc-sentjernej.si/wp-content/uploads/2019/04/4-POGOVORNI-VEČER.jpg
END:VEVENT
BEGIN:VEVENT
DTSTART;TZID=Africa/Abidjan:20190521T180000
DTEND;TZID=Africa/Abidjan:20190521T180000
DTSTAMP:20260421T210421
CREATED:20190430T091544Z
LAST-MODIFIED:20190430T091544Z
UID:1964-1558461600-1558461600@www.kc-sentjernej.si
SUMMARY:Iskanje likovne poezije
DESCRIPTION:Likovna dela so rezultat učnega procesa likovne umetnosti. Z odkrivanjem novega in dopolnjevanjem že znanega\, s spreminjanjem in povezovanjem se pred nami razgrnejo čudovite zgodbe v risbi\, sliki in grafiki. Vljudno vabljeni!
URL:https://www.kc-sentjernej.si/dogodek/iskanje-likovne-poezije/
CATEGORIES:Razstava
ATTACH;FMTTYPE=image/jpeg:https://www.kc-sentjernej.si/wp-content/uploads/2019/04/5-ISKANJE-LIKOVNE-POEZIJE.jpg
ORGANIZER;CN="O%C5%A0 %C5%A0entjernej":MAILTO:os.sentjernej@guest.arnes.si
END:VEVENT
BEGIN:VEVENT
DTSTART;TZID=Africa/Abidjan:20190529T193000
DTEND;TZID=Africa/Abidjan:20190529T193000
DTSTAMP:20260421T210421
CREATED:20190407T083016Z
LAST-MODIFIED:20190430T085858Z
UID:1873-1559158200-1559158200@www.kc-sentjernej.si
SUMMARY:Beraška opera
DESCRIPTION:Po motivih Johna Gaya\, Georga Wilhelma Pabsta\, Bertolta Brechta in Václava Havla\nSNG Nova Gorica\nGlasbena komedija \nRežija: Vito Taufer\nIgrajo: Kristijan Guček\, Radoš Bolčina\, Ana Facchini\, Urška Taufer\, Gojmir Lešnjak – Gojc k.g.\, Patrizia Jurinčič Finžgar\, Arna Hadžialjević\, Medea Novak\, Maša Grošelj k.g./ Andrijana Boškoska Batič k. g.\, Matija Rupel\, Jure Kopušar\, Žiga Udir\, Žiga Saksida k.g.\, Andrej Zalesjak / Gregor Prah k.g.\, Iztok Mlakar\, David Trebižan\, David Šuligoj\, Roman Kobal \nZgodba govori o advokatu Peachumu\, kralju londonskih beračev\, ki je ogorčen\, saj se je hčerka Polly poročila z Macheathom\, šarmantnim bonvivanskim šefom mafijske tolpe. Pollyjina neposlušnost porodi maščevanje\, Peachum prisili Lockita\, šefa londonske policije\, da sproži lov\, v katerem je ključno vlogo izdajalke pripravljena odigrati nekdanja ljubica Jenny\, ena izmed prostitutk\, s katerimi je Macheath preživljal radostne trenutke. Toda ker je Macheath obljubil poroko tudi Lockitovi hčerki\, se zgodba o spopadu moči in ljubezni vse bolj zapleta. Le kako se bo stvar razpletla? \nIzris skorumpirane angleške družbe v 18. stoletju v glasbeni komediji Beraška opera\, v kateri bomo slišali izvirne songe\, ki jih je posebej za predstavo napisal Iztok Mlakar\, uglasbil pa Aleksander Pešut – Schatzi. \nVSTOPNICE V PRODAJI! \n Cena: 19 € / 17\,10 € za dijake\, študente in upokojence
URL:https://www.kc-sentjernej.si/dogodek/beraska-opera/
CATEGORIES:Gledališki abonma,Izven
ATTACH;FMTTYPE=image/jpeg:https://www.kc-sentjernej.si/wp-content/uploads/2019/04/6-BERAŠKA-OPERA.jpg
END:VEVENT
BEGIN:VEVENT
DTSTART;TZID=Africa/Abidjan:20190530T130000
DTEND;TZID=Africa/Abidjan:20190530T160000
DTSTAMP:20260421T210421
CREATED:20190430T092242Z
LAST-MODIFIED:20190430T092242Z
UID:1968-1559221200-1559232000@www.kc-sentjernej.si
SUMMARY:Prodaja mesečnih vozovnic
DESCRIPTION:Prodajno mesto Šentjernej\, kulturni center Primoža Trubarja: \n\nčetrtek\, 30. 5. 2019: 13.00h – 16.00h\n\nProdaja subvencioniranih vozovnic se izvaja na prodajnem mestu na avtobusni postaji v Brežicah ter enkrat ali dvakrat mesečno na prodajnem mestu v Šentjerneju v kulturnem centru Primoža Trubarja.
URL:https://www.kc-sentjernej.si/dogodek/prodaja-mesecnih-vozovnic-junij/
CATEGORIES:Prodaja vozovnic
ATTACH;FMTTYPE=image/jpeg:https://www.kc-sentjernej.si/wp-content/uploads/2019/04/7-IJPP.jpg
END:VEVENT
END:VCALENDAR