BEGIN:VCALENDAR
VERSION:2.0
PRODID:-// - ECPv6.15.20//NONSGML v1.0//EN
CALSCALE:GREGORIAN
METHOD:PUBLISH
X-ORIGINAL-URL:https://www.kc-sentjernej.si
X-WR-CALDESC:Dogodki od 
REFRESH-INTERVAL;VALUE=DURATION:PT1H
X-Robots-Tag:noindex
X-PUBLISHED-TTL:PT1H
BEGIN:VTIMEZONE
TZID:Africa/Abidjan
BEGIN:STANDARD
TZOFFSETFROM:+0000
TZOFFSETTO:+0000
TZNAME:GMT
DTSTART:20240101T000000
END:STANDARD
END:VTIMEZONE
BEGIN:VEVENT
DTSTART;TZID=Africa/Abidjan:20251012T120000
DTEND;TZID=Africa/Abidjan:20251012T123000
DTSTAMP:20260421T075552
CREATED:20251002T124257Z
LAST-MODIFIED:20251002T124257Z
UID:8164-1760270400-1760272200@www.kc-sentjernej.si
SUMMARY:ZLATI KROG S PRIMOŽEM ROGLIČEM
DESCRIPTION:Zlati krog 2025 \nV Šentjernej prihaja Dobrodelni kolesarski maraton zaprtega tipa (VIP prijave)\, kolesarji pridejo iz smeri Mokro Polje\, kolesarska karavana bo zavila pred Kulturni center Primoža Trubarja.  Po okrepčilu in kratkem protokolu bo kolesarska karavana nadaljevala proti Dobravi ter proti cilju na Velodromu v Češči vasi. Obiskovalci  ste vljudno vabljeni k navijanju ob progi in k srečanju s Primožem pred KCPT. \nDATUM/LOKACIJA\n• 12. 10. 2025\n• Start in cilj: Novo mesto\n• Trasa poteka skozi občine: MO Novo mesto\, Straža in Šentjernej (prihod ob predvidoma 12.uri)\n• Dolžina trase: 60km oz. 63.9km\n• Hitri krog s Primožem: Vzpon na Trško goro\nOKVIRNA ČASOVNICA DOGODKA\n• 11.00-14.00 – Kolesarjenje\n• 14.30 – Sprejem in druženje za udeležence\n• 16.00 – Dobrodelna dražba \nCilji dogodka in doživetje: \nDOŽIVETJE\n• Do 450 povabljenih udeležencev bo kolesarilo z zlatim olimpijcem Primožem Rogličem.\n• Javnost bo lahko pozdravila Primoža na štartu\, cilju in ob progi Zlatega kroga.\n• Aktivno in participativno sodelovanje lokalnih skupnosti pri organizaciji dogodka in kolesarjenju.\n• Izvedba dobrodelnosti in edinstven poslovno-družabni dogodek za partnerje.\nCILJI\n• Dobrodelnost – zbiranje sredstev za Fundacijo Primoža Rogliča.\n• Povezovanje z navijači ter lokalno skupnostjo.\n• Ekskluzivnost in edinstven dogodek za partnerje\, njihove stranke in Primoževe goste.\n• Profesionalnost in varnost izvedbe. \n  \nVljudno vabljeni!
URL:https://www.kc-sentjernej.si/dogodek/zlati-krog-s-primozem-roglicem/
CATEGORIES:dobrodelni kolesarski maraton
ATTACH;FMTTYPE=image/jpeg:https://www.kc-sentjernej.si/wp-content/uploads/2025/10/ZK_main_blog-2-1200x800-1.jpg
END:VEVENT
END:VCALENDAR