BEGIN:VCALENDAR
VERSION:2.0
PRODID:-// - ECPv6.15.20//NONSGML v1.0//EN
CALSCALE:GREGORIAN
METHOD:PUBLISH
X-ORIGINAL-URL:https://www.kc-sentjernej.si
X-WR-CALDESC:Dogodki od 
REFRESH-INTERVAL;VALUE=DURATION:PT1H
X-Robots-Tag:noindex
X-PUBLISHED-TTL:PT1H
BEGIN:VTIMEZONE
TZID:Africa/Abidjan
BEGIN:STANDARD
TZOFFSETFROM:+0000
TZOFFSETTO:+0000
TZNAME:GMT
DTSTART:20250101T000000
END:STANDARD
END:VTIMEZONE
BEGIN:VEVENT
DTSTART;TZID=Africa/Abidjan:20260317T170000
DTEND;TZID=Africa/Abidjan:20260317T170000
DTSTAMP:20260421T103959
CREATED:20260307T162955Z
LAST-MODIFIED:20260307T163057Z
UID:8536-1773766800-1773766800@www.kc-sentjernej.si
SUMMARY:Hišica iz kock
DESCRIPTION:  \nV sobi sta sestri. Starejša vadi violino\, mlajša\, Jelka\, pa jo neprestano moti z željo po skupni igri. In ko Jelka zgradi svojo hišico iz kock\, starejša sestra sprejme njeno igro in skupaj se podata v čudovit pravljični svet\, kjer na stenah hišice živijo mačka\, kokoš in dimnikar. Ko sosedov pes\, ki se je v nevihti strgal z verige\, podre hišico\, se Jelka odpravi na dolgo pot v iskanju nekoga\, ki ji bo prišil dimnikarjev gumb na obleko. Saj gumb prinaša srečo in brez sreče se hišice ne da postaviti nazaj. \nIgrano – lutkovna predstava za otroški abonma in izven  \nPRODUKCIJA Hiša otrok in umetnosti in LG Fru Fru \nPo motivih istoimenske pravljice ELE PEROCI \nREŽIJA Irena Rajh \nIGRATA Tamara Pepelnik in Barbara Kanc \nDRAMATURGIJA Anže Virant \nGLASBA Samo Vovk in Barbara Grahor Vovk \nPrimerno za starost:  3+                                   Trajanje: 30 min
URL:https://www.kc-sentjernej.si/dogodek/hisica-iz-kock/
CATEGORIES:Abonmaji,Gledališče,izpostavljamo,Izven abonmaja,Kulturna prireditev,Otroški abonma,za otroke
ATTACH;FMTTYPE=image/jpeg:https://www.kc-sentjernej.si/wp-content/uploads/2025/09/hisica_iz_kock_urska_boljkovac_94.jpg
END:VEVENT
END:VCALENDAR