BEGIN:VCALENDAR
VERSION:2.0
PRODID:-// - ECPv6.15.20//NONSGML v1.0//EN
CALSCALE:GREGORIAN
METHOD:PUBLISH
X-ORIGINAL-URL:https://www.kc-sentjernej.si
X-WR-CALDESC:Dogodki od 
REFRESH-INTERVAL;VALUE=DURATION:PT1H
X-Robots-Tag:noindex
X-PUBLISHED-TTL:PT1H
BEGIN:VTIMEZONE
TZID:Africa/Abidjan
BEGIN:STANDARD
TZOFFSETFROM:+0000
TZOFFSETTO:+0000
TZNAME:GMT
DTSTART:20250101T000000
END:STANDARD
END:VTIMEZONE
BEGIN:VEVENT
DTSTART;TZID=Africa/Abidjan:20260321T193000
DTEND;TZID=Africa/Abidjan:20260321T193000
DTSTAMP:20260421T124636
CREATED:20260312T091145Z
LAST-MODIFIED:20260313T145624Z
UID:8540-1774121400-1774121400@www.kc-sentjernej.si
SUMMARY:VEČER SLOVENSKIH PESMI
DESCRIPTION:Šentjernejski oktet vabi na večer slovenskih pesmi\, kjer bo svoj del koncerta prispeval izjemni Oktet 10. brat. \nPridružite se pevcem na glasbenem popotovanju\, prežetem s slovensko pesmijo\, ubranim večglasjem in toplino prijateljskega druženja. \nVabljeni! \n  \nVSTOPNICE: 10 €
URL:https://www.kc-sentjernej.si/dogodek/vecer-slovenskih-pesmi/
CATEGORIES:Glasba,Koncert
ATTACH;FMTTYPE=image/png:https://www.kc-sentjernej.si/wp-content/uploads/2026/03/oktet-marec-26-A5-scaled.png
END:VEVENT
END:VCALENDAR