BEGIN:VCALENDAR
VERSION:2.0
PRODID:-// - ECPv6.15.20//NONSGML v1.0//EN
CALSCALE:GREGORIAN
METHOD:PUBLISH
X-ORIGINAL-URL:https://www.kc-sentjernej.si
X-WR-CALDESC:Dogodki od 
REFRESH-INTERVAL;VALUE=DURATION:PT1H
X-Robots-Tag:noindex
X-PUBLISHED-TTL:PT1H
BEGIN:VTIMEZONE
TZID:Africa/Abidjan
BEGIN:STANDARD
TZOFFSETFROM:+0000
TZOFFSETTO:+0000
TZNAME:GMT
DTSTART:20250101T000000
END:STANDARD
END:VTIMEZONE
BEGIN:VEVENT
DTSTART;TZID=Africa/Abidjan:20260304T170000
DTEND;TZID=Africa/Abidjan:20260304T170000
DTSTAMP:20260421T103148
CREATED:20260112T080827Z
LAST-MODIFIED:20260112T080859Z
UID:8391-1772643600-1772643600@www.kc-sentjernej.si
SUMMARY:PREHRANA\, ZDRAVJE IN OKOLJE
DESCRIPTION:Spoštovani\, \nRazvojno izobraževalni center Novo mesto in Večgeneracijski center SKUPAJ+ v sodelovanju z Nacionalnim inštitutom za javno zdravje \nvas vabijo na predavanje z naslovom Prehrana\, zdravje in okolje\, ki bo v sredo\, 4. marca 2026\, ob 17. uri v avli Kulturnega centra Primoža Trubarja. \nNa predavanju bo predstavljena kultura prehranjevanja v širšem kontekstu varovanja in krepitve zdravja. Predstavljen bo tudi trajnostni vidik prehrane na katerega imamo kot posamezniki pomemben vpliv. \n  \nPredavateljica: Tea Kordiš\, dipl. sanit. inž.\, NIJZ \n  \nVstop prost. \nVljudno vabljeni. \n 
URL:https://www.kc-sentjernej.si/dogodek/prehrana-zdravje-in-okolje/
CATEGORIES:Izobraževanje,Predavanje
ATTACH;FMTTYPE=image/jpeg:https://www.kc-sentjernej.si/wp-content/uploads/2026/01/logotip-01-3.jpg
END:VEVENT
END:VCALENDAR