BEGIN:VCALENDAR
VERSION:2.0
PRODID:-// - ECPv6.15.20//NONSGML v1.0//EN
CALSCALE:GREGORIAN
METHOD:PUBLISH
X-ORIGINAL-URL:https://www.kc-sentjernej.si
X-WR-CALDESC:Dogodki od 
REFRESH-INTERVAL;VALUE=DURATION:PT1H
X-Robots-Tag:noindex
X-PUBLISHED-TTL:PT1H
BEGIN:VTIMEZONE
TZID:Africa/Abidjan
BEGIN:STANDARD
TZOFFSETFROM:+0000
TZOFFSETTO:+0000
TZNAME:GMT
DTSTART:20250101T000000
END:STANDARD
END:VTIMEZONE
BEGIN:VEVENT
DTSTART;TZID=Africa/Abidjan:20260214T090000
DTEND;TZID=Africa/Abidjan:20260214T120000
DTSTAMP:20260421T171815
CREATED:20260124T070556Z
LAST-MODIFIED:20260124T070556Z
UID:8421-1771059600-1771070400@www.kc-sentjernej.si
SUMMARY:ŠENTJERNEJSKA TRŽNICA - kratka pot do bogatega okusa
DESCRIPTION:Vabljeni na dobrote s šentjernejskih kmetij \n ŠENTJERNEJSKA TRŽNICA – kratka pot do bogatega okusa \nv soboto\, 14. 2. 2026\,\nod 9. do 12. ure\nna ploščadi pred Kulturnim centrom Primoža Trubarja. \nPristni domači okusi podeželja\,\nponudniki pridelkov in izdelkov s šentjernejskih kmetij in\nprijetno vzdušje. \nVeselimo se vašega obiska!
URL:https://www.kc-sentjernej.si/dogodek/sentjernejska-trznica-kratka-pot-do-bogatega-okusa-2/
CATEGORIES:tržnica
ATTACH;FMTTYPE=image/jpeg:https://www.kc-sentjernej.si/wp-content/uploads/2026/01/l_1223226_1.jpg
END:VEVENT
END:VCALENDAR