BEGIN:VCALENDAR
VERSION:2.0
PRODID:-// - ECPv6.15.20//NONSGML v1.0//EN
CALSCALE:GREGORIAN
METHOD:PUBLISH
X-ORIGINAL-URL:https://www.kc-sentjernej.si
X-WR-CALDESC:Dogodki od 
REFRESH-INTERVAL;VALUE=DURATION:PT1H
X-Robots-Tag:noindex
X-PUBLISHED-TTL:PT1H
BEGIN:VTIMEZONE
TZID:Africa/Abidjan
BEGIN:STANDARD
TZOFFSETFROM:+0000
TZOFFSETTO:+0000
TZNAME:GMT
DTSTART:20250101T000000
END:STANDARD
END:VTIMEZONE
BEGIN:VEVENT
DTSTART;TZID=Africa/Abidjan:20260211T070000
DTEND;TZID=Africa/Abidjan:20260211T120000
DTSTAMP:20260421T162804
CREATED:20260112T104606Z
LAST-MODIFIED:20260204T070932Z
UID:8402-1770793200-1770811200@www.kc-sentjernej.si
SUMMARY:KRVODAJALSKA AKCIJA
DESCRIPTION:Vabimo vas na terensko krvodajalsko akcijo\, ki bo v \nsredo\, 11. FEBRUARJA  2026\, v KC Primoža Trubarja\, med 7. in 12. uro. \nKrvodajalsko akcijo bo izvedel Zavod Republike Slovenije za transfuzijsko medicino. \n  \nPOMEMBNA navodila za krvodajalce: \nKrvodajalci vabljeni\, da svoj prihod napoveste na eni od telefonskih številk: 051/389 270\, 051/671 147 ali 030/716 796. \nPokličete lahko vsak dan\, od 7. do 21. ure. \nZa sprejem je potreben osebni dokument s fotografijo\, za potrdilo o udeležbi na krvodajalski akciji pa zdravstvena izkaznica. \nKrvodajalstvo sodi med najširše organizirane humanitarne akcije. Gre za najvišjo obliko pomoči med ljudmi\, saj krvodajalci darujejo kri za neznanca\, prostovoljno in brez plačila. \nVsaka kapljica darovane krvi šteje. \nVljudno vabljeni!
URL:https://www.kc-sentjernej.si/dogodek/krvodajalska-akcija-3/
CATEGORIES:izpostavljamo
ATTACH;FMTTYPE=image/jpeg:https://www.kc-sentjernej.si/wp-content/uploads/2026/01/Oglas.jpg
END:VEVENT
END:VCALENDAR