BEGIN:VCALENDAR
VERSION:2.0
PRODID:-// - ECPv6.15.20//NONSGML v1.0//EN
CALSCALE:GREGORIAN
METHOD:PUBLISH
X-ORIGINAL-URL:https://www.kc-sentjernej.si
X-WR-CALDESC:Dogodki od 
REFRESH-INTERVAL;VALUE=DURATION:PT1H
X-Robots-Tag:noindex
X-PUBLISHED-TTL:PT1H
BEGIN:VTIMEZONE
TZID:Africa/Abidjan
BEGIN:STANDARD
TZOFFSETFROM:+0000
TZOFFSETTO:+0000
TZNAME:GMT
DTSTART:20250101T000000
END:STANDARD
END:VTIMEZONE
BEGIN:VEVENT
DTSTART;TZID=Africa/Abidjan:20260202T180000
DTEND;TZID=Africa/Abidjan:20260202T180000
DTSTAMP:20260421T161730
CREATED:20260122T143051Z
LAST-MODIFIED:20260122T143051Z
UID:8409-1770055200-1770055200@www.kc-sentjernej.si
SUMMARY:BELO SE PERE NA DEVETDESET - ponovitev predvajanja filma
DESCRIPTION:BELO SE PERE NA DEVETDESET – ponovitev predvajanja filma\n\nIgrajo: Anica Dobra\, Iva Krajnc Bagola\, Jurij Zrnec\, Lea Cok\, Polona Juh\, Saša Tabaković\, Tjaša Železnik\, Vladimir Tintor\nRežiser: Marko Naberšnik\nŽanr: Drama\nPremiera: 20. 11. 2025\n\nGanljiv\, humoren in navdihujoč film o soočanju z boleznijo. Zgodba spremlja Bronjo skozi različna obdobja njenega življenja. Potem ko v otroštvu zaradi raka izgubi mamo\, se mora v mladosti s to zahrbtno boleznijo soočiti še sama. Kljub številnim in skoraj nepremostljivim izzivom se Bronja z njimi spoprijema z mešanico solz\, smeha in neomajnega optimizma. Film temelji na resnični zgodbi in avtobiografskem romanu z istim naslovom. Doživel je že devet ponatisov. \nV vlogi Bronjinega očeta nastopa Jurij Zrnec\, v glavni vlogi igra Lea Cok\, ki je upodobila starejšo Bronjo\, mlajšo verzijo pisateljice pa je zaigrala Mei Rabič. Mlajšega brata Roka je upodobil Jaka Mehle\, starejšega pa Žiga Šorli. V vlogi Bronjine mame nastopa Tjaša Železnik\, babica je Anica Dobra. Kot ožja sorodnika se v filmu pojavita še Saša Tabaković in Iva Krajnc Bagola. \n  \nO KNJIGI:\nBelo se pere na devetdeset je pretresljiv\, duhovit in navdihujoč roman\, ki opisuje življenjsko zgodbo pripovedovalke\, odraščajoče v 70. in 80. letih. Njen otroški svet sestavljajo starši\, brat Rok\, babica Dada\, tete in strici\, pa benko\, albert keksi\, Oddaja o morju in pomorščakih\, Gavrilović in prenos sarajevskih olimpijskih iger. A čeprav govori o naštetem\, je avtobiografski roman predvsem pripoved o odraščanju\, soočanju z izgubo in boleznijo\, pripoved o udomačevanju strahu in vsem tistem\, česar nočemo videti\, dokler s tem nismo neizbežno soočeni. \n  \nVSTOPNICE: 7 EUR \n  \nVljudno vabljeni.
URL:https://www.kc-sentjernej.si/dogodek/belo-se-pere-na-devetdeset-2/
CATEGORIES:Film
ATTACH;FMTTYPE=image/jpeg:https://www.kc-sentjernej.si/wp-content/uploads/2026/01/42861-belo.jpg
END:VEVENT
END:VCALENDAR