BEGIN:VCALENDAR
VERSION:2.0
PRODID:-// - ECPv6.15.20//NONSGML v1.0//EN
CALSCALE:GREGORIAN
METHOD:PUBLISH
X-ORIGINAL-URL:https://www.kc-sentjernej.si
X-WR-CALDESC:Dogodki od 
REFRESH-INTERVAL;VALUE=DURATION:PT1H
X-Robots-Tag:noindex
X-PUBLISHED-TTL:PT1H
BEGIN:VTIMEZONE
TZID:Africa/Abidjan
BEGIN:STANDARD
TZOFFSETFROM:+0000
TZOFFSETTO:+0000
TZNAME:GMT
DTSTART:20250101T000000
END:STANDARD
END:VTIMEZONE
BEGIN:VEVENT
DTSTART;TZID=Africa/Abidjan:20260123T190000
DTEND;TZID=Africa/Abidjan:20260123T190000
DTSTAMP:20260421T171715
CREATED:20251226T182541Z
LAST-MODIFIED:20260119T183819Z
UID:8348-1769194800-1769194800@www.kc-sentjernej.si
SUMMARY:KONCERT NOVOMEŠKEGA SIMFONIČNEGA ORKESTRA
DESCRIPTION:Vabimo vas na koncert Novomeškega simfoničnega orkestra\, ki bo v petek\, 23. januarja 2026\, v Kulturnem centru Primoža Trubarja v Šentjerneju. \nOrkester bo s skrbno izbranim programom poskrbel za nepozaben glasbeni večer. Pridružite se nam in doživite moč simfonične glasbe v prijetnem kulturnem ambientu. \n  \nDirigent: Miro Saje \n  \nProgram koncerta: \n\nBrian Balmages: (Up) Lifted\n\n\nAntonin Dvořák\, Merle Isaac: Simfonija št. 9 »Iz novega sveta«\, 1. stavek\n\n\nJože Privšek: Zlati prah imaš v očeh \n\nsolistka: Nina Strnad \n\nRok Golob: Samota   \n\nsolistka: Nina Strnad         \n\nTilen Slakan: Elegija in Tone Pavček: Čudenje\n\nrecitatorka: Eva Novak \n\nJure Robežnik: Orion \n\nsolistka: Nina Strnad \n\nJames Horner\, prir. John Moss: Titanic\n\nFoto: R. Kokol \n  \nProgram povezuje: Eva Novak \n  \nVSTOPNICE: 8 EUR redna cena\, 1 EUR za osnovnošolce in učence Glasbene šole Marjana Kozine Novo mesto
URL:https://www.kc-sentjernej.si/dogodek/koncert-novomeskega-simfonicnega-orkestra-6/
CATEGORIES:Glasba,Koncert
ATTACH;FMTTYPE=image/jpeg:https://www.kc-sentjernej.si/wp-content/uploads/2025/12/Simfoniki-1.jpg
END:VEVENT
END:VCALENDAR