BEGIN:VCALENDAR
VERSION:2.0
PRODID:-// - ECPv6.15.20//NONSGML v1.0//EN
CALSCALE:GREGORIAN
METHOD:PUBLISH
X-ORIGINAL-URL:https://www.kc-sentjernej.si
X-WR-CALDESC:Dogodki od 
REFRESH-INTERVAL;VALUE=DURATION:PT1H
X-Robots-Tag:noindex
X-PUBLISHED-TTL:PT1H
BEGIN:VTIMEZONE
TZID:Africa/Abidjan
BEGIN:STANDARD
TZOFFSETFROM:+0000
TZOFFSETTO:+0000
TZNAME:GMT
DTSTART:20250101T000000
END:STANDARD
END:VTIMEZONE
BEGIN:VEVENT
DTSTART;TZID=Africa/Abidjan:20260120T170000
DTEND;TZID=Africa/Abidjan:20260120T170000
DTSTAMP:20260421T172044
CREATED:20260108T122400Z
LAST-MODIFIED:20260108T122836Z
UID:8374-1768928400-1768928400@www.kc-sentjernej.si
SUMMARY:DRŽAVNI PRESEJALNI PROGRAMI V SLOVENIJI
DESCRIPTION:Spoštovani\, \nRazvojno izobraževalni center Novo mesto in Večgeneracijski center SKUPAJ+ v sodelovanju z Nacionalnim inštitutom za javno zdravje \nvas vabijo na predavanje z naslovom Državni presejalni programi v Sloveniji\, ki bo v torek\, 20. januarja 2026\, ob 17. uri v avli Kulturnega centra Primoža Trubarja. \nNa predavanju bodo predstavljeni vsi preventivni programi\, ki so v Sloveniji sistemsko urejeni in tudi njihova nadgradnja. \n  \nPredavateljica: Doroteja Kuhar\, dr. med. spec.\, NIJZ in predsednica Društva za boj proti raku Dolenjske in Bele krajine \nVstop prost. \n  \nVljudno vabljeni.
URL:https://www.kc-sentjernej.si/dogodek/drzavni-presejalni-programi-v-sloveniji/
CATEGORIES:Izobraževanje,Predavanje
ATTACH;FMTTYPE=image/jpeg:https://www.kc-sentjernej.si/wp-content/uploads/2026/01/logotip-01-1.jpg
END:VEVENT
END:VCALENDAR