BEGIN:VCALENDAR
VERSION:2.0
PRODID:-// - ECPv6.15.20//NONSGML v1.0//EN
CALSCALE:GREGORIAN
METHOD:PUBLISH
X-ORIGINAL-URL:https://www.kc-sentjernej.si
X-WR-CALDESC:Dogodki od 
REFRESH-INTERVAL;VALUE=DURATION:PT1H
X-Robots-Tag:noindex
X-PUBLISHED-TTL:PT1H
BEGIN:VTIMEZONE
TZID:Africa/Abidjan
BEGIN:STANDARD
TZOFFSETFROM:+0000
TZOFFSETTO:+0000
TZNAME:GMT
DTSTART:20240101T000000
END:STANDARD
END:VTIMEZONE
BEGIN:VEVENT
DTSTART;TZID=Africa/Abidjan:20251126T180000
DTEND;TZID=Africa/Abidjan:20251126T200000
DTSTAMP:20260422T111250
CREATED:20251021T062128Z
LAST-MODIFIED:20251021T062128Z
UID:8188-1764180000-1764187200@www.kc-sentjernej.si
SUMMARY:POTOPISNA DOŽIVETJA ŠENTJERNEJČANOV
DESCRIPTION:Spoštovani popotniki in vsi tisti\, ki iščete ideje za svoja nova odkrivanja kotičkov sveta\, \ntokrat vas v sklopu potopisnih večerov z našimi rojaki vabimo na dogodivščine\, ki sta jih \nna nepozabnem popotovanju z avtodomom po NARODNIH PARKIH ZAHODNE AMERIKE \ndoživela MAJA in PAVEL SIMONČIČ z družino. \nSreda\, 26.november 2025\, ob 18.uri v Kulturnem centru Primoža Trubarja. \nPridružite se nam na prijetnem večeru\, polnem zanimivih zgodb\, fotografij in druženja. \n  \nBrezplačna udeležba. \nVljudno vabljeni!
URL:https://www.kc-sentjernej.si/dogodek/potopisna-dozivetja-sentjernejcanov/
CATEGORIES:Izobraževanje,pogovor,Predavanje
ATTACH;FMTTYPE=image/jpeg:https://www.kc-sentjernej.si/wp-content/uploads/2025/10/7612.jpg
END:VEVENT
END:VCALENDAR