BEGIN:VCALENDAR
VERSION:2.0
PRODID:-// - ECPv6.15.20//NONSGML v1.0//EN
CALSCALE:GREGORIAN
METHOD:PUBLISH
X-ORIGINAL-URL:https://www.kc-sentjernej.si
X-WR-CALDESC:Dogodki od 
REFRESH-INTERVAL;VALUE=DURATION:PT1H
X-Robots-Tag:noindex
X-PUBLISHED-TTL:PT1H
BEGIN:VTIMEZONE
TZID:Africa/Abidjan
BEGIN:STANDARD
TZOFFSETFROM:+0000
TZOFFSETTO:+0000
TZNAME:GMT
DTSTART:20240101T000000
END:STANDARD
END:VTIMEZONE
BEGIN:VEVENT
DTSTART;TZID=Africa/Abidjan:20251125T170000
DTEND;TZID=Africa/Abidjan:20251125T170000
DTSTAMP:20260422T133321
CREATED:20251023T065917Z
LAST-MODIFIED:20251023T065917Z
UID:8198-1764090000-1764090000@www.kc-sentjernej.si
SUMMARY:SIJAJ\, SIJAJ SONČECE
DESCRIPTION:Igrano lutkovna predstava\nSIJAJ\, SIJAJ SONČECE\n\n\nProdukcija Lutkovno gledališče Maribor\nREŽIJA: Brina Klampfer Merčnik \nIGRAJO: Metka Jurc\, Rina Pleteršek in Andraž Jug \nGLASBA: Branko Rožman \nDRAMATURGIJA: Ana Duša \nKo se Liza zjutraj zbudi\, babica za zajtrk na mizo postavi hlebec kruha. Tako lep in okrogel je kot žoga. Liza se z njim igra\, hlebec pade na tla in se odkotali. Liza teče za njim v žitno polje\, a pot do kruha je dolga. Na tej poti Liza spozna\, da kruh ne pade kar sam z neba\, temveč je zanj treba vse leto delati: dela zemlja\, dela pšenica\, dela vreme\, dela človek\, dela pečica in dela čas. Kruh prav res ne pade sam z neba. \nPRIMERNO ZA STAROST 3+ \nTRAJANJE 4o minut \nVSTOPNICE: 7 € redna cena \n  \nVljudno vabljeni!
URL:https://www.kc-sentjernej.si/dogodek/sijaj-sijaj-soncece/
CATEGORIES:Izven,Otroški abonma,za otroke
ATTACH;FMTTYPE=image/jpeg:https://www.kc-sentjernej.si/wp-content/uploads/2025/10/0I6A5716-scaled.jpg
END:VEVENT
END:VCALENDAR