BEGIN:VCALENDAR
VERSION:2.0
PRODID:-// - ECPv6.15.20//NONSGML v1.0//EN
CALSCALE:GREGORIAN
METHOD:PUBLISH
X-ORIGINAL-URL:https://www.kc-sentjernej.si
X-WR-CALDESC:Dogodki od 
REFRESH-INTERVAL;VALUE=DURATION:PT1H
X-Robots-Tag:noindex
X-PUBLISHED-TTL:PT1H
BEGIN:VTIMEZONE
TZID:Africa/Abidjan
BEGIN:STANDARD
TZOFFSETFROM:+0000
TZOFFSETTO:+0000
TZNAME:GMT
DTSTART:20240101T000000
END:STANDARD
END:VTIMEZONE
BEGIN:VEVENT
DTSTART;TZID=Africa/Abidjan:20251122T180000
DTEND;TZID=Africa/Abidjan:20251122T200000
DTSTAMP:20260422T095319
CREATED:20251027T085634Z
LAST-MODIFIED:20251029T075928Z
UID:8216-1763834400-1763841600@www.kc-sentjernej.si
SUMMARY:"POJEMO RADI\, OSTAJAMO MLADI"
DESCRIPTION:Mešani pevski zbor Društva upokojencev Šentjernej \nvabi na drugi pevski koncert \n“Pojemo radi\, ostajamo mladi” v soboto\, 22.novembra 2025\, ob 18.uri \nv Kulturnem centru Primoža Trubarja. \n  \nGostje večera: \nŽenska vokalna skupina FORTUNA \nNina in Leja ŠINKEC \nMladi FRANČIČI \nHarmonikarski orkester Šentjernej \n  \nVSTOPNICE: 10 EUR \nVljudno vabljeni. \n 
URL:https://www.kc-sentjernej.si/dogodek/pojemo-radi-ostajamo-mladi/
CATEGORIES:Glasba,Koncert
ATTACH;FMTTYPE=image/jpeg:https://www.kc-sentjernej.si/wp-content/uploads/2025/10/1000000118-e1761555229851.jpg
END:VEVENT
END:VCALENDAR