BEGIN:VCALENDAR
VERSION:2.0
PRODID:-// - ECPv6.15.20//NONSGML v1.0//EN
CALSCALE:GREGORIAN
METHOD:PUBLISH
X-ORIGINAL-URL:https://www.kc-sentjernej.si
X-WR-CALDESC:Dogodki od 
REFRESH-INTERVAL;VALUE=DURATION:PT1H
X-Robots-Tag:noindex
X-PUBLISHED-TTL:PT1H
BEGIN:VTIMEZONE
TZID:Africa/Abidjan
BEGIN:STANDARD
TZOFFSETFROM:+0000
TZOFFSETTO:+0000
TZNAME:GMT
DTSTART:20240101T000000
END:STANDARD
END:VTIMEZONE
BEGIN:VEVENT
DTSTART;TZID=Africa/Abidjan:20251113T193000
DTEND;TZID=Africa/Abidjan:20251113T213000
DTSTAMP:20260422T072920
CREATED:20250912T121924Z
LAST-MODIFIED:20251110T104459Z
UID:8128-1763062200-1763069400@www.kc-sentjernej.si
SUMMARY:Rade Šerbedžija in Zapadni kolodvor - koncert
DESCRIPTION:Spoštovani ljubitelji glasbe in poezije\, \nRade Šerbedžija\, pesnik\, igralec\, pripovednik in glasbenik\, prihaja v Kulturni center Primoža Trubarja z edinstveno mešanico rocka\, poezije in ljudske glasbe. \nČlovek\, ki že desetletja hodi po robu med umetnostjo in življenjem\, kot da bi mu bila oba svetova pretesna. Ob vsem tem ostaja človek bližine in topline z neizmernim čutom za sočloveka. \nNa oder prihaja s svojo skupino Zapadni kolodvor. \n  \nVečer vam ponuja glasbeno bogat in čustven nastop legendarnega Rade Šerbedžije. \n  \nVstopnice: 28 € early bird\, 50 € meet & greet\, 32 € redna cena\, 35 € na dan dogodka \nhttps://www.kc-sentjernej.si/wp-content/uploads/2025/09/1000018450.mp4\n  \n 
URL:https://www.kc-sentjernej.si/dogodek/rade-serbedzija-in-zapadni-kolodvor-koncert/
CATEGORIES:Glasba,Koncert
ATTACH;FMTTYPE=image/jpeg:https://www.kc-sentjernej.si/wp-content/uploads/2025/09/IMG_6736-scaled.jpg
END:VEVENT
END:VCALENDAR