BEGIN:VCALENDAR
VERSION:2.0
PRODID:-// - ECPv6.15.20//NONSGML v1.0//EN
CALSCALE:GREGORIAN
METHOD:PUBLISH
X-ORIGINAL-URL:https://www.kc-sentjernej.si
X-WR-CALDESC:Dogodki od 
REFRESH-INTERVAL;VALUE=DURATION:PT1H
X-Robots-Tag:noindex
X-PUBLISHED-TTL:PT1H
BEGIN:VTIMEZONE
TZID:Africa/Abidjan
BEGIN:STANDARD
TZOFFSETFROM:+0000
TZOFFSETTO:+0000
TZNAME:GMT
DTSTART:20240101T000000
END:STANDARD
END:VTIMEZONE
BEGIN:VEVENT
DTSTART;TZID=Africa/Abidjan:20251028T100000
DTEND;TZID=Africa/Abidjan:20251028T120000
DTSTAMP:20260422T223638
CREATED:20250923T135214Z
LAST-MODIFIED:20250924T120052Z
UID:8150-1761645600-1761652800@www.kc-sentjernej.si
SUMMARY:SUPER ČARLI
DESCRIPTION:Počitniška kino projekcija \nAnimirani film izven otroškega abonmaja \nAnimirani – družinski film / sinhronizirano / 6+ \n  \n10-letni Vili je vedno sanjal o tem\, da bi postal superjunak in bi se skupaj s svojim očetom policistom boril proti kriminalu. Vendar se njegove sanje razblinijo\, ko se rodi njegov bratec Čarli. Ne le\, da Čarli pritegne vso pozornost\, Vili odkrije\, da ima Čarli supermoči. Ko super zlobnež in ponoreli znanstvenik uresniči svoj zlobni načrt\, morata Vili in Čarli pustiti svoje težave ob strani in delati kot ekipa. Toda ali lahko dojenček in njegov zavistni brat rešita mesto? \n  \nVSTOPNICE: 7 EUR \nVljudno vabljeni. \n 
URL:https://www.kc-sentjernej.si/dogodek/super-carli/
CATEGORIES:Film,Izven abonmaja,za otroke
ATTACH;FMTTYPE=image/jpeg:https://www.kc-sentjernej.si/wp-content/uploads/2025/09/SuperCharlie-02.jpg
END:VEVENT
END:VCALENDAR