BEGIN:VCALENDAR
VERSION:2.0
PRODID:-// - ECPv6.15.20//NONSGML v1.0//EN
CALSCALE:GREGORIAN
METHOD:PUBLISH
X-ORIGINAL-URL:https://www.kc-sentjernej.si
X-WR-CALDESC:Dogodki od 
REFRESH-INTERVAL;VALUE=DURATION:PT1H
X-Robots-Tag:noindex
X-PUBLISHED-TTL:PT1H
BEGIN:VTIMEZONE
TZID:Africa/Abidjan
BEGIN:STANDARD
TZOFFSETFROM:+0000
TZOFFSETTO:+0000
TZNAME:GMT
DTSTART:20240101T000000
END:STANDARD
END:VTIMEZONE
BEGIN:VEVENT
DTSTART;TZID=Africa/Abidjan:20251022T180000
DTEND;TZID=Africa/Abidjan:20251022T200000
DTSTAMP:20260422T142530
CREATED:20250920T082453Z
LAST-MODIFIED:20250922T122957Z
UID:8140-1761156000-1761163200@www.kc-sentjernej.si
SUMMARY:Potopisno predavanje: POTOPISNA DOŽIVETJA ŠENTJERNEJČANOV
DESCRIPTION:Knjižnica Šentjernej in Razvojno izobraževalni center Novo mesto vljudno vabita na potopisno predavanje POTOPISNA DOŽIVETJA ŠENTJERNEJČANOV\, \nki bo v sredo\, 22. oktobra 2025\, ob 18. uri v Kulturnem centru Primoža Trubarja. \nVas zanima\, kako je na drugih koncih sveta? Vabimo vas\, da se v sklopu potopisnih večerov z našimi rojaki podate na dogodivščine\, ki so jih doživeli na svojih popotovanjih po bližnjih in daljnih deželah. Da smo Šentjernejčani pravi pustolovci\, bo dokazala domačinka Renata Turk\, ki nas bo popeljala po južni Italiji. \nPridružite se nam na prijetnem večeru\, polnem zanimivih zgodb\, fotografij in druženja. \nVljudno vabljeni. \n  \nVstop prost.
URL:https://www.kc-sentjernej.si/dogodek/potopisno-predavanje-potopisna-dozivetja-sentjernejcanov/
CATEGORIES:Izobraževanje,Predavanje
ATTACH;FMTTYPE=image/jpeg:https://www.kc-sentjernej.si/wp-content/uploads/2025/09/Potopisna-predavanja_Renata-Turk.jpg
END:VEVENT
END:VCALENDAR