BEGIN:VCALENDAR
VERSION:2.0
PRODID:-// - ECPv6.15.20//NONSGML v1.0//EN
CALSCALE:GREGORIAN
METHOD:PUBLISH
X-ORIGINAL-URL:https://www.kc-sentjernej.si
X-WR-CALDESC:Dogodki od 
REFRESH-INTERVAL;VALUE=DURATION:PT1H
X-Robots-Tag:noindex
X-PUBLISHED-TTL:PT1H
BEGIN:VTIMEZONE
TZID:Africa/Abidjan
BEGIN:STANDARD
TZOFFSETFROM:+0000
TZOFFSETTO:+0000
TZNAME:GMT
DTSTART:20240101T000000
END:STANDARD
END:VTIMEZONE
BEGIN:VEVENT
DTSTART;TZID=Africa/Abidjan:20251016T170000
DTEND;TZID=Africa/Abidjan:20251016T180000
DTSTAMP:20260422T132630
CREATED:20250924T063358Z
LAST-MODIFIED:20250924T064132Z
UID:8153-1760634000-1760637600@www.kc-sentjernej.si
SUMMARY:MESEČNICI
DESCRIPTION:Lea Menard in SiTi TEATER \nIgrana predstava za otroke 3+/ trajanje: 35 min \n  \nMesečnici je zgodba o dvojčicah Liliji in Marjetici. \nSestri se pripravljata na praznovanje rojstnega dne. Hišo že prežema vonj po sveže pečenih piškotih\, saj za prijatelje pripravljata čajanko. \nA priprave ne potekajo povsem po načrtih. Nedolžna laž sproži stisko\, ta pa vodi v niz nepričakovanih dogodkov. Ko pade noč\, se začnejo dogajati stvari\, ki jih nobena od njiju ne zna razložiti… \n  \nVljudno vabljeni. \n  \nVSTOPNICE: 7 € \n  \n 
URL:https://www.kc-sentjernej.si/dogodek/igrana-predstava-za-otroke/
CATEGORIES:Gledališče,Izven,Otroški abonma,za otroke
ATTACH;FMTTYPE=image/jpeg:https://www.kc-sentjernej.si/wp-content/uploads/2025/09/Mesecnici-SiTi-Teater-Foto-Suncan-Stone-99-scaled.jpg
END:VEVENT
END:VCALENDAR