BEGIN:VCALENDAR
VERSION:2.0
PRODID:-// - ECPv6.15.20//NONSGML v1.0//EN
CALSCALE:GREGORIAN
METHOD:PUBLISH
X-ORIGINAL-URL:https://www.kc-sentjernej.si
X-WR-CALDESC:Dogodki od 
REFRESH-INTERVAL;VALUE=DURATION:PT1H
X-Robots-Tag:noindex
X-PUBLISHED-TTL:PT1H
BEGIN:VTIMEZONE
TZID:Africa/Abidjan
BEGIN:STANDARD
TZOFFSETFROM:+0000
TZOFFSETTO:+0000
TZNAME:GMT
DTSTART:20180101T000000
END:STANDARD
END:VTIMEZONE
BEGIN:VEVENT
DTSTART;TZID=Africa/Abidjan:20191107T170000
DTEND;TZID=Africa/Abidjan:20191107T170000
DTSTAMP:20260423T053356
CREATED:20191025T112921Z
LAST-MODIFIED:20191025T112921Z
UID:2994-1573146000-1573146000@www.kc-sentjernej.si
SUMMARY:Ura pravljic in ustvarjalna delavnica
DESCRIPTION:Brezplačna udeležba
URL:https://www.kc-sentjernej.si/dogodek/ura-pravljic-ustvarjalna-delavnica-november/
CATEGORIES:Delavnica
ATTACH;FMTTYPE=image/jpeg:https://www.kc-sentjernej.si/wp-content/uploads/2018/12/pravljice-delavnica.jpg
END:VEVENT
BEGIN:VEVENT
DTSTART;TZID=Africa/Abidjan:20191107T193000
DTEND;TZID=Africa/Abidjan:20191107T193000
DTSTAMP:20260423T053356
CREATED:20191025T075830Z
LAST-MODIFIED:20191028T220014Z
UID:2949-1573155000-1573155000@www.kc-sentjernej.si
SUMMARY:Teror
DESCRIPTION:Sod(ob)na drama \nPRODUKCIJA Prešernovo gledališče Kranj \nAVTOR Ferdinand von Schirach \n\n\nREŽIJA Eduard Miler \nIGRAJO\nPredsednik Borut Veselko\nObtoženi Miha Rodman\nBranilec Aljoša Ternovšek\nDržavna tožilka Darja Reichman\nLauterbach Peter Musevski\nGospa Meiser Vesna Slapar\nStražnik Ciril Roblek k. g.\nZapisnikarica Judita Polak k. g. \nZgodba se odvija v sodni dvorani\, v kateri so poleg obdolženega vojaškega pilota Larsa Kocha  tudi predsednik sodišča\, branilec\, državna tožilka in dve priči ter seveda gledalci\, ki tokrat prevzamejo vlogo porotnikov. \nPrav gledalci odločajo o pilotovi krivdi oziroma nedolžnosti. Med sodnim procesom se izkaže\, da  je vojaški pilot po lastni presoji odločil o smrti 164 posameznikov potniškega letala\, ki bi sicer strmoglavilo na poln nogometni stadion.  Bi se enako odločil\, če bi bila na krovu letala njegova družina? Kriv ali nedolžen? Poslušajte obtožbe in zagovore in presodite sami\, kajti porotniki boste prav vi! \n\n\nFotografije in video napovednik predstave TUKAJ. \nVstopnice:  17 € / 15 € (dijaki\, študenti\, upokojenci)
URL:https://www.kc-sentjernej.si/dogodek/teror-gledaliski-abonma-kcsentjernej/
CATEGORIES:Gledališki abonma,Izven
ATTACH;FMTTYPE=image/jpeg:https://www.kc-sentjernej.si/wp-content/uploads/2019/10/Gledališki-abonma-19-20.jpg
END:VEVENT
END:VCALENDAR