BEGIN:VCALENDAR
VERSION:2.0
PRODID:-// - ECPv6.15.20//NONSGML v1.0//EN
CALSCALE:GREGORIAN
METHOD:PUBLISH
X-ORIGINAL-URL:https://www.kc-sentjernej.si
X-WR-CALDESC:Dogodki od 
REFRESH-INTERVAL;VALUE=DURATION:PT1H
X-Robots-Tag:noindex
X-PUBLISHED-TTL:PT1H
BEGIN:VTIMEZONE
TZID:Africa/Abidjan
BEGIN:STANDARD
TZOFFSETFROM:+0000
TZOFFSETTO:+0000
TZNAME:GMT
DTSTART:20180101T000000
END:STANDARD
END:VTIMEZONE
BEGIN:VEVENT
DTSTART;TZID=Africa/Abidjan:20191028T193000
DTEND;TZID=Africa/Abidjan:20191028T193000
DTSTAMP:20260422T183357
CREATED:20190924T122022Z
LAST-MODIFIED:20191025T110749Z
UID:2805-1572291000-1572291000@www.kc-sentjernej.si
SUMMARY:Realisti
DESCRIPTION:Kabaret za pet igralcev\, pijanca in občinstvo  \nPRODUKCIJA SNG Nova Gorica \nREŽIJA Tijana Zinajić \nIGRAJO Peter Harl\, Jure Kopušar\, Matija Rupel\, Urška Taufer\, Žiga Udir\, Anže Vrabec / Joži Šalej \nSvet je šel po gobe\, mi pa v najbližji nakupovalni center. Resničnostni šovi so naenkrat bolj resnični od novic. Tretji svet mučita ekologija in ekonomija\, nas pa\, koliko zdrži baterija. Treniramo pohlevnost. Hodimo v službe\, ki jih ni. Samo še smrt in krediti so za nedoločen čas. Kam naj se normalen človek zateče drugam kot v teater? Odgovorni pravijo\, da je kostumov\, vicev in pijače še za eno rundo. Nasmejmo se\, preden bo prepozno. \nPredstava je prejemnica večih nagrad: \n🏆 Žlahtna komedija po izboru občinstva in strokovne žirije • žlahtna režiserka • Dnevi komedije 2019 \n🏆 Velika nagrada Večernega lista za najboljšo predstavo v celoti\, Dnevi satire Fadila Hadžića\, Zagreb\, Hrvaška\, 2019 \n🏆 Zlati lev za najboljšo predstavo po izboru občinstva\, mednarodni festival gledališča Zlati lev\, Umag\, Hrvaška\, 2018 \n  \nFotografije in video napovednik predstave TUKAJ. \nVstopnice: 17 € / 15 € (dijaki\, študenti\, upokojenci)
URL:https://www.kc-sentjernej.si/dogodek/realisti-gledaliski-abonma/
CATEGORIES:Gledališki abonma,Izven
ATTACH;FMTTYPE=image/jpeg:https://www.kc-sentjernej.si/wp-content/uploads/2019/09/REALISTI.jpg
END:VEVENT
END:VCALENDAR