BEGIN:VCALENDAR
VERSION:2.0
PRODID:-// - ECPv6.15.20//NONSGML v1.0//EN
CALSCALE:GREGORIAN
METHOD:PUBLISH
X-ORIGINAL-URL:https://www.kc-sentjernej.si
X-WR-CALDESC:Dogodki od 
REFRESH-INTERVAL;VALUE=DURATION:PT1H
X-Robots-Tag:noindex
X-PUBLISHED-TTL:PT1H
BEGIN:VTIMEZONE
TZID:Africa/Abidjan
BEGIN:STANDARD
TZOFFSETFROM:+0000
TZOFFSETTO:+0000
TZNAME:GMT
DTSTART:20180101T000000
END:STANDARD
END:VTIMEZONE
BEGIN:VEVENT
DTSTART;TZID=Africa/Abidjan:20191022T193000
DTEND;TZID=Africa/Abidjan:20191022T193000
DTSTAMP:20260423T005731
CREATED:20190924T113736Z
LAST-MODIFIED:20190926T065007Z
UID:2794-1571772600-1571772600@www.kc-sentjernej.si
SUMMARY:QUEEN ★ it's a kind of magic ★ Šentjernej
DESCRIPTION:Magična orkestracija uspešnic skupine Queen: Pihalni orkester slovenske vojske & Omar Naber \nVečne uspešnice ene največjih skupin v zgodovini popularne glasbe\, v izvedbi Pihalnega orkestra slovenske vojske\, s solistom Omarjem Naberjem! \nPo lanskoletni premieri filma Bohemian Rhapsody in 25. obletnici smrti Freddie-ja Mercury-ja\, enega največjih zvezdnikov na planetu\, smo tudi mi pripravljeni\, da vas “pretresemo”! Sveže izvedbe legendarnih uspešnic\, v doslej še nikoli izvedenih aranžmajih pihalnega orkestra slovenske vojske\, s solistom Omarjem Naberjem\, ki si upa stopiti v čevlje največjega! \n🎫 Informacije in prodaja vstopnic:\n12 € predprodaja (do 18.10.) / nato 15 €
URL:https://www.kc-sentjernej.si/dogodek/queen-its-a-kind-of-magic-koncert/
CATEGORIES:Glasba
ATTACH;FMTTYPE=image/jpeg:https://www.kc-sentjernej.si/wp-content/uploads/2019/09/1_QUEEN-Facebook-event-cover-1920x1080-splosna-grafika-v3.jpg
END:VEVENT
END:VCALENDAR