BEGIN:VCALENDAR
VERSION:2.0
PRODID:-// - ECPv6.15.20//NONSGML v1.0//EN
CALSCALE:GREGORIAN
METHOD:PUBLISH
X-ORIGINAL-URL:https://www.kc-sentjernej.si
X-WR-CALDESC:Dogodki od 
REFRESH-INTERVAL;VALUE=DURATION:PT1H
X-Robots-Tag:noindex
X-PUBLISHED-TTL:PT1H
BEGIN:VTIMEZONE
TZID:Africa/Abidjan
BEGIN:STANDARD
TZOFFSETFROM:+0000
TZOFFSETTO:+0000
TZNAME:GMT
DTSTART:20180101T000000
END:STANDARD
END:VTIMEZONE
BEGIN:VEVENT
DTSTART;TZID=Africa/Abidjan:20190924T130000
DTEND;TZID=Africa/Abidjan:20190924T150000
DTSTAMP:20260423T005811
CREATED:20190901T204221Z
LAST-MODIFIED:20190901T204221Z
UID:2751-1569330000-1569337200@www.kc-sentjernej.si
SUMMARY:Dosedanji abonenti – vpis v abonmaje
DESCRIPTION:Vpis abonmajev za sezono 2019/20 za dosedanje abonente\, bo potekal na blagajni kulturnega centra: od 16. do 25. septembra 2019 \nČAS VPISOV: vsak delavnik od 13.00 do 15.00 ter torek in četrtek od 16.00 do 19.00. \nVSE INFORMACIJE:  https://www.kc-sentjernej.si/abonmaji \nGLEDALIŠKI ABONMA (6 predstav):\nhttps://www.kc-sentjernej.si/abonmaji/gledaliski-abonma/ \nOTROŠKI ABONMA (7 predstav):\nhttps://www.kc-sentjernej.si/abonmaji/otroski-abonma/
URL:https://www.kc-sentjernej.si/dogodek/dosedanji-abonenti-vpis-v-abonmaje-10/
CATEGORIES:Gledališki abonma,Otroški abonma
ATTACH;FMTTYPE=image/jpeg:https://www.kc-sentjernej.si/wp-content/uploads/2019/09/abonenti.jpg
END:VEVENT
BEGIN:VEVENT
DTSTART;TZID=Africa/Abidjan:20190924T160000
DTEND;TZID=Africa/Abidjan:20190924T190000
DTSTAMP:20260423T005811
CREATED:20190901T202844Z
LAST-MODIFIED:20190901T202844Z
UID:2746-1569340800-1569351600@www.kc-sentjernej.si
SUMMARY:Dosedanji abonenti – vpis v abonmaje
DESCRIPTION:Vpis abonmajev za sezono 2019/20 za dosedanje abonente\, bo potekal na blagajni kulturnega centra: od 16. do 25. septembra 2019 \nČAS VPISOV: vsak delavnik od 13.00 do 15.00 ter torek in četrtek od 16.00 do 19.00. \nVSE INFORMACIJE:  https://www.kc-sentjernej.si/abonmaji \nGLEDALIŠKI ABONMA (6 predstav):\nhttps://www.kc-sentjernej.si/abonmaji/gledaliski-abonma/ \nOTROŠKI ABONMA (7 predstav):\nhttps://www.kc-sentjernej.si/abonmaji/otroski-abonma/
URL:https://www.kc-sentjernej.si/dogodek/dosedanji-abonenti-vpis-v-abonmaje-5/
CATEGORIES:Gledališki abonma,Otroški abonma
ATTACH;FMTTYPE=image/jpeg:https://www.kc-sentjernej.si/wp-content/uploads/2019/09/abonenti.jpg
END:VEVENT
END:VCALENDAR