BEGIN:VCALENDAR
VERSION:2.0
PRODID:-// - ECPv6.15.20//NONSGML v1.0//EN
CALSCALE:GREGORIAN
METHOD:PUBLISH
X-ORIGINAL-URL:https://www.kc-sentjernej.si
X-WR-CALDESC:Dogodki od 
REFRESH-INTERVAL;VALUE=DURATION:PT1H
X-Robots-Tag:noindex
X-PUBLISHED-TTL:PT1H
BEGIN:VTIMEZONE
TZID:Africa/Abidjan
BEGIN:STANDARD
TZOFFSETFROM:+0000
TZOFFSETTO:+0000
TZNAME:GMT
DTSTART:20180101T000000
END:STANDARD
END:VTIMEZONE
BEGIN:VEVENT
DTSTART;TZID=Africa/Abidjan:20190829T080000
DTEND;TZID=Africa/Abidjan:20190829T120000
DTSTAMP:20260423T014230
CREATED:20190814T111537Z
LAST-MODIFIED:20190814T111537Z
UID:2634-1567065600-1567080000@www.kc-sentjernej.si
SUMMARY:Prodaja mesečnih vozovnic
DESCRIPTION:Integral Brežice obvešča! \nURNIK PRODAJE SUBVENIONIRANIH VOZOVNIC ZA ŠOLSKO LETO 2019-2020 \nProdajno mesto Šentjernej\, kulturni center Primoža Trubarja:\n➡️sreda 28.8.2019: 8.00 – 14.00\n➡️četrtek\, 29.8.2019: 8.00 – 12.00 \n\nVeč informacij na njihovi spletni strani:\nhttp://www.integral-brebus.si/mesecne-vozovnice
URL:https://www.kc-sentjernej.si/dogodek/prodaja-mesecnih-vozovnic-4/
CATEGORIES:Prodaja vozovnic
END:VEVENT
END:VCALENDAR