BEGIN:VCALENDAR
VERSION:2.0
PRODID:-// - ECPv6.15.20//NONSGML v1.0//EN
CALSCALE:GREGORIAN
METHOD:PUBLISH
X-ORIGINAL-URL:https://www.kc-sentjernej.si
X-WR-CALDESC:Dogodki od 
REFRESH-INTERVAL;VALUE=DURATION:PT1H
X-Robots-Tag:noindex
X-PUBLISHED-TTL:PT1H
BEGIN:VTIMEZONE
TZID:Africa/Abidjan
BEGIN:STANDARD
TZOFFSETFROM:+0000
TZOFFSETTO:+0000
TZNAME:GMT
DTSTART:20180101T000000
END:STANDARD
END:VTIMEZONE
BEGIN:VEVENT
DTSTART;TZID=Africa/Abidjan:20190821T180000
DTEND;TZID=Africa/Abidjan:20190821T180000
DTSTAMP:20260422T171602
CREATED:20190807T064344Z
LAST-MODIFIED:20190814T095458Z
UID:2086-1566410400-1566410400@www.kc-sentjernej.si
SUMMARY:Srečanje ostarelih
DESCRIPTION:kraj: Župnijska cerkev in Kulturni center Primoža Trubarja
URL:https://www.kc-sentjernej.si/dogodek/srecanje-ostarelih/
CATEGORIES:Jernejevo
END:VEVENT
END:VCALENDAR