BEGIN:VCALENDAR
VERSION:2.0
PRODID:-// - ECPv6.15.20//NONSGML v1.0//EN
CALSCALE:GREGORIAN
METHOD:PUBLISH
X-ORIGINAL-URL:https://www.kc-sentjernej.si
X-WR-CALDESC:Dogodki od 
REFRESH-INTERVAL;VALUE=DURATION:PT1H
X-Robots-Tag:noindex
X-PUBLISHED-TTL:PT1H
BEGIN:VTIMEZONE
TZID:Africa/Abidjan
BEGIN:STANDARD
TZOFFSETFROM:+0000
TZOFFSETTO:+0000
TZNAME:GMT
DTSTART:20180101T000000
END:STANDARD
END:VTIMEZONE
BEGIN:VEVENT
DTSTART;TZID=Africa/Abidjan:20190819T200000
DTEND;TZID=Africa/Abidjan:20190819T200000
DTSTAMP:20260422T171658
CREATED:20190626T103952Z
LAST-MODIFIED:20190819T082335Z
UID:2063-1566244800-1566244800@www.kc-sentjernej.si
SUMMARY:10. rojstni dan KCPT
DESCRIPTION:
URL:https://www.kc-sentjernej.si/dogodek/10-rojstni-dan-kcpt/
CATEGORIES:Glasba,Gledališče,Izven,Ples
ATTACH;FMTTYPE=image/jpeg:https://www.kc-sentjernej.si/wp-content/uploads/2019/06/praznujemo-10.-rojstni-dan.jpg
END:VEVENT
END:VCALENDAR