BEGIN:VCALENDAR
VERSION:2.0
PRODID:-// - ECPv6.15.20//NONSGML v1.0//EN
CALSCALE:GREGORIAN
METHOD:PUBLISH
X-ORIGINAL-URL:https://www.kc-sentjernej.si
X-WR-CALDESC:Dogodki od 
REFRESH-INTERVAL;VALUE=DURATION:PT1H
X-Robots-Tag:noindex
X-PUBLISHED-TTL:PT1H
BEGIN:VTIMEZONE
TZID:Africa/Abidjan
BEGIN:STANDARD
TZOFFSETFROM:+0000
TZOFFSETTO:+0000
TZNAME:GMT
DTSTART:20180101T000000
END:STANDARD
END:VTIMEZONE
BEGIN:VEVENT
DTSTART;TZID=Africa/Abidjan:20190818T190000
DTEND;TZID=Africa/Abidjan:20190818T190000
DTSTAMP:20260422T171712
CREATED:20190807T064028Z
LAST-MODIFIED:20190814T100111Z
UID:2082-1566154800-1566154800@www.kc-sentjernej.si
SUMMARY:Mojca Pokrajculja - dobrodelna otroška predstava
DESCRIPTION:Dobrodelna otroška predstava Mojca Pokrajculja “Otroci za otroke”\, za Luko Cuglja \nNa voljo so brezplačne vstopnice. \nZbrana sredstva bodo porabljena za Lukovo zdravljenje in potrebne terapevtske pripomočke po stanju možganske krvavitve\, ki mu je prekinila brezskrbno otroštvo in je na poti dolgotrajne rehabilitacije. \nPomagate lahko tudi z nakazilom sredstev na: \nHUMANITARNO DRUŠTVO MOJA POT\nŠTEVILKA TRR: SI56 6100-0000-4422-674\nSKLIC: 00 19\nNAMEN: Humanitarna pomoč za Luka\,\nNASLOV: Cerov Log 5\, 8310 Šentjernej\nBIC BANKE: HDELSI22\nKODA NAMENA: CHAR \n \n 
URL:https://www.kc-sentjernej.si/dogodek/dobrodelna-otroska-predstava/
CATEGORIES:Jernejevo
END:VEVENT
END:VCALENDAR