BEGIN:VCALENDAR
VERSION:2.0
PRODID:-// - ECPv6.15.20//NONSGML v1.0//EN
CALSCALE:GREGORIAN
METHOD:PUBLISH
X-ORIGINAL-URL:https://www.kc-sentjernej.si
X-WR-CALDESC:Dogodki od 
REFRESH-INTERVAL;VALUE=DURATION:PT1H
X-Robots-Tag:noindex
X-PUBLISHED-TTL:PT1H
BEGIN:VTIMEZONE
TZID:Africa/Abidjan
BEGIN:STANDARD
TZOFFSETFROM:+0000
TZOFFSETTO:+0000
TZNAME:GMT
DTSTART:20180101T000000
END:STANDARD
END:VTIMEZONE
BEGIN:VEVENT
DTSTART;TZID=Africa/Abidjan:20190811T100000
DTEND;TZID=Africa/Abidjan:20190811T150000
DTSTAMP:20260422T223631
CREATED:20190807T063650Z
LAST-MODIFIED:20190808T125527Z
UID:2079-1565517600-1565535600@www.kc-sentjernej.si
SUMMARY:Šahovski turnir Jernejevo 2019
DESCRIPTION:Društvo upokojencev Šentjernej vabi vse šahiste in ljubitelje šaha na\n2. odprti šahovski turnir “Jernejevo 2019”\nDU Šentjernej v okviru občinskega praznika občine Šentjernej vabi na 2. odprti šahovski turnir Jernejevo 2019. Tekmovanje se bo pričelo v nedeljo\, 11. 8. 2019\, ob 10:00 uri v kulturnem centru Primoža Trubarja v Šentjerneju. \n  \nVeč informacij TUKAJ.
URL:https://www.kc-sentjernej.si/dogodek/sahovski-turnir-jernejevo-2019/
CATEGORIES:Jernejevo
END:VEVENT
END:VCALENDAR