BEGIN:VCALENDAR
VERSION:2.0
PRODID:-// - ECPv6.15.20//NONSGML v1.0//EN
CALSCALE:GREGORIAN
METHOD:PUBLISH
X-ORIGINAL-URL:https://www.kc-sentjernej.si
X-WR-CALDESC:Dogodki od 
REFRESH-INTERVAL;VALUE=DURATION:PT1H
X-Robots-Tag:noindex
X-PUBLISHED-TTL:PT1H
BEGIN:VTIMEZONE
TZID:Africa/Abidjan
BEGIN:STANDARD
TZOFFSETFROM:+0000
TZOFFSETTO:+0000
TZNAME:GMT
DTSTART:20180101T000000
END:STANDARD
END:VTIMEZONE
BEGIN:VEVENT
DTSTART;TZID=Africa/Abidjan:20190621T200000
DTEND;TZID=Africa/Abidjan:20190621T200000
DTSTAMP:20260422T112216
CREATED:20190528T223821Z
LAST-MODIFIED:20190528T223821Z
UID:2024-1561147200-1561147200@www.kc-sentjernej.si
SUMMARY:Slavnostna akademija ob dnevu državnosti
DESCRIPTION:Občina Šentjernej ob dnevu državnosti vabi vse občane na slavnostno akademijo. Kulturni program na že tradicionalni prireditvi bodo oblikovali Pihalni orkester Občine Šentjernej ter Šentjernejski oktet. Slavnostni govornik bo g. Franc Martinčič\, častni občan Občine Šentjernej. \nVabljeni na prijeten glasbeni večer\, kjer bomo nekaj misli namenili naši domovini in obeležili spomin na 25. junij 1991\, ko je Slovenija formalno postala neodvisna. Na ta dan sta bili sprejeti Deklaracija o neodvisnosti Slovenije in Temeljna ustavna listina o samostojnosti in neodvisnosti Slovenije. \n🎫Brezplačne vstopnice.
URL:https://www.kc-sentjernej.si/dogodek/slavnostna-akademija-ob-dnevu-drzavnosti/
CATEGORIES:Glasba,Koncert
ATTACH;FMTTYPE=image/jpeg:https://www.kc-sentjernej.si/wp-content/uploads/2019/05/event-junij-6.jpg
END:VEVENT
END:VCALENDAR