BEGIN:VCALENDAR
VERSION:2.0
PRODID:-// - ECPv6.15.20//NONSGML v1.0//EN
CALSCALE:GREGORIAN
METHOD:PUBLISH
X-ORIGINAL-URL:https://www.kc-sentjernej.si
X-WR-CALDESC:Dogodki od 
REFRESH-INTERVAL;VALUE=DURATION:PT1H
X-Robots-Tag:noindex
X-PUBLISHED-TTL:PT1H
BEGIN:VTIMEZONE
TZID:Africa/Abidjan
BEGIN:STANDARD
TZOFFSETFROM:+0000
TZOFFSETTO:+0000
TZNAME:GMT
DTSTART:20180101T000000
END:STANDARD
END:VTIMEZONE
BEGIN:VEVENT
DTSTART;TZID=Africa/Abidjan:20190606T190000
DTEND;TZID=Africa/Abidjan:20190606T190000
DTSTAMP:20260422T090256
CREATED:20190528T213408Z
LAST-MODIFIED:20190528T213937Z
UID:1994-1559847600-1559847600@www.kc-sentjernej.si
SUMMARY:Vrtiljak življenja
DESCRIPTION:»Najboljši del človekovega življenja so njegova mala\, brezimena in pozabljena dela dobrote in ljubezni.« (W. W). \nUčenci in učitelji OŠ Šentjernej nas bodo skupaj z gosti popeljali na prijetno vožnjo z vrtiljakom življenja. Med njo bodo široko kot angeli razprli svoja krila\, nas zazibali v umetnost besede\, glasbe\, plesa in ustvarjalnosti. Z nežnimi dotiki otroških rok in z radostjo v očeh bodo v srcih ljudi obudili vrednote\, kot so ljubezen\, sreča\, iskrenost\, solidarnost\, sočutje in dobrota. \nKoncert bo potekal pod pokroviteljstvom Občine Šentjernej in v sodelovanju z Območnim združenjem Rdečega križa Novo mesto. \n🎫Vstopnice: brezplačne vstopnice / priporočen prispevek 10 €\nCeloten izkupiček od prostovoljnih prispevkov gre v roke družini\, ki se je znašla v življenjski stiski. \nSrčno vabljeni!
URL:https://www.kc-sentjernej.si/dogodek/vrtiljak-zivljenja/
CATEGORIES:Glasba,Koncert
ATTACH;FMTTYPE=image/png:https://www.kc-sentjernej.si/wp-content/uploads/2019/05/06.10.14.png
ORGANIZER;CN="O%C5%A0 %C5%A0entjernej":MAILTO:os.sentjernej@guest.arnes.si
END:VEVENT
END:VCALENDAR