BEGIN:VCALENDAR
VERSION:2.0
PRODID:-// - ECPv6.15.20//NONSGML v1.0//EN
CALSCALE:GREGORIAN
METHOD:PUBLISH
X-ORIGINAL-URL:https://www.kc-sentjernej.si
X-WR-CALDESC:Dogodki od 
REFRESH-INTERVAL;VALUE=DURATION:PT1H
X-Robots-Tag:noindex
X-PUBLISHED-TTL:PT1H
BEGIN:VTIMEZONE
TZID:Africa/Abidjan
BEGIN:STANDARD
TZOFFSETFROM:+0000
TZOFFSETTO:+0000
TZNAME:GMT
DTSTART:20180101T000000
END:STANDARD
END:VTIMEZONE
BEGIN:VEVENT
DTSTART;TZID=Africa/Abidjan:20190418T193000
DTEND;TZID=Africa/Abidjan:20190418T193000
DTSTAMP:20260422T023353
CREATED:20190327T155820Z
LAST-MODIFIED:20190327T233242Z
UID:1822-1555615800-1555615800@www.kc-sentjernej.si
SUMMARY:Planica v Šentjerneju - veseli večer z Janezom Goriškom
DESCRIPTION:Slavje ob 50 letnici planiške velikanke bratov Gorišek se seli v Šentjernej. V Goriškov rodni kraj. Vabljeni nepozabni večer z Janezom Goriškom\, ki ga bodo oplemenitili vrhunski glasbeniki. \nV goste pridejo: ansambel Saše Avsenika\, Nuša Derenda\, pop legende Rostfrajerji\,svetovni prvak na diatonični harmoniki Miha Debevec\, talent leta\, izjemna Vivijana Kukar in Šentjernejski oktet. \nVstopnice na voljo na blagajni KCPT. \nCena: 15 €
URL:https://www.kc-sentjernej.si/dogodek/planica-v-sentjerneju-veseli-vecer-z-janezom-goriskom/
CATEGORIES:Izven,Koncert
ATTACH;FMTTYPE=image/jpeg:https://www.kc-sentjernej.si/wp-content/uploads/2019/03/planica.jpg
END:VEVENT
END:VCALENDAR