BEGIN:VCALENDAR
VERSION:2.0
PRODID:-// - ECPv6.15.20//NONSGML v1.0//EN
CALSCALE:GREGORIAN
METHOD:PUBLISH
X-ORIGINAL-URL:https://www.kc-sentjernej.si
X-WR-CALDESC:Dogodki od 
REFRESH-INTERVAL;VALUE=DURATION:PT1H
X-Robots-Tag:noindex
X-PUBLISHED-TTL:PT1H
BEGIN:VTIMEZONE
TZID:Africa/Abidjan
BEGIN:STANDARD
TZOFFSETFROM:+0000
TZOFFSETTO:+0000
TZNAME:GMT
DTSTART:20180101T000000
END:STANDARD
END:VTIMEZONE
BEGIN:VEVENT
DTSTART;TZID=Africa/Abidjan:20190414T150000
DTEND;TZID=Africa/Abidjan:20190414T150000
DTSTAMP:20260425T104528
CREATED:20190326T191436Z
LAST-MODIFIED:20190327T233212Z
UID:1797-1555254000-1555254000@www.kc-sentjernej.si
SUMMARY:Veselje s harmoniko - “Po Slakovo”
DESCRIPTION:7. koncert Veselje s harmoniko – “Po Slakovo” \nNASTOPAJOČI:\n – učenci Janeza Lekšeta\n – ansambel Banovšek\n – ansambel Nemir\n – skupina Jarica\n – Vokalna skupina Gorjanski spev\n – Mirnopeški harmonikarji\n – Fantje s Praprotna\n – Matija Slak \nProgram bo povezoval Darko Povše. \nVABLJENI!
URL:https://www.kc-sentjernej.si/dogodek/veselje-s-harmoniko-po-slakovo/
CATEGORIES:Glasba
ATTACH;FMTTYPE=image/jpeg:https://www.kc-sentjernej.si/wp-content/uploads/2019/03/Izdelek-brez-naslova-3.jpg
END:VEVENT
END:VCALENDAR