BEGIN:VCALENDAR
VERSION:2.0
PRODID:-// - ECPv6.15.20//NONSGML v1.0//EN
CALSCALE:GREGORIAN
METHOD:PUBLISH
X-ORIGINAL-URL:https://www.kc-sentjernej.si
X-WR-CALDESC:Dogodki od 
REFRESH-INTERVAL;VALUE=DURATION:PT1H
X-Robots-Tag:noindex
X-PUBLISHED-TTL:PT1H
BEGIN:VTIMEZONE
TZID:Africa/Abidjan
BEGIN:STANDARD
TZOFFSETFROM:+0000
TZOFFSETTO:+0000
TZNAME:GMT
DTSTART:20180101T000000
END:STANDARD
END:VTIMEZONE
BEGIN:VEVENT
DTSTART;TZID=Africa/Abidjan:20190405T090000
DTEND;TZID=Africa/Abidjan:20190405T090000
DTSTAMP:20260422T013952
CREATED:20190327T225356Z
LAST-MODIFIED:20190327T225356Z
UID:1835-1554454800-1554454800@www.kc-sentjernej.si
SUMMARY:Zdravljenje z elektromagnetno terapijo za domačo rabo
DESCRIPTION:V organizaciji: RIC – Borza znanja\, vas vabimo na brezplačno predavanje Aurore Jane Frank z naslovom: ZDRAVLJENJE Z ELEKTROMAGNETNO TERAPIJO ZA DOMAČO RABO
URL:https://www.kc-sentjernej.si/dogodek/zdravljenje-z-elektromagnetno-terapijo-za-domaco-rabo/
CATEGORIES:Predavanje
ATTACH;FMTTYPE=image/jpeg:https://www.kc-sentjernej.si/wp-content/uploads/2019/03/ric.jpg
END:VEVENT
BEGIN:VEVENT
DTSTART;TZID=Africa/Abidjan:20190405T190000
DTEND;TZID=Africa/Abidjan:20190405T190000
DTSTAMP:20260422T013952
CREATED:20190326T190551Z
LAST-MODIFIED:20190327T225516Z
UID:1793-1554490800-1554490800@www.kc-sentjernej.si
SUMMARY:Najlepše Avsenikove melodije
DESCRIPTION:Tradicionalni pomladni koncert Pihalnega orkestra Občine Šentjernej bo tokrat v znamenju najlepših Avsenikovih Melodij. \nČlani orkestra jih bodo izvedli skupaj s solisti: Matjaž Mrak\, Marijana Mlinar\, Vokalna skupina Gorjanski spev\, Aleks Franko. \nKoncert bo povezovala Sandra F. \nVabljeni. \n  \nCena vstopnice: 10 €
URL:https://www.kc-sentjernej.si/dogodek/najlepse-avsenikove-melodije/
CATEGORIES:Glasba
ATTACH;FMTTYPE=image/jpeg:https://www.kc-sentjernej.si/wp-content/uploads/2019/03/Izdelek-brez-naslova-4.jpg
END:VEVENT
END:VCALENDAR