BEGIN:VCALENDAR
VERSION:2.0
PRODID:-// - ECPv6.15.20//NONSGML v1.0//EN
CALSCALE:GREGORIAN
METHOD:PUBLISH
X-ORIGINAL-URL:https://www.kc-sentjernej.si
X-WR-CALDESC:Dogodki od 
REFRESH-INTERVAL;VALUE=DURATION:PT1H
X-Robots-Tag:noindex
X-PUBLISHED-TTL:PT1H
BEGIN:VTIMEZONE
TZID:Africa/Abidjan
BEGIN:STANDARD
TZOFFSETFROM:+0000
TZOFFSETTO:+0000
TZNAME:GMT
DTSTART:20180101T000000
END:STANDARD
END:VTIMEZONE
BEGIN:VEVENT
DTSTART;TZID=Africa/Abidjan:20190402T161500
DTEND;TZID=Africa/Abidjan:20190402T161500
DTSTAMP:20260421T181401
CREATED:20190327T224443Z
LAST-MODIFIED:20190327T224443Z
UID:1829-1554221700-1554221700@www.kc-sentjernej.si
SUMMARY:Bralni palček
DESCRIPTION:Zaključeno.
URL:https://www.kc-sentjernej.si/dogodek/bralni-palcek/
CATEGORIES:Zaključeno
ATTACH;FMTTYPE=image/jpeg:https://www.kc-sentjernej.si/wp-content/uploads/2019/03/bralni-palček.jpg
END:VEVENT
BEGIN:VEVENT
DTSTART;TZID=Africa/Abidjan:20190402T171500
DTEND;TZID=Africa/Abidjan:20190402T171500
DTSTAMP:20260421T181401
CREATED:20190327T224643Z
LAST-MODIFIED:20190327T224643Z
UID:1831-1554225300-1554225300@www.kc-sentjernej.si
SUMMARY:Bralni palček
DESCRIPTION:Zaključeno.
URL:https://www.kc-sentjernej.si/dogodek/bralni-palcek-2/
CATEGORIES:Zaključeno
ATTACH;FMTTYPE=image/jpeg:https://www.kc-sentjernej.si/wp-content/uploads/2019/03/bralni-palček.jpg
END:VEVENT
BEGIN:VEVENT
DTSTART;TZID=Africa/Abidjan:20190402T181500
DTEND;TZID=Africa/Abidjan:20190402T181500
DTSTAMP:20260421T181401
CREATED:20190327T224829Z
LAST-MODIFIED:20190327T224829Z
UID:1833-1554228900-1554228900@www.kc-sentjernej.si
SUMMARY:Bralni palček
DESCRIPTION:Zaključeno.
URL:https://www.kc-sentjernej.si/dogodek/bralni-palcek-3/
CATEGORIES:Zaključeno
ATTACH;FMTTYPE=image/jpeg:https://www.kc-sentjernej.si/wp-content/uploads/2019/03/bralni-palček.jpg
END:VEVENT
END:VCALENDAR