BEGIN:VCALENDAR
VERSION:2.0
PRODID:-// - ECPv6.15.20//NONSGML v1.0//EN
CALSCALE:GREGORIAN
METHOD:PUBLISH
X-ORIGINAL-URL:https://www.kc-sentjernej.si
X-WR-CALDESC:Dogodki od 
REFRESH-INTERVAL;VALUE=DURATION:PT1H
X-Robots-Tag:noindex
X-PUBLISHED-TTL:PT1H
BEGIN:VTIMEZONE
TZID:Africa/Abidjan
BEGIN:STANDARD
TZOFFSETFROM:+0000
TZOFFSETTO:+0000
TZNAME:GMT
DTSTART:20180101T000000
END:STANDARD
END:VTIMEZONE
BEGIN:VEVENT
DTSTART;TZID=Africa/Abidjan:20190329T090000
DTEND;TZID=Africa/Abidjan:20190329T090000
DTSTAMP:20260421T124241
CREATED:20190224T125147Z
LAST-MODIFIED:20190303T110711Z
UID:1731-1553850000-1553850000@www.kc-sentjernej.si
SUMMARY:Izkušnje učijo\, podatki skrbijo...
DESCRIPTION:Vabljeni na predavanje in pogovor z Matejo Petric: IZKUŠNJE UČIJO\, PODATKI SKRBIJO … \nBrezplačna udeležba.
URL:https://www.kc-sentjernej.si/dogodek/izkusnje-ucijo-podatki-skrbijo/
CATEGORIES:Predavanje
ATTACH;FMTTYPE=image/jpeg:https://www.kc-sentjernej.si/wp-content/uploads/2019/02/stran-event-8.jpg
END:VEVENT
END:VCALENDAR