BEGIN:VCALENDAR
VERSION:2.0
PRODID:-// - ECPv6.15.20//NONSGML v1.0//EN
CALSCALE:GREGORIAN
METHOD:PUBLISH
X-ORIGINAL-URL:https://www.kc-sentjernej.si
X-WR-CALDESC:Dogodki od 
REFRESH-INTERVAL;VALUE=DURATION:PT1H
X-Robots-Tag:noindex
X-PUBLISHED-TTL:PT1H
BEGIN:VTIMEZONE
TZID:Africa/Abidjan
BEGIN:STANDARD
TZOFFSETFROM:+0000
TZOFFSETTO:+0000
TZNAME:GMT
DTSTART:20180101T000000
END:STANDARD
END:VTIMEZONE
BEGIN:VEVENT
DTSTART;TZID=Africa/Abidjan:20190326T173000
DTEND;TZID=Africa/Abidjan:20190326T173000
DTSTAMP:20260421T135757
CREATED:20190224T124652Z
LAST-MODIFIED:20190303T110240Z
UID:1729-1553621400-1553621400@www.kc-sentjernej.si
SUMMARY:Muca copatarica
DESCRIPTION:Lutkovno gledališče FRU-FRU in KUD France Prešeren\nIgrano-lutkovna predstava\nPriredba in režija: Irena Rajh\nIgra in animacija: Irena Rajh/Ana Špik \nPriljubljena pravljica o muci\, ki nerednim otrokom odnese copate. Otroci sklenejo poiskati mucin dom in svoje copatke. V gozdu pa srečajo mnogo živali\, ki muco tudi poznajo. S skupnimi močmi najdejo njeno hišico. Kdo ve\, ali bo muca otrokom vrnila njihove copatke …?\nLutkovna pravljica je pripovedovana z lutkami\, ob živo izvajani glasbi in otroških pesmicah. \nPrimerno: 2+\nTrajanje: 35 min \nVstopnice: 4 € \n/ OTROŠKI ABONMA IN IZVEN /
URL:https://www.kc-sentjernej.si/dogodek/muca-copatarica/
CATEGORIES:Izven,Otroški abonma
ATTACH;FMTTYPE=image/jpeg:https://www.kc-sentjernej.si/wp-content/uploads/2019/02/muca.jpg
END:VEVENT
END:VCALENDAR