BEGIN:VCALENDAR
VERSION:2.0
PRODID:-// - ECPv6.15.20//NONSGML v1.0//EN
CALSCALE:GREGORIAN
METHOD:PUBLISH
X-ORIGINAL-URL:https://www.kc-sentjernej.si
X-WR-CALDESC:Dogodki od 
REFRESH-INTERVAL;VALUE=DURATION:PT1H
X-Robots-Tag:noindex
X-PUBLISHED-TTL:PT1H
BEGIN:VTIMEZONE
TZID:Africa/Abidjan
BEGIN:STANDARD
TZOFFSETFROM:+0000
TZOFFSETTO:+0000
TZNAME:GMT
DTSTART:20180101T000000
END:STANDARD
END:VTIMEZONE
BEGIN:VEVENT
DTSTART;TZID=Africa/Abidjan:20190324T150000
DTEND;TZID=Africa/Abidjan:20190324T150000
DTSTAMP:20260421T103901
CREATED:20190224T123759Z
LAST-MODIFIED:20190303T110103Z
UID:1724-1553439600-1553439600@www.kc-sentjernej.si
SUMMARY:»Kdo si\, mati čudovita?«
DESCRIPTION:Mama je tista\, ki da življenje\, korenine\, zaradi katerih vemo\, kdo smo in krila\, s katerimi lahko poletimo za svojimi sanjami. Ob tem pa ne smemo pozabiti na naše očete\, ki nas prav tako vzgajajo\, posredujejo pogum\, učijo in odpirajo vrata v svet.  S toplino hvaležnosti in prisrčnostjo se bojo otroci\, mladi\, pevci in instrumentalisti župnije svetega Jerneja svojim staršem zahvalili za dar ljubezni\, dobrote in topline. Bodite z nami. \nBrezplačne vstopnice. \n 
URL:https://www.kc-sentjernej.si/dogodek/kdo-si-mati-cudovita/
CATEGORIES:Glasba
ATTACH;FMTTYPE=image/jpeg:https://www.kc-sentjernej.si/wp-content/uploads/2019/02/stran-event-7.jpg
END:VEVENT
END:VCALENDAR