BEGIN:VCALENDAR
VERSION:2.0
PRODID:-// - ECPv6.15.20//NONSGML v1.0//EN
CALSCALE:GREGORIAN
METHOD:PUBLISH
X-ORIGINAL-URL:https://www.kc-sentjernej.si
X-WR-CALDESC:Dogodki od 
REFRESH-INTERVAL;VALUE=DURATION:PT1H
X-Robots-Tag:noindex
X-PUBLISHED-TTL:PT1H
BEGIN:VTIMEZONE
TZID:Africa/Abidjan
BEGIN:STANDARD
TZOFFSETFROM:+0000
TZOFFSETTO:+0000
TZNAME:GMT
DTSTART:20180101T000000
END:STANDARD
END:VTIMEZONE
BEGIN:VEVENT
DTSTART;TZID=Africa/Abidjan:20190322T090000
DTEND;TZID=Africa/Abidjan:20190322T090000
DTSTAMP:20260421T135749
CREATED:20190224T122621Z
LAST-MODIFIED:20190303T105535Z
UID:1722-1553245200-1553245200@www.kc-sentjernej.si
SUMMARY:Dodajati življenje dnevom
DESCRIPTION:Vabljeni na predstavitev ge. Maje Žagar iz Hospica\, z naslovom: DODAJATI ŽIVLJENJE DNEVOM. \nBrezplačna udeležba.
URL:https://www.kc-sentjernej.si/dogodek/dodajati-zivljenje-dnevom/
CATEGORIES:Predavanje
ATTACH;FMTTYPE=image/jpeg:https://www.kc-sentjernej.si/wp-content/uploads/2019/02/stran-event-6.jpg
END:VEVENT
END:VCALENDAR