BEGIN:VCALENDAR
VERSION:2.0
PRODID:-// - ECPv6.15.20//NONSGML v1.0//EN
CALSCALE:GREGORIAN
METHOD:PUBLISH
X-ORIGINAL-URL:https://www.kc-sentjernej.si
X-WR-CALDESC:Dogodki od 
REFRESH-INTERVAL;VALUE=DURATION:PT1H
X-Robots-Tag:noindex
X-PUBLISHED-TTL:PT1H
BEGIN:VTIMEZONE
TZID:Africa/Abidjan
BEGIN:STANDARD
TZOFFSETFROM:+0000
TZOFFSETTO:+0000
TZNAME:GMT
DTSTART:20180101T000000
END:STANDARD
END:VTIMEZONE
BEGIN:VEVENT
DTSTART;TZID=Africa/Abidjan:20190308T090000
DTEND;TZID=Africa/Abidjan:20190308T090000
DTSTAMP:20260421T195333
CREATED:20190222T104523Z
LAST-MODIFIED:20190222T104523Z
UID:1663-1552035600-1552035600@www.kc-sentjernej.si
SUMMARY:Dan žena
DESCRIPTION:Medgeneracijsko sodelovanje z vrtcem Čebelica ob kavici in čaju. \nBrezplačna udeležba.
URL:https://www.kc-sentjernej.si/dogodek/dan-zena-orto-klub/
CATEGORIES:Predavanje
ATTACH;FMTTYPE=image/jpeg:https://www.kc-sentjernej.si/wp-content/uploads/2019/02/stran-event.jpg
END:VEVENT
BEGIN:VEVENT
DTSTART;TZID=Africa/Abidjan:20190308T203000
DTEND;TZID=Africa/Abidjan:20190308T203000
DTSTAMP:20260421T195333
CREATED:20190125T115035Z
LAST-MODIFIED:20190302T190803Z
UID:1578-1552077000-1552077000@www.kc-sentjernej.si
SUMMARY:Trip to Las Vegas Show
DESCRIPTION:Oto Pestner\, Uroš Perić\, Omar Naber & Tina Gorenjak vas ob dnevu žena vabijo na poseben večer:\n★ TRIP TO LAS VEGAS SHOW ★\nVstopite v oslepljujoč svet bleščečega Las Vegasa! \nElvis Presley. Frank Sinatra. Ray Charles. Louis Armstrong. Dean Martin… Vse nesmrtne glasbene legende v interpretaciji treh virtuoznih slovenskih glasbenikov in pevcev. Oto Pestner\, Uroš Perić\, Omar Naber. Vse na enem mestu. Za češnjo na torti vas bo po poti greha vodila hudomušna in vsestranska Tina Gorenjak. \nGlasba? Smeh? Ganljiva zgodba? Nostalgija? Mogoče estetika ali audiofilija\, vrhunski vokali? Kaj vas zares gane? Radi prepevate\, ste zaljubljeni ali želite biti? Hočete samo najboljše? No\, tudi če ste zgolj radovedni. Za vas imamo pokrite prav vse kombinacije. \nDomov boste odšli prevzeti\, žvižgali si boste zimzelene melodije ter fantje razmišljali o praktičnih nasvetih\, ki šibijo kolena brhkim dekletom – dekleta pa o moških strategijah osvajanja\, komu dati svoje srce in komu se le iz srca nasmejati ob prikupnem poizkusu. Ekipa showa Trip To Las Vegas vam bo zagotovo pričarala občutke\, ki bodo trajali\, tudi ko bo showa že zdavnaj konec. Želeli boste še. \n★ SPLET: http://www.triptolasvegasshow.si\n★ FB: https://www.facebook.com/TripToLasVegasShow \n– – – – – – – – – – – –\n🎫 Vstopnice na voljo na blagajni KC Primoža Trubarja in na Eventimu. \nCena: 19 € / 23 € (na dan dogodka)
URL:https://www.kc-sentjernej.si/dogodek/trip-to-las-vegas-show-sentjernej/
CATEGORIES:Koncert
ATTACH;FMTTYPE=image/jpeg:https://www.kc-sentjernej.si/wp-content/uploads/2019/01/FB-DOGODEK.jpg
END:VEVENT
END:VCALENDAR