BEGIN:VCALENDAR
VERSION:2.0
PRODID:-// - ECPv6.15.20//NONSGML v1.0//EN
CALSCALE:GREGORIAN
METHOD:PUBLISH
X-ORIGINAL-URL:https://www.kc-sentjernej.si
X-WR-CALDESC:Dogodki od 
REFRESH-INTERVAL;VALUE=DURATION:PT1H
X-Robots-Tag:noindex
X-PUBLISHED-TTL:PT1H
BEGIN:VTIMEZONE
TZID:Africa/Abidjan
BEGIN:STANDARD
TZOFFSETFROM:+0000
TZOFFSETTO:+0000
TZNAME:GMT
DTSTART:20180101T000000
END:STANDARD
END:VTIMEZONE
BEGIN:VEVENT
DTSTART;TZID=Africa/Abidjan:20190301T090000
DTEND;TZID=Africa/Abidjan:20190301T090000
DTSTAMP:20260421T092215
CREATED:20190125T114030Z
LAST-MODIFIED:20190224T104808Z
UID:1576-1551430800-1551430800@www.kc-sentjernej.si
SUMMARY:Napoleonova otoka Korzika in Elba
DESCRIPTION:Orto klub vabi na potopisno in zgodovinsko predstavitev Andreja Zupanca: NAPOLEONOVA OTOKA KORZIKA IN ELBA. \nBrezplačna udeležba.
URL:https://www.kc-sentjernej.si/dogodek/napoleonova-otoka-korzika-in-elba/
CATEGORIES:Predavanje
ATTACH;FMTTYPE=image/jpeg:https://www.kc-sentjernej.si/wp-content/uploads/2019/01/stran-event-2.jpg
END:VEVENT
END:VCALENDAR