BEGIN:VCALENDAR
VERSION:2.0
PRODID:-// - ECPv6.15.20//NONSGML v1.0//EN
CALSCALE:GREGORIAN
METHOD:PUBLISH
X-ORIGINAL-URL:https://www.kc-sentjernej.si
X-WR-CALDESC:Dogodki od 
REFRESH-INTERVAL;VALUE=DURATION:PT1H
X-Robots-Tag:noindex
X-PUBLISHED-TTL:PT1H
BEGIN:VTIMEZONE
TZID:Africa/Abidjan
BEGIN:STANDARD
TZOFFSETFROM:+0000
TZOFFSETTO:+0000
TZNAME:GMT
DTSTART:20180101T000000
END:STANDARD
END:VTIMEZONE
BEGIN:VEVENT
DTSTART;TZID=Africa/Abidjan:20190220T160000
DTEND;TZID=Africa/Abidjan:20190220T160000
DTSTAMP:20260421T124145
CREATED:20190125T113239Z
LAST-MODIFIED:20190126T102610Z
UID:1568-1550678400-1550678400@www.kc-sentjernej.si
SUMMARY:Ura pravljic in ustvarjalna delavnica
DESCRIPTION:Knjižnica Šentjernej pripravlja URO PRAVLJIC IN USTVARJALNO DELAVNICO. \nBrezplačna udeležba.
URL:https://www.kc-sentjernej.si/dogodek/ura-pravljic-in-ustvarjalna-delavnica-5/
CATEGORIES:Delavnica
ATTACH;FMTTYPE=image/jpeg:https://www.kc-sentjernej.si/wp-content/uploads/2019/01/feb-9.jpg
END:VEVENT
END:VCALENDAR